BEGIN:VCALENDAR
VERSION:2.0
PRODID:-//Craiova Live - ECPv6.15.18//NONSGML v1.0//EN
CALSCALE:GREGORIAN
METHOD:PUBLISH
X-ORIGINAL-URL:https://craiovalive.ro
X-WR-CALDESC:Evenimente pentru Craiova Live
REFRESH-INTERVAL;VALUE=DURATION:PT1H
X-Robots-Tag:noindex
X-PUBLISHED-TTL:PT1H
BEGIN:VTIMEZONE
TZID:Europe/Bucharest
BEGIN:DAYLIGHT
TZOFFSETFROM:+0200
TZOFFSETTO:+0300
TZNAME:EEST
DTSTART:20240331T010000
END:DAYLIGHT
BEGIN:STANDARD
TZOFFSETFROM:+0300
TZOFFSETTO:+0200
TZNAME:EET
DTSTART:20241027T010000
END:STANDARD
BEGIN:DAYLIGHT
TZOFFSETFROM:+0200
TZOFFSETTO:+0300
TZNAME:EEST
DTSTART:20250330T010000
END:DAYLIGHT
BEGIN:STANDARD
TZOFFSETFROM:+0300
TZOFFSETTO:+0200
TZNAME:EET
DTSTART:20251026T010000
END:STANDARD
BEGIN:DAYLIGHT
TZOFFSETFROM:+0200
TZOFFSETTO:+0300
TZNAME:EEST
DTSTART:20260329T010000
END:DAYLIGHT
BEGIN:STANDARD
TZOFFSETFROM:+0300
TZOFFSETTO:+0200
TZNAME:EET
DTSTART:20261025T010000
END:STANDARD
BEGIN:DAYLIGHT
TZOFFSETFROM:+0200
TZOFFSETTO:+0300
TZNAME:EEST
DTSTART:20270328T010000
END:DAYLIGHT
BEGIN:STANDARD
TZOFFSETFROM:+0300
TZOFFSETTO:+0200
TZNAME:EET
DTSTART:20271031T010000
END:STANDARD
END:VTIMEZONE
BEGIN:VEVENT
DTSTART;TZID=Europe/Bucharest:20260416T190000
DTEND;TZID=Europe/Bucharest:20260416T203000
DTSTAMP:20260424T015029
CREATED:20260215T092520Z
LAST-MODIFIED:20260215T092520Z
UID:10013077-1776366000-1776371400@craiovalive.ro
SUMMARY:Flamenco Weekend
DESCRIPTION:Peste 30 de spectacole în România într-un singur an.\n7 turnee naționale.\nSăli pline de la Iași la Constanța\, până în Timișoara.\nIar acum\, emoția și pasiunea flamenco ajung și la Craiova!\n\nFlamenco Weekend aduce pe scenă un show intens\, plin de forță\, ritm și trăire autentică – o experiență care a cucerit publicul din toată țara. \nMaria Rubí revine în fața publicului român cu pasiunea ei debordantă și cu ceva în plus: momente noi\, surprize speciale și o energie care depășește orice așteptare. \nDacă ai mai fost la un spectacol Flamenco Weekend\, știi că urmează emoții mari și multă pasiune.\nDacă vii pentru prima dată\, pregătește-te să descoperi de ce Maria Rubí a cucerit România. \nCraiova\, e rândul tău să simți magia flamenco!
URL:https://craiovalive.ro/eveniment/flamenco-weekend/
LOCATION:Filarmonica Oltenia\, Calea Unirii\, nr. 16\, Craiova\, Dolj\, 200585\, România
CATEGORIES:Dans,Muzică
ATTACH;FMTTYPE=image/jpeg:https://craiovalive.ro/wp-content/uploads/2026/02/Flamenco-Weekend.jpg
GEO:44.3172308;23.7944364
X-APPLE-STRUCTURED-LOCATION;VALUE=URI;X-ADDRESS=Filarmonica Oltenia Calea Unirii nr. 16 Craiova Dolj 200585 România;X-APPLE-RADIUS=500;X-TITLE=Calea Unirii\, nr. 16:geo:23.7944364,44.3172308
END:VEVENT
BEGIN:VEVENT
DTSTART;TZID=Europe/Bucharest:20260328T110000
DTEND;TZID=Europe/Bucharest:20260328T130000
DTSTAMP:20260424T015029
CREATED:20260324T191634Z
LAST-MODIFIED:20260324T191634Z
UID:10014394-1774695600-1774702800@craiovalive.ro
SUMMARY:Spectacol Omagial dedicat Zilei Naționale a Greciei
DESCRIPTION:Spectacol Omagial dedicat Zilei Naționale a Greciei \nComunitatea Elenă Craiova\, în parteneriat cu Uniunea Elenă din România\, vă invită la o celebrare a tradiției\, identității și spiritului elen\, într-un eveniment de înaltă ținută culturală.\n Filarmonica Oltenia Craiova 28 martie 2026 11:00 Intrare liberă\nPe scenă vor evolua:Ansamblul “Irini” – Craiova • Ansamblul “Asteria” – București • Ansamblul “Ilios” – Târgoviște • Ansamblul “Prietenii lui Zorba” – Drobeta Turnu-Severin • Ansamblul “Eleftheria” – Calafat • Ansamblul “Filia” – Pitești\nO întâlnire autentică între cultură\, tradiție și prietenie româno-elenă.\nVă așteptăm! 
URL:https://craiovalive.ro/eveniment/spectacol-omagial-dedicat-zilei-nationale-a-greciei/
LOCATION:Filarmonica Oltenia\, Calea Unirii\, nr. 16\, Craiova\, Dolj\, 200585\, România
CATEGORIES:Dans,Muzică
ATTACH;FMTTYPE=image/jpeg:https://craiovalive.ro/wp-content/uploads/2026/03/Spectacol-Omagial-dedicat-Zilei-Nationale-a-Greciei.jpg
GEO:44.3172308;23.7944364
X-APPLE-STRUCTURED-LOCATION;VALUE=URI;X-ADDRESS=Filarmonica Oltenia Calea Unirii nr. 16 Craiova Dolj 200585 România;X-APPLE-RADIUS=500;X-TITLE=Calea Unirii\, nr. 16:geo:23.7944364,44.3172308
END:VEVENT
BEGIN:VEVENT
DTSTART;TZID=Europe/Bucharest:20260322T190000
DTEND;TZID=Europe/Bucharest:20260322T210000
DTSTAMP:20260424T015029
CREATED:20250909T192036Z
LAST-MODIFIED:20260215T190131Z
UID:10009706-1774206000-1774213200@craiovalive.ro
SUMMARY:Lacul Lebedelor (Balet în 4 acte)
DESCRIPTION:Lacul Lebedelor – Capodopera baletului clasic\, acum în turneu național \nEmerald Production\, în parteneriat cu Teatrul Național de Operă și Balet „Maria Bieșu” din Chișinău\, aduce pe scenă unul dintre cele mai îndrăgite spectacole ale tuturor timpurilor – „Lacul Lebedelor” de Piotr Ilici Ceaikovski.\n\nCu decoruri spectaculoase\, costume rafinate și o distribuție impresionantă de artiști de talie internațională\, spectacolul promite emoție\, eleganță și frumusețe pură.\n\nFiecare reprezentație este o invitație într-o lume de basm\, unde iubirea\, sacrificiul și destinul se împletesc în pași de dans desăvârșiți. \nRezervă-ți acum locul și trăiește magia baletului clasic pe viu!
URL:https://craiovalive.ro/eveniment/lacul-lebedelor-balet-in-4-acte/
LOCATION:Teatrul Național Craiova – Sala Amza Pellea\, Str. A. I. Cuza\, nr. 11\, Craiova\, Dolj\, 200585\, România
CATEGORIES:Dans
ATTACH;FMTTYPE=image/webp:https://craiovalive.ro/wp-content/uploads/2025/09/Lacul-Lebedelor-Balet-in-4-acte-1.webp
GEO:44.3186661;23.8003743
X-APPLE-STRUCTURED-LOCATION;VALUE=URI;X-ADDRESS=Teatrul Național Craiova – Sala Amza Pellea Str. A. I. Cuza nr. 11 Craiova Dolj 200585 România;X-APPLE-RADIUS=500;X-TITLE=Str. A. I. Cuza\, nr. 11:geo:23.8003743,44.3186661
END:VEVENT
BEGIN:VEVENT
DTSTART;TZID=Europe/Bucharest:20260302T190000
DTEND;TZID=Europe/Bucharest:20260302T200000
DTSTAMP:20260424T015029
CREATED:20260225T092310Z
LAST-MODIFIED:20260225T092310Z
UID:10014094-1772478000-1772481600@craiovalive.ro
SUMMARY:Spectacol „Primăvara începe cu noi”
DESCRIPTION:Primăvara începe cu noi! \nCentrul Județean de Cultură și Artă Dolj\, prin Școala Populară de Arte și Meserii „Cornetti”\, vă invită luni\, 2 martie 2026\, ora 19:00\, în foaierul Filarmonicii Oltenia Craiova\, la spectacolul „Primăvara începe cu noi”.\nEvenimentul reunește pe scenă elevii claselor de balet\, actorie și modeling\, într-un act artistic dedicat primăverii\, sensibilității și expresivității scenice.\nPublicul este invitat să descopere energia și talentul tinerilor artiști\, într-o seară în care dansul\, mișcarea și emoția se împletesc armonios.\n Intrarea este liberă.\nVă așteptăm alături de noi pentru a celebra primăvara prin artă!
URL:https://craiovalive.ro/eveniment/spectacol-primavara-incepe-cu-noi/
LOCATION:Filarmonica Oltenia\, Calea Unirii\, nr. 16\, Craiova\, Dolj\, 200585\, România
CATEGORIES:Dans
ATTACH;FMTTYPE=image/jpeg:https://craiovalive.ro/wp-content/uploads/2026/02/Spectacol-„Primavara-incepe-cu-noi.jpg
ORGANIZER;CN="Centrul Jude%C8%9Bean de Cultur%C4%83 %C8%99i Art%C4%83 Dolj":MAILTO:cjcadolj@yahoo.com
GEO:44.3172308;23.7944364
X-APPLE-STRUCTURED-LOCATION;VALUE=URI;X-ADDRESS=Filarmonica Oltenia Calea Unirii nr. 16 Craiova Dolj 200585 România;X-APPLE-RADIUS=500;X-TITLE=Calea Unirii\, nr. 16:geo:23.7944364,44.3172308
END:VEVENT
BEGIN:VEVENT
DTSTART;TZID=Europe/Bucharest:20260219T120000
DTEND;TZID=Europe/Bucharest:20260219T123000
DTSTAMP:20260424T015029
CREATED:20260219T084259Z
LAST-MODIFIED:20260219T084259Z
UID:10014030-1771502400-1771504200@craiovalive.ro
SUMMARY:Moment coregrafic „Brâncuși – începuturile creației”
DESCRIPTION:„BRÂNCUȘI – ÎNCEPUTURILE CREAȚIEI” \nMoment coregrafic inedit de Ziua lui Constantin Brâncuși \nSecția Ansamblul de Dans Popular „Maria Tănase”\, din cadrul Centrului Județean de Cultură și Artă Dolj\, sub egida Consiliului Județean Dolj\, aduce în fața publicului un moment special\, în care dansul devine formă și simbol. \nSub coregrafia maestrului Ionel Garoafă\, dansatorii reinterpretează\, prin mișcare și expresie artistică\, elementele emblematice create de Constantin Brâncuși – Poarta Sărutului\, Masa Tăcerii și Coloana Infinitului\, transformând patrimoniul sculptural românesc într-o experiență scenică plină de forță și emoție. \nUn dialog spectaculos între tradiție\, artă și spiritualitate românească\, astăzi\, 19 februarie 2026\, ora 12:00\, în Piața Mihai Viteazul din Craiova. \nAcest montaj coregrafic aduce un omagiu marelui sculptor român Constantin Brâncuși. \nMomentul coregrafic scoate în evidență începuturile creației sale\, surprinzând clipa în care arta lui Brâncuși prinde viață. \nPrin această lucrare coregrafică se dorește evidențierea măreției marelui artist oltean\, Constantin Brâncuși.
URL:https://craiovalive.ro/eveniment/moment-coregrafic-brancusi-inceputurile-creatiei/
LOCATION:Piața Mihai Viteazul\, Craiova\, Dolj\, România
CATEGORIES:Dans
ATTACH;FMTTYPE=image/jpeg:https://craiovalive.ro/wp-content/uploads/2026/02/Moment-coregrafic-„Brancusi-–-inceputurile-creatiei.jpeg
ORGANIZER;CN="Centrul Jude%C8%9Bean de Cultur%C4%83 %C8%99i Art%C4%83 Dolj":MAILTO:cjcadolj@yahoo.com
GEO:44.31805;23.79493
END:VEVENT
BEGIN:VEVENT
DTSTART;TZID=Europe/Bucharest:20260131T190000
DTEND;TZID=Europe/Bucharest:20260131T203000
DTSTAMP:20260424T015029
CREATED:20241018T181734Z
LAST-MODIFIED:20260104T222408Z
UID:10003716-1769886000-1769891400@craiovalive.ro
SUMMARY:It's Showtime
DESCRIPTION:Spectacol de dans al Operei Române Craiova pe scena Cercului Militar \n\n\n\nSpectacolul de dans al Operei Române Craiova ne invită într-o lume strălucitoare\, plină de farmec și seducție\, inspirată din atmosfera inconfundabilă a cabaretului. Pe ritmuri cuceritoare ce evocă eleganță și exuberanță\, vom descoperi poveștile intense din culise\, unde pasiunea și ambițiile ascunse ies la iveală. Coregrafii spectaculoase\, costume sclipitoare și emoții autentice conturează o experiență în care visurile și realitatea se contopesc într-un spectacol de neuitat.\n\n\nSoliști balet: \n\n\n\nRegia artistică: Erna Marin \n\n\nScenografia: Răsvan Drăgănescu \n\n\nBiletele sunt disponibile online:  https://iticket.ro/event/it-s-showtime și la agenția Operei Române Craiova de la Sala Polivalentă\, \n\n\nBulevardul Ilie Balaci nr. 6\, tel. 0351.442.471\, agentiadebilete@operacraiova.ro
URL:https://craiovalive.ro/eveniment/its-showtime/
LOCATION:Cercul Militar Craiova\, Str. Marin Sorescu\, nr. 2\, Craiova\, Dolj\, 200642\, România
CATEGORIES:Dans
ATTACH;FMTTYPE=image/jpeg:https://craiovalive.ro/wp-content/uploads/2024/10/Clipboard_04-28-2025_01.jpg
ORGANIZER;CN="Opera Rom%C3%A2n%C4%83 Craiova":MAILTO:rezervari@operacraiova.ro
GEO:44.308454;23.7956757
X-APPLE-STRUCTURED-LOCATION;VALUE=URI;X-ADDRESS=Cercul Militar Craiova Str. Marin Sorescu nr. 2 Craiova Dolj 200642 România;X-APPLE-RADIUS=500;X-TITLE=Str. Marin Sorescu\, nr. 2:geo:23.7956757,44.308454
END:VEVENT
BEGIN:VEVENT
DTSTART;TZID=Europe/Bucharest:20251208T190000
DTEND;TZID=Europe/Bucharest:20251208T203000
DTSTAMP:20260424T015029
CREATED:20250507T092336Z
LAST-MODIFIED:20251119T092420Z
UID:10006514-1765220400-1765225800@craiovalive.ro
SUMMARY:3 D.A.R.E. - eveniment teatru-dans
DESCRIPTION:Scena Teatrului Național „Marin Sorescu” se transformă din nou într-un loc unde tăcerea vorbește și dansul devine glas.Spectacolul „3 D.A.R.E.” nu este doar teatru și dans – este o declarație de curaj\, de vis și de frumusețe pură.\n Pe scenă\, tineri actori și dansatori surzi demonstrează că arta nu are bariere și că emoția se transmite dincolo de cuvinte.”Limbajul trupului este cel mai sincer alfabet al sufletului.” Vino să simți energia lor\, să trăiești alături de ei bucuria și forța cu care își scriu propria poveste.\nRegia: Cătălin Băicuş 8 decembrie |  Sala I.D.Sîrbu\, ora 19.00Bilete: https://ebilet.tncms.ro/ebilet/Spectacol/Edit/1969 sau la agenția teatrului\, str. A.I.Cuza\, nr. 11.Un spectacol care îți va rămâne în inimă mult timp după ce luminile se sting. Hai să aplaudăm împreună curajul și talentul lor.\nDistribuția: \nAlin Firu\nAna Maria Firu\nRobi Firu\nEcaterina Boțoagă\nRosaura Firu\nSilviu Vlădoianu \nRegizor: Cătălin Băicuș \nMuzică /Sound Design: Valeriu Mihai \nEffects and sound engeneering: Cristian Jah \nLumini: Florin Moisescu \nSpecial effects: Mihai Stoicescu \nInterpret LSR: Filomela Salahoru \nSPECTACOL DE TEATRU-DANS REALIZAT CU TINERI SURZI \n3D A.R.E este un spectacol inovator de teatru dans inspirat de unicitatea limbajului semnelor românești. Spectacolul prezintă o lume posibilă într-un context actual urban unde se trăiește impulsiv si convulsiv. Este o lume a contrastelor și discrepanțelor care există simultan fără a se influența una pe cealaltă. \nTinerii surzi își construiesc o lume cu sens\, cu multe intrări și ieșiri\, o lume deschisă care primește cu drag orice persoană dornică de o conexiune profundă. În lumea creată de ei comunicarea se face prin sunete\, impulsuri vizuale\, muzică\, poezie și mișcare. Spectacolul multimedia reface un teatru existențial\, instinctiv care invită la o resetare a naturii umane actuale. \nO parte din muzica spectacolului este realizată de tinerii surzi care sunt ajutați de instrumente muzicale (thunder drum)\, experimente Cymatics\, experimente cu laser care crează sunete și instrumente de percuție. \nVocea persoanelor surde/hipoacuzice se va face auzită atât la propriu cat și la figurat prin intermediul poeziei. Spectacolul este o versiune dinamică\, un colaj de teatru existențial\, dans contemporan\, poezie și tehnologie. \nAcest proiect cu comunitatea surzilor \, aparent imposibil de realizat\, îmi redă încrederea în capacitatea noastră de a produce miracole.\nSpectacolul a fost realizat cu sprijin și finanțare din partea: Fundației CODA- Farmecul Tăcerii\, Asociației WINDOW România\, Ford Otosan România.
URL:https://craiovalive.ro/eveniment/3-d-a-r-e-eveniment-teatru-dans/
LOCATION:Teatrul Național Craiova – Sala I. D. Sîrbu\, Str. A. I. Cuza\, nr. 11\, Craiova\, Dolj\, 200585\, România
CATEGORIES:Dans,Teatru
ATTACH;FMTTYPE=image/png:https://craiovalive.ro/wp-content/uploads/2025/05/3-D.A.R.E.-eveniment-teatru-dans.png
ORGANIZER;CN="Teatrul Na%C8%9Bional Marin Sorescu Craiova":MAILTO:secretariat@tncms.ro
GEO:44.3186661;23.8003743
X-APPLE-STRUCTURED-LOCATION;VALUE=URI;X-ADDRESS=Teatrul Național Craiova – Sala I. D. Sîrbu Str. A. I. Cuza nr. 11 Craiova Dolj 200585 România;X-APPLE-RADIUS=500;X-TITLE=Str. A. I. Cuza\, nr. 11:geo:23.8003743,44.3186661
END:VEVENT
BEGIN:VEVENT
DTSTART;TZID=Europe/Bucharest:20251121T180000
DTEND;TZID=Europe/Bucharest:20251121T193000
DTSTAMP:20260424T015029
CREATED:20251110T134954Z
LAST-MODIFIED:20251110T134954Z
UID:10012430-1763748000-1763753400@craiovalive.ro
SUMMARY:_dans contemporan_ Turneu ChoreoCraft
DESCRIPTION:Vă invităm la cele mai recente 2 producții coregrafice marca Unfold Motion! Spectacolele „Wires and Veins” și „Falling Superstars”\nEvenimentele sunt găzduite de Departamentul de Arte și Media al Universității din Craiova (Sala Studio)\nIntrarea la evenimente este gratuită\, pe baza rezervărilor aici: https://forms.gle/Q1gn9re2G3EqYct76\n\nP R O G R A M :\nJoi\, 20 noiembrie- ”Wires & Veins”: ora 18.00\nUnde apare conexiunea\, atât fizică\, cât și metaforică\, între inteligența umană și cea artificială? Cum numim acest spațiu? Este un spațiu hibrid? Ce fel de spațiu este\, de fapt?”Wires and Veins” vă invită la un exercițiu de imaginație. Un spectacol care vă provoacă să descoperiți\, prin corpul dansatorilor\, cum ar putea inteligența artificială să prindă viață într-o ființă umană. Artiștii explorează direct prin mișcare\, sentiment\, și simțiri\, ce înseamnă ca o emoție\, un impuls sau un gând să fie trăit de o prezență non-umană: tensiunea dintre control și abandon\, dintre mișcare mecanică și fragilitatea instinctului\, dintre singurătate și conectare.Imaginând un viitor în care naturalul și artificialul se împletesc asemenea unei rețele vii\, artiștii explorează ce păstrăm și ce lăsăm în urmă\, remodelând felul în care simțim\, ne mișcăm și ne raportăm unii la alții. În această fuziune\, ce parte din umanitatea noastră rămâne și ce parte se pierde?\nEchipa artistică:Direcție artistică și concept: Dorian Mallia| Coregrafie: Dorian Mallia în colaborare cu performerii| Performeri: Beatrice Oneț\, Vladimir Staicu\, Andrei Tcaciuc\, Carolina Țapoc| Asistență de coregrafie: Lavinia Urcan| Dramaturgie: Beatrice Benedek| Compoziție muzicală: Albert Garzia| Lighting design: Cosmin Anania| Costume: Elena Mazăre Grafică: Claudia Feti\n\nVineri\, 21 noiembrie- ”Falling Superstars” ora 18.00\n„Falling Superstars” reflectă lupta cu propriile limite pentru a rămâne relevant\, vizibil și conectat profund cu cei din jur\, într-o societate dominată de mediatizarea tuturor aspectelor vieții prin rețelele sociale.Ce înseamnă să fii un Superstar? Poate oare un Superstar ”să cadă din cer” și să continue ”să strălucească”? Ce înseamnă „super”? Care este ”rolul” meu în societate? Cum îmi pot păstra autenticitatea atunci când fac parte dintr-un grup? Cum ne putem conecta cu adevărat unii cu ceilalți astfel încât să formăm ”constelații umane”?Publicul este invitat la un spectacol de dans contemporan care își asumă cu ironie și umor libertatea de a nu se lua prea în serios. Și totuși\, la un moment dat\, ceva alunecă\, se pierde și se transformă în aer\, lumină și haos….\nEchipa artistică:Coregrafie și concept: Maxime Freixas & Francesco Colaleo| Performeri: Beatrice Oneț\, Vladimir Staicu\, Andrei Tcaciuc\, Carolina Țapoc| Asistență coregrafie: Lavinia Urcan| Muzică: Vincenzo Pedata| Sound design: George Allen| Light design: Andrei Chifu| Grafică: Claudia Feti\nComplementar\, pe data de 21 noiembrie\,orele 10.00-13.00 vor avea loc 2 ateliere ”Meet the artist” inspirate din procesele de lucru ale celor două spectacole și facilitate de Carolina Țapoc și Beatrice Oneț. Acestea sunt dedicate studenților Secției de Actorie. Accesul este gratuit.\nProiectul ChoreoCraft este co-finanțat de AFCN și are ca scop producerea spectacolelor ”Wires & Veins”\, ”Falling Superstars” și prezentarea acestora în cadrul unui turneu național.\n––Ediția din acest an explorează modul în care dezvoltarea accelerată a tehnologiei redefinește umanitatea\, rescrie limbajul corpului și influențează dinamica formării conexiunilor interpersonale. Creațiile coregrafice invită publicul să reflecteze asupra prezenței inteligenței artificiale în viața noastră\, oferind o perspectivă metaforică asupra modurilor în care progresul tehnologic continuu ne amprentează emoțiile și relațiile.Proiectul nu reprezintă în mod necesar poziţia Administrației Fondului Cultural Național. AFCN nu este responsabilă de conținutul proiectului sau de modul în care rezultatele proiectului pot fi folosite. Acestea sunt în întregime responsabilitatea beneficiarului finanțării.\nParteneri: Casa de Cultură a Studenților \, FITT Timișoara\, Departamentului de Arte și Media din cadrul Facultății de Litere a Universității din Craiova\,Palatul Culturii din Bistrița\, Teatrul Masca\, NON-Centru de Arte PerformativeParteneri Media: Radio România Cultural\, RFI Romania\, Presspectiva.ro\, Best of Timişoara\nOrganizator: Asociația Unfold Motion
URL:https://craiovalive.ro/eveniment/_dans-contemporan_-turneu-choreocraft/2025-11-21/
LOCATION:Dolj
CATEGORIES:Dans
ATTACH;FMTTYPE=image/jpeg:https://craiovalive.ro/wp-content/uploads/2025/11/Turneu-dans-contemporan-ChoreoCraft.jpg
END:VEVENT
BEGIN:VEVENT
DTSTART;TZID=Europe/Bucharest:20251107T200000
DTEND;TZID=Europe/Bucharest:20251109T200000
DTSTAMP:20260424T015029
CREATED:20250914T180424Z
LAST-MODIFIED:20250914T180424Z
UID:10009738-1762545600-1762718400@craiovalive.ro
SUMMARY:Aniversare 20 ani Viva Dance
DESCRIPTION: ARTIȘTI CONFIRMAȚI \nREMUS & ADINA : DANCE DISTRICT\, BUCUREȘTICLAUDIU & LILI : REVOLUCION DEL CUERPO\, BUCUREȘTIMARIUS & ANDRA : GINGA\, BUCUREȘTIALEX & CRISTINA : DANCE XPLOSION\, SIBIUALIN ISTRATE : DANCE XPLOSION\, SIBIUANGI : VIVA DANCE\, CRAIOVAMARIAN & MALINA : BAILANDO CONTIGO\, VÂLCEALARA & ȘTEFAN : BAILANDO CONTIGO\, VÂLCEAALEX & MARIJEANA : CRAIOVA\nDJ SIBYP : VÂLCEA ALEX MAGNUSSON : SIBIU\nMai multe detalii în curând 
URL:https://craiovalive.ro/eveniment/aniversare-20-ani-viva-dance/
LOCATION:Dolj
CATEGORIES:Dans,Party
ATTACH;FMTTYPE=image/jpeg:https://craiovalive.ro/wp-content/uploads/2025/09/Aniversare-20-ani-Viva-Dance.jpg
END:VEVENT
BEGIN:VEVENT
DTSTART;TZID=Europe/Bucharest:20251018T090000
DTEND;TZID=Europe/Bucharest:20251019T170000
DTSTAMP:20260424T015029
CREATED:20250802T160348Z
LAST-MODIFIED:20250928T153446Z
UID:10007880-1760778000-1760893200@craiovalive.ro
SUMMARY:Cupa României la Dans Sportiv 2025
DESCRIPTION:Craiova\, capitala dansului în 2025! În perioada 18 – 19 octombrie\, la Centrul Multifuncțional Craiova au loc Craiova Dance Fest și Cupa României la Dans Sportiv\, unde sunt așteptați dansatori din toată România!\n\nEveniment organizat de Federația Română de Dans Sportiv și Katamis Dance
URL:https://craiovalive.ro/eveniment/cupa-romaniei-la-dans-sportiv-2025/
LOCATION:Sala Polivalentă\, Bvd. Ilie Balaci\, nr.6\, Craiova\, Dolj\, România
CATEGORIES:Dans,Sport
ATTACH;FMTTYPE=image/jpeg:https://craiovalive.ro/wp-content/uploads/2025/08/Cupa-Romaniei-la-Dans-Sportiv-Craiova-2025.jpg
GEO:44.3133053;23.7867478
X-APPLE-STRUCTURED-LOCATION;VALUE=URI;X-ADDRESS=Sala Polivalentă Bvd. Ilie Balaci nr.6 Craiova Dolj România;X-APPLE-RADIUS=500;X-TITLE=Bvd. Ilie Balaci\, nr.6:geo:23.7867478,44.3133053
END:VEVENT
BEGIN:VEVENT
DTSTART;TZID=Europe/Bucharest:20250920T203000
DTEND;TZID=Europe/Bucharest:20250921T033000
DTSTAMP:20260424T015029
CREATED:20250914T175700Z
LAST-MODIFIED:20250914T175700Z
UID:10009735-1758400200-1758425400@craiovalive.ro
SUMMARY:Bachata Night Ladies & Gents @ Viva Dance
DESCRIPTION:Sâmbăta aceasta avem o invitată specială care ne va umple sufletul cu energia ei Robbie dansează latino din 2019 și din 2022 îi inspiră și pe alții să descopere bucuria dansului. Face parte din trupa Vibes Ladies și este instructor la Essence Academy\, unde pasiunea pentru bachata se întâlnește cu tot ce a învățat în multe workshopuri și formări de dans. Pe lângă latino\, s-a jucat și cu stiluri precum heels\, shuffle sau chiar zumba\, iar toate aceste influențe îi dau un vibe creativ și fresh în sala de curs \nLa workshop-ul de Bachata Footwork\, Robbie te așteaptă să descoperi pași noi\, ritmuri jucăușe și o atmosferă relaxată în care dansul devine distracție pură \nSÂMBĂTĂ 20 SEPTEMBRIE\, VIVADANCE\n PROGRAM:\n20:30-22:00 – BACHATA FOOTWORK ( pentru toată lumea\, nivel intermediar)22:30-03:30 – PARTY \nINTRARE :WORKSHOP + PARTY : 60 RONPARTY : 30 RON
URL:https://craiovalive.ro/eveniment/bachata-night-ladies-gents-viva-dance/
LOCATION:Dolj
CATEGORIES:Ateliere,Dans,Party
ATTACH;FMTTYPE=image/jpeg:https://craiovalive.ro/wp-content/uploads/2025/09/Bachata-Night-Ladies-Gents-@-Viva-Dance.jpg
END:VEVENT
BEGIN:VEVENT
DTSTART;TZID=Europe/Bucharest:20250719T110000
DTEND;TZID=Europe/Bucharest:20250719T130000
DTSTAMP:20260424T015029
CREATED:20250717T080418Z
LAST-MODIFIED:20250717T080418Z
UID:10007734-1752922800-1752930000@craiovalive.ro
SUMMARY:Festivalul „Tradițiile Verii”\, ediția a XIII-a
DESCRIPTION:Festivalul „TRADIŢIILE VERII“ – Ediţia a XIII-a \nCraiova\, 2025 \nCelebrăm împreună obiceiurile și tradițiile care spun de sute de ani povestea verilor în plaiurile oltenești\, sâmbătă\, 19 iulie 2025\, pe scena Festivalului „Tradiţiile verii“ – ediţia a XIII-a\, la Teatrul de vară din Parcul „Nicolae Romanescu“. \nEvenimentul este organizat de Consiliul Judeţean Dolj şi Centrul Judeţean de Cultură și Artă Dolj – Secția pentru Conservarea şi Promovarea Culturii Tradiţionale\, cu sprijinul Operei Române Craiova\, Primăriei şi al Consiliului Local Municipal Craiova. \nSâmbătă\, 19 iulie 2025\, cu începere de la ora 11:00\, Festivalul „Tradiţiile verii“ – ediţia a XIII-a reunește ansambluri și soliști din judeţele Dolj și Olt\, care ne bucură cu obiceiuri precum: Sânzienele sau Drăgaica\, Paparudele sau Primul colac\, obiceiuri de Sf. Ilie și de seceriș\, într-o atmosferă de sărbătoare însuflețită de cântecul și jocul popular. \nFestivalul „Tradițiile verii“ readuce la Craiova Grupul vocal „Mândruțele de la Olt“\, alături de ansamblurile folclorice din Dolj: „Bordeiașul“ din Bechet\, „Hora Desnăţuiului“ al Casei de Cultură „Adrian Păunescu“ din comuna Bârca\, „Trandafirul“ al Casei de Cultură din orașul Dăbuleni\, „Dor călător“ din Craiova și „Doina Mischiului“ din comuna Mischii. \nCântecul popular va răsuna în interpretarea soliștilor laureați ai Festivalului Național „Maria Tănase“: Luiza Turcu\, Larisa Cârlugea\, Alexandru Lilea\, Alex Golfin\, Marius Gheorghe (care va interpreta la nai\, caval\, cobză și acordeon cântece culese din bătrâni). \nAccesul la eveniment este gratuit și se face în limita locurilor disponibile.
URL:https://craiovalive.ro/eveniment/festivalul-traditiile-verii-editia-a-xiii-a/
LOCATION:Parcul Nicolae Romanescu – Teatrul de Vară\, Craiova\, Dolj\, România
CATEGORIES:Dans,Muzică
ORGANIZER;CN="Centrul Jude%C8%9Bean de Cultur%C4%83 %C8%99i Art%C4%83 Dolj - Sec%C8%9Bia pentru Conservarea %C5%9Fi Promovarea Culturii Tradi%C8%9Bionale Dolj":MAILTO:ccpdolj@yahoo.com
GEO:44.298975729899;23.803581461806
END:VEVENT
BEGIN:VEVENT
DTSTART;TZID=Europe/Bucharest:20250525T110000
DTEND;TZID=Europe/Bucharest:20250525T220000
DTSTAMP:20260424T015029
CREATED:20250516T103936Z
LAST-MODIFIED:20250516T103936Z
UID:10006572-1748170800-1748210400@craiovalive.ro
SUMMARY:Festivalul Medieval Zilele Mihai Viteazul 2025
DESCRIPTION:Festivalul Medieval „Zilele Mihai Viteazul“ \nCraiova\, 23 – 25 mai 2025 \n  \nTeatrul pentru copii și tineret Colibri Craiova – Compartimentul Casa de Cultură „Traian Demetrescu“ organizează Festivalul Medieval „Zilele Mihai Viteazul“\, în perioada 23 – 25 mai 2025\, eveniment care aduce în prim-plan istoria și cultura medievală. \nFestivalul se va deschide vineri\, 23 mai 2025\, la ora 19:00\, cu o paradă a costumelor medievale\, în Parcul „Nicolae Romanescu“\, urmată de concert de muzică medievală și tradițională\, iar la ora 21:00 de un frumos spectacol de jonglerie cu foc. \nÎn zilele de 24 și 25 mai\, tot în parc\, în poienița din zona Casa Bibescu\, se vor desfășura ateliere\, demonstrații de luptă\, spectacole de teatru\, de dans\, de jonglerie cu foc și un târg de manufactură. Vizitatorii vor avea ocazia să descopere secretele meșteșugurilor și să participe la diverse activități recreative. Parcul devine un mic târg medieval\, unde cavalerii\, domnițele și meșteșugarii reconstruiesc atmosfera epocii medievale. \nFestivalul Medieval „Zilele Mihai Viteazul“ aduce la un loc mai multe asociații de profil\, care propun publicului să descopere taberele medievale\, atelierele de lucru\, breslele de odinioară\, turnirurile\, paradele\, să interacționeze cu domnițe și cavaleri\, să vadă demonstrații de luptă cu arme din perioada medievală\, să se bucure de concertele de muzică medievală în care se fac auzite sunetele instrumentelor vechi. Pentru a crea efecte speciale deosebite\, spectacolele pirotehnice vor fi prezentate la lăsarea întunericului. \nAșadar\, toți cei dornici să intre în atmosfera festivalului\, să fie parte din această experiență unică și să descopere povestea lui Mihai Viteazul și a timpurilor sale\, sunt așteptați la Craiova\, în perioada 23 – 25 mai\, în Parcul „Nicolae Romanescu“. \n\nÎn caz de vreme nefavorabilă\, organizatorul își rezervă dreptul de a modifica programul\, chiar de a anula o parte din activități.
URL:https://craiovalive.ro/eveniment/festivalul-medieval-zilele-mihai-viteazul-2025/2025-05-25/
LOCATION:Parcul Nicolae Romanescu\, Craiova\, Dolj\, România
CATEGORIES:Ateliere,Dans,Evenimente pentru copii,Muzică,Târguri
ATTACH;FMTTYPE=image/jpeg:https://craiovalive.ro/wp-content/uploads/2025/05/Festivalul-Medieval-Zilele-Mihai-Viteazul-2025.jpeg
ORGANIZER;CN="Casa de Cultur%C4%83 Traian Demetrescu":MAILTO:tradem@tradem.ro
GEO:44.301907335609;23.799200026224
END:VEVENT
BEGIN:VEVENT
DTSTART;TZID=Europe/Bucharest:20250509T090000
DTEND;TZID=Europe/Bucharest:20250511T140000
DTSTAMP:20260424T015029
CREATED:20250504T194057Z
LAST-MODIFIED:20250504T194057Z
UID:10006279-1746781200-1746972000@craiovalive.ro
SUMMARY:Craiova Bachata Weekend - ediția a 5-a
DESCRIPTION:Vă invitam cu mare drag la cea de-a 5-a editie Craiova Bachata Weekend\, un eveniment de suflet pt noi\, care an de an și-a propus să aducă la noi în sală artisti de top din Romania și nu numai\, pentru a împărtăși cu voi din magia lor prin workshop-uri incendiare și să dansăm împreună la super party-uri tot weekendul!\nARTIȘTI PREZENȚI :Ady & Allisor – Dance Xplosion \, SibiuMarius Coman & Andra Ciocoias – Ginga \, BucurestiGabriel Mîndreanu & Carmen Zaharia – Latino Dreams \, BucurestiSorin & Sabry – Pandance \, SibiuMarian & Malina – Bailando Contigo \, Rm.Valcea\nPRETURI EVENIMENT :FULL PASS – 250 RONPARTY PASS – 100 RONONE PARTY – 60 RONDAY PASS : – Vineri – 100 RON– Sâmbătă- 200 RON– Duminică- 150 RON\nDETALII ȘI ÎNSCRIERI0722381503 (Mihai)\nLOCURI LIMITATE Abia așteptăm să petrecem un weekend minunat împreună cu voi \nNoi detalii\, în curand 
URL:https://craiovalive.ro/eveniment/craiova-bachata-weekend-editia-a-5-a/
LOCATION:Dolj
CATEGORIES:Dans
ATTACH;FMTTYPE=image/jpeg:https://craiovalive.ro/wp-content/uploads/2025/05/Craiova-Bachata-Weekend-editia-a-5-a.jpg
END:VEVENT
END:VCALENDAR