BEGIN:VCALENDAR
VERSION:2.0
PRODID:-//Craiova Live - ECPv6.15.18//NONSGML v1.0//EN
CALSCALE:GREGORIAN
METHOD:PUBLISH
X-ORIGINAL-URL:https://craiovalive.ro
X-WR-CALDESC:Evenimente pentru Craiova Live
REFRESH-INTERVAL;VALUE=DURATION:PT1H
X-Robots-Tag:noindex
X-PUBLISHED-TTL:PT1H
BEGIN:VTIMEZONE
TZID:Europe/Bucharest
BEGIN:DAYLIGHT
TZOFFSETFROM:+0200
TZOFFSETTO:+0300
TZNAME:EEST
DTSTART:20240331T010000
END:DAYLIGHT
BEGIN:STANDARD
TZOFFSETFROM:+0300
TZOFFSETTO:+0200
TZNAME:EET
DTSTART:20241027T010000
END:STANDARD
BEGIN:DAYLIGHT
TZOFFSETFROM:+0200
TZOFFSETTO:+0300
TZNAME:EEST
DTSTART:20250330T010000
END:DAYLIGHT
BEGIN:STANDARD
TZOFFSETFROM:+0300
TZOFFSETTO:+0200
TZNAME:EET
DTSTART:20251026T010000
END:STANDARD
BEGIN:DAYLIGHT
TZOFFSETFROM:+0200
TZOFFSETTO:+0300
TZNAME:EEST
DTSTART:20260329T010000
END:DAYLIGHT
BEGIN:STANDARD
TZOFFSETFROM:+0300
TZOFFSETTO:+0200
TZNAME:EET
DTSTART:20261025T010000
END:STANDARD
END:VTIMEZONE
BEGIN:VEVENT
DTSTART;TZID=Europe/Bucharest:20250916T183000
DTEND;TZID=Europe/Bucharest:20250916T203000
DTSTAMP:20260424T112236
CREATED:20250915T070254Z
LAST-MODIFIED:20250915T071657Z
UID:10009744-1758047400-1758054600@craiovalive.ro
SUMMARY:Double Bill: SMARANDA & Hungry Ghosts
DESCRIPTION:Vă așteptăm MARȚI\, 16 SEPTEMBRIE\, de la 18.30\, la două spectacole de dans contemporane consecutive. @ Sala Studio\, Dep. De Arte și Media din Craiova (str. Transilvaniei nr. 10).\n Intrarea este liberă\, pe bază de rezervare aici: https://forms.gle/8nHcN4Am2v4UGXnQ8\n 𝑆𝑀𝐴𝑅𝐴𝑁𝐷𝐴\, de Cristina Tudor\nCând te-ai referit ultima oară la ceva ca fiind „duios”? Ce comunică actul deliberat de conectare la propriile simțuri într-un spațiu social inundat de ”statementuri”?\nUn personaj navighează un peisaj alcătuit din experiențe intime încercând să găsească un sens propriei sensibilități.\nContemplând figuri și povești reale de familie\, dar nu numai\, abordăm ideea de sensibilitate ca resursă în cunoașterea de sine\, maturizare și în conectarea cu cei din jur\, dar și ca spațiu securizant\, plin de potențial și forță.\nEchipa: Regie: Corina Andrian Dramaturgie/Actorie: Cristina Tudor Coregrafie: George Alexandru Pleșca Lighting Design: Miruna Croitoru Foto: Tudor C. Popa Graphic Design: Cristina Oneț Manager de scenă: Roxana Popescu Producție: Asociația Cătun Co-producție: Asociația Hearth\n_________________________________\n 𝐻𝑢𝑛𝑔𝑟𝑦 𝐺ℎ𝑜𝑠𝑡𝑠\, de Eva Danciu\nHungry Ghosts este o radiografie a atașamentelor care ne modelează. Este o călătorie în mișcare prin tărâmul Preta\, lumea fantomelor înfometate\, unde dorința nu se stinge niciodată\, iar satisfacția e mereu efemeră. Spectacolul explorează tema atașamentului în trei tablouri: dependența de substanțe și confortul care adoarme timpul\, traumele și relațiile toxice marcate de manipulare\, și\, în final\, consumerismul devorator\, unde trupul se îngroapă în obiecte\, hrană și excese.Cu un text din Nietzsche ca fundal\, Hungry Ghosts chestionează vidul pe care încercăm să-l umplem și felul în care\, ucigând zeii\, am creat alți idoli ai dorinței. Moartea Dumnezeului lui Nietzsche reprezintă toate filtrele pe care ni le-am pus în calea direcției Lui. Atât de multe că nu Îl mai percepem\, atât de multe că L-am omorât în ignoranța noastră.\nEchipa: Concept și coregrafie: Eva Danciu Dansatori: Tamara Gageatu\, Sofia Sitaru Onofrei\, Andrei Bouariu Text: Așa grăit-a Zarathustra & Știința voioasă (Friedrich Nietzsche) Muzica: Is this it (Asaf Avidan)\, Va\, pensiero (Corul sclavilor evrei) – Nabucco\, (Giuseppe Verdi) Light Design: Tamara Gageatu*Spectacol creat în cadrul UNATC București\, examen Artă Coregrafică\, an I\, sem. I\, prof. coordonatoare Andreea Duță & Liliana Iorgulescu\n Spectacolele au fost selectate în urma unui Open Cal dedicat artistelor emergente și vor fi prezentate în cadrul Festivalului de Dans Contemporan CONNECT\, ediția a 4-a\, organizat de Asociația Delazero\, cu sprijinul Universității din Craiova\, cofinanțat de Administrația Fondului Cultural Național. Proiectul nu reprezintă în mod necesar poziţia Administrației Fondului Cultural Național. AFCN nu este responsabilă de conținutul proiectului sau de modul în care rezultatele proiectului pot fi folosite. Acestea sunt în întregime responsabilitatea beneficiarului finanțării.
URL:https://craiovalive.ro/eveniment/double-bill-smaranda-hungry-ghosts/
LOCATION:Dolj
CATEGORIES:Dans
ATTACH;FMTTYPE=image/jpeg:https://craiovalive.ro/wp-content/uploads/2025/09/Double-Bill-SMARANDA-Hungry-Ghosts.jpg
END:VEVENT
BEGIN:VEVENT
DTSTART;TZID=Europe/Bucharest:20250920T200000
DTEND;TZID=Europe/Bucharest:20250920T210000
DTSTAMP:20260424T112236
CREATED:20250915T065616Z
LAST-MODIFIED:20250920T103258Z
UID:10009742-1758398400-1758402000@craiovalive.ro
SUMMARY:BPM – Beats per Millennium // Perfomance de Simona Dabija
DESCRIPTION:BPM – Beats per Millennium // Perfomance de Simona Dabija\n\n\n 20 septembrie\, 20:00 – 21:00\n Dep. Arte și Media\, Aula „Alexandru Buia” (str. Transilvaniei. nr. 1)\n Intrare liberă. Pentru rezervare\, în prealabil\, înscrie-te aici: https://forms.gle/eSENxfb4SHZTxEv68\n\n\nUn solo inspirat de atmosfera cluburilor din ultimele decenii – un dans al pulsului colectiv\, al tensiunii și eliberării.
URL:https://craiovalive.ro/eveniment/bpm-beats-per-millennium-perfomance-de-simona-dabija/
LOCATION:Departamentul de Arte și Media al Universității din Craiova – Aula Buia\, Str. Libertății\, nr. 19\, Craiova\, Dolj\, 200421\, România
CATEGORIES:Dans
ATTACH;FMTTYPE=image/jpeg:https://craiovalive.ro/wp-content/uploads/2025/09/Festivalul-de-Dans-Contemporan-CONNECT-2025.jpg
GEO:44.3199431;23.7855667
X-APPLE-STRUCTURED-LOCATION;VALUE=URI;X-ADDRESS=Departamentul de Arte și Media al Universității din Craiova – Aula Buia Str. Libertății nr. 19 Craiova Dolj 200421 România;X-APPLE-RADIUS=500;X-TITLE=Str. Libertății\, nr. 19:geo:23.7855667,44.3199431
END:VEVENT
BEGIN:VEVENT
DTSTART;TZID=Europe/Bucharest:20250920T203000
DTEND;TZID=Europe/Bucharest:20250921T033000
DTSTAMP:20260424T112236
CREATED:20250914T175700Z
LAST-MODIFIED:20250914T175700Z
UID:10009735-1758400200-1758425400@craiovalive.ro
SUMMARY:Bachata Night Ladies & Gents @ Viva Dance
DESCRIPTION:Sâmbăta aceasta avem o invitată specială care ne va umple sufletul cu energia ei Robbie dansează latino din 2019 și din 2022 îi inspiră și pe alții să descopere bucuria dansului. Face parte din trupa Vibes Ladies și este instructor la Essence Academy\, unde pasiunea pentru bachata se întâlnește cu tot ce a învățat în multe workshopuri și formări de dans. Pe lângă latino\, s-a jucat și cu stiluri precum heels\, shuffle sau chiar zumba\, iar toate aceste influențe îi dau un vibe creativ și fresh în sala de curs \nLa workshop-ul de Bachata Footwork\, Robbie te așteaptă să descoperi pași noi\, ritmuri jucăușe și o atmosferă relaxată în care dansul devine distracție pură \nSÂMBĂTĂ 20 SEPTEMBRIE\, VIVADANCE\n PROGRAM:\n20:30-22:00 – BACHATA FOOTWORK ( pentru toată lumea\, nivel intermediar)22:30-03:30 – PARTY \nINTRARE :WORKSHOP + PARTY : 60 RONPARTY : 30 RON
URL:https://craiovalive.ro/eveniment/bachata-night-ladies-gents-viva-dance/
LOCATION:Dolj
CATEGORIES:Ateliere,Dans,Party
ATTACH;FMTTYPE=image/jpeg:https://craiovalive.ro/wp-content/uploads/2025/09/Bachata-Night-Ladies-Gents-@-Viva-Dance.jpg
END:VEVENT
BEGIN:VEVENT
DTSTART;TZID=Europe/Bucharest:20250921T190000
DTEND;TZID=Europe/Bucharest:20250921T200000
DTSTAMP:20260424T112236
CREATED:20250914T180248Z
LAST-MODIFIED:20250914T180853Z
UID:10009737-1758481200-1758484800@craiovalive.ro
SUMMARY:REFACE – Performance @ Gloriae Art Gallery
DESCRIPTION: REFACE (Les Idoles Collective) \n Duminică\, 21 septembrie\, 19:00 – 20:00 Gloriæ Art Gallery (str. Alexandru Macedonski\, nr. 49\, Craiova)\n Intrare liberă\, pe bază de rezervare aici: https://forms.gle/kwV6n1DZTzCsLKcs7\n REFACE este o cercetare fizică și muzicală bazată pe ideea de transformare\, deformare și schimbare a materialelor. Totul este în tranziție: corpurile noastre\, memoria\, mediul social\, natura\, relațiile\, sistemul politic… Mișcarea pătrunde totul\, împiedicând crearea unor forme definitive și directe. Lucrăm asupra acestei instabilități la scară intimă\, deoarece fețele și emoțiile sunt tulburate și plurale.\nREFACE își propune să facă vizibil acest stadiu de tranziție\, aceste metamorfoze imperceptibile și neîncetate care dezvăluie complexitatea a ceea ce suntem.\nREFACE exprimă acest lucru: imposibilitatea distincției între sine și ceilalți. Departe de a fi un obstacol\, este un mister\, o incertitudine stimulatoare care devine o sursă inepuizabilă de inspirație pentru corpurile și imaginația noastră.REFACE este un loc de joacă\, unde putem pretinde că suntem altcineva\, adoptând posturile\, privirile și expresiile faciale ale idolilor și fantomelor noastre.\nNe mișcăm de la animal la culoare\, de la ceea ce este învechit la contemporan\, de la stea la banal. Cine este ea/el? Ce este asta? O fantomă sau un vampir? Un copil sau un bătrân? Râs sau teroare? Răspunsul e dificil. Nimic nu este fix sau denumit. Totul este confuzie și iluzie. Jocuri și trucuri. Cinema și minciuni.\n Biografie:Abordarea Les Idoles este una de cercetare\, de „furt” de referințe\, de a păși în pantofii altcuiva… Ei formează un colectiv de tribut\, străbătut de o multitudine de referințe cinematografice\, fotografice și muzicale. Acest spațiu de lucru unic și neconvențional le permite să pună sub semnul întrebării imaginile care îi înconjoară\, de la cele mai populare la cele mai elitiste. Pe care le uităm și care persistă în timp? Prin cercetare corporală și muzicală\, ei creează proiecte și reprezentații hibride\, ciudate și anacronice. Își plac jocurile cu codurile și schimbarea perspectivelor. Astfel\, întrebarea privirii și relația cu publicul străbate întregul lor demers.\nChandra Grangean și Lise Messina sunt Les Idoles. S-au întâlnit în 2012 la Conservatorul Național Superior de Muzică și Dans din Lyon. Impulsionate de afinități artistice\, au început să colaboreze încă din timpul studiilor. Ulterior\, au lucrat împreună cu Maguy Marin\, iar în 2022 au fondat Les Idoles\, care face parte din La Feat: o platformă artistică unde schimbă idei și colaborează cu două alte colective\, Hoods Flakes și Dikie Istorii.\nEchipă: Creație: Les Idoles Collective Coregrafe: Chandra Grangean și Lise Messina Muzică live: Jacopo Greco D’Alceo Tehnician lumini: Melissandre Halbert Interpreți: Alais Marzouvanlian și Chandra Grangean Administrație\, producție: Mélanie Garrabos și Elise Remy / La Feat. Creație muzicală: Martin Malatray-Ravit Design machiaj: Chloé Herouart și Les Idoles Design costume: Lucie Grand Mourcel Perspective externe: Natacha Kierbel și Tom Grand Mourcel Asistență compoziție: Jacopo Greco d’Alceo Design lumini și decor: Johanna Thomas Credite foto și video: Tom Grand Mourcel Producție: La Feat. Coproducție: CCN d’Orléans; Ciné-Théâtre de Saint Chély d’Apcher; La Place de la Danse – CDCN de Toulouse.Rezidențe: HONOLULU; LA BRIQUETERIE – CDCN du Val-de-Marne; Maison de la danse\, Lyon – Pôle européen de création și NTH8; Le Velvet Moon; CCN de Nantes; Le Quartz de Saint-Chély d’Apcher; Danse Dense; Aerowaves Twenty24. Sprijin: Ministerul Culturii – DRAC Auvergne-Rhône-Alpes pentru ajutorul la proiect; Les Ateliers Medicis (creație în curs); Point Éphémère; Maison de la danse\, Lyon – Pôle européen de création și NTH8. Les Idoles face parte dintre artiștii Aerowaves Twenty24.\nAcest spectacol este prezentat cu sprijinul Institutului Francez din România\, al Institutului Francez din Serbia și al Teatroskop\, un program inițiat de Ministerul Francez pentru Europa și Afaceri Externe\, Ministerul Culturii din Franța și Institut Francez Paris.\n\n Evenimentul face parte din proiectul cultural Festivalul de Dans Contemporan CONNECT\, ediția a 4-a\, organizat de Asociația Delazero\, co-finanțat de Administrația Fondului Cultural Național (AFCN). Proiectul nu reprezintă în mod necesar poziţia Administrației Fondului Cultural Național. AFCN nu este responsabilă de conținutul proiectului sau de modul în care rezultatele proiectului pot fi folosite. Acestea sunt în întregime responsabilitatea beneficiarului finanțării.
URL:https://craiovalive.ro/eveniment/reface-performance-gloriae-art-gallery/
LOCATION:Gloriæ Art Gallery\, Str. Alexandru Macedonski\, Nr. 49\, Craiova\, Dolj\, România
CATEGORIES:Dans,Teatru
ATTACH;FMTTYPE=image/jpeg:https://craiovalive.ro/wp-content/uploads/2025/09/REFACE-–-Performance-@-Gloriae-Art-Gallery.jpg
ORGANIZER;CN="Glori%C3%A6 Art Gallery":MAILTO:office@gloriae.ro
GEO:44.312189;23.8001597
X-APPLE-STRUCTURED-LOCATION;VALUE=URI;X-ADDRESS=Gloriæ Art Gallery Str. Alexandru Macedonski Nr. 49 Craiova Dolj România;X-APPLE-RADIUS=500;X-TITLE=Str. Alexandru Macedonski\, Nr. 49:geo:23.8001597,44.312189
END:VEVENT
END:VCALENDAR