BEGIN:VCALENDAR
VERSION:2.0
PRODID:-//Craiova Live - ECPv6.15.18//NONSGML v1.0//EN
CALSCALE:GREGORIAN
METHOD:PUBLISH
X-ORIGINAL-URL:https://craiovalive.ro
X-WR-CALDESC:Evenimente pentru Craiova Live
REFRESH-INTERVAL;VALUE=DURATION:PT1H
X-Robots-Tag:noindex
X-PUBLISHED-TTL:PT1H
BEGIN:VTIMEZONE
TZID:Europe/Bucharest
BEGIN:DAYLIGHT
TZOFFSETFROM:+0200
TZOFFSETTO:+0300
TZNAME:EEST
DTSTART:20250330T010000
END:DAYLIGHT
BEGIN:STANDARD
TZOFFSETFROM:+0300
TZOFFSETTO:+0200
TZNAME:EET
DTSTART:20251026T010000
END:STANDARD
BEGIN:DAYLIGHT
TZOFFSETFROM:+0200
TZOFFSETTO:+0300
TZNAME:EEST
DTSTART:20260329T010000
END:DAYLIGHT
BEGIN:STANDARD
TZOFFSETFROM:+0300
TZOFFSETTO:+0200
TZNAME:EET
DTSTART:20261025T010000
END:STANDARD
BEGIN:DAYLIGHT
TZOFFSETFROM:+0200
TZOFFSETTO:+0300
TZNAME:EEST
DTSTART:20270328T010000
END:DAYLIGHT
BEGIN:STANDARD
TZOFFSETFROM:+0300
TZOFFSETTO:+0200
TZNAME:EET
DTSTART:20271031T010000
END:STANDARD
END:VTIMEZONE
BEGIN:VEVENT
DTSTART;TZID=Europe/Bucharest:20260611T183000
DTEND;TZID=Europe/Bucharest:20260611T203000
DTSTAMP:20260424T002509
CREATED:20260423T114331Z
LAST-MODIFIED:20260423T114331Z
UID:10014592-1781202600-1781209800@craiovalive.ro
SUMMARY:serArte – prezentări despre artă modernă și contemporană
DESCRIPTION:SerArtele revin la Gloriæ Art Gallery cu un nou modul de inițiere!\n\nOrganizăm un set de opt „SerArte” – prezentări și dezbateri menite să ofere o introducere accesibilă în istoria artei și în conceptele fundamentale ale artei moderne și contemporane. Este o inițiativă care îmbină educația cu plăcerea\, intelectul cu esteticul și informația cu dezbaterea. Sesiuni vor avea un caracter critic\, informativ și interactiv\, incluzând exemple relevante din arta europeană și americană. Cadrul explicativ va fi livrat de către Valentin Boiangiu\, lector principal în Fine Art\, cu o vastă experiență internațională.\n\nÎntâlnirile vor avea loc la GLORIÆ Art Gallery (str. Macedonski\, nr. 49)\, în zilele de joi\, între orele 18:30–20:30 (cu o scurtă pauză)\, după următorul calendar: 30 aprilie\, 7\, 14\, 28 mai\, 4\, 11\, 18\, 25 iunie\, între orele 18:30-20:30 (incluzând o scurtă pauză).\n\nSubiectele fiecărui curs SerArte:1. O poveste a artei vestice de la pictura rupestră la secolul al XX-lea (30 aprilie)2. Limbajul vizual – Cum să ne uităm la arta modernă și contemporană (7 mai)3. Desenul ca și metodă de expresie și căutare (14 mai)4. Modernism\, modernitate și impactul în societate (28 mai)5. Spiritul revoluționar 1 (4 iunie)6. Spiritul revoluționar 2 (11 iunie)7. Post-Modernism (18 iunie)8. Palimpsest contemporan în arta vizuală (25 iunie)\n\nTaxa de participare: 150 lei/persoană/sesiune. *Ofertă specială pentru toate cele 8 sesiuni: 1000 lei/persoană. Locurile sunt limitate.\nPentru mai multe informații și înscrieri\, ne puteți trimite un mesaj.
URL:https://craiovalive.ro/eveniment/serarte-prezentari-despre-arta-moderna-contemporana/2026-06-11/
LOCATION:Gloriæ Art Gallery\, Str. Alexandru Macedonski\, Nr. 49\, Craiova\, Dolj\, România
CATEGORIES:Conferință
ATTACH;FMTTYPE=image/jpeg:https://craiovalive.ro/wp-content/uploads/2026/04/serArte-–-prezentari-despre-arta-moderna-si-contemporana.jpg
ORGANIZER;CN="Glori%C3%A6 Art Gallery":MAILTO:office@gloriae.ro
GEO:44.312189;23.8001597
X-APPLE-STRUCTURED-LOCATION;VALUE=URI;X-ADDRESS=Gloriæ Art Gallery Str. Alexandru Macedonski Nr. 49 Craiova Dolj România;X-APPLE-RADIUS=500;X-TITLE=Str. Alexandru Macedonski\, Nr. 49:geo:23.8001597,44.312189
END:VEVENT
END:VCALENDAR