BEGIN:VCALENDAR
VERSION:2.0
PRODID:-//Craiova Live - ECPv6.15.18//NONSGML v1.0//EN
CALSCALE:GREGORIAN
METHOD:PUBLISH
X-ORIGINAL-URL:https://craiovalive.ro
X-WR-CALDESC:Evenimente pentru Craiova Live
REFRESH-INTERVAL;VALUE=DURATION:PT1H
X-Robots-Tag:noindex
X-PUBLISHED-TTL:PT1H
BEGIN:VTIMEZONE
TZID:Europe/Bucharest
BEGIN:DAYLIGHT
TZOFFSETFROM:+0200
TZOFFSETTO:+0300
TZNAME:EEST
DTSTART:20250330T010000
END:DAYLIGHT
BEGIN:STANDARD
TZOFFSETFROM:+0300
TZOFFSETTO:+0200
TZNAME:EET
DTSTART:20251026T010000
END:STANDARD
BEGIN:DAYLIGHT
TZOFFSETFROM:+0200
TZOFFSETTO:+0300
TZNAME:EEST
DTSTART:20260329T010000
END:DAYLIGHT
BEGIN:STANDARD
TZOFFSETFROM:+0300
TZOFFSETTO:+0200
TZNAME:EET
DTSTART:20261025T010000
END:STANDARD
BEGIN:DAYLIGHT
TZOFFSETFROM:+0200
TZOFFSETTO:+0300
TZNAME:EEST
DTSTART:20270328T010000
END:DAYLIGHT
BEGIN:STANDARD
TZOFFSETFROM:+0300
TZOFFSETTO:+0200
TZNAME:EET
DTSTART:20271031T010000
END:STANDARD
END:VTIMEZONE
BEGIN:VEVENT
DTSTART;VALUE=DATE:20260320
DTEND;VALUE=DATE:20260526
DTSTAMP:20260423T212249
CREATED:20260316T132946Z
LAST-MODIFIED:20260316T133309Z
UID:10014201-1773964800-1779753599@craiovalive.ro
SUMMARY:Colegiul Național Carol I - Bicentenar 1826–2026
DESCRIPTION:Bicentenar 1826–2026\n200 de ani de istorie. 200 de ani de excelență.\n\n\nÎn 2026\, Colegiul Național „Carol I” din Craiova aniversează două secole de la întemeiere. O istorie care a format generații\, a construit destine și a contribuit decisiv la cultura și educația românească.\n\n\nÎi invităm pe toți absolvenții\, profesorii și partenerii instituției să fie parte din manifestările dedicate acestui moment aniversar\, desfășurate în perioada martie–mai 2026\, cu punctul culminant în 20 mai — festivitatea oficială a bicentenarului.\n\n\nRevenim curând cu programul complet al evenimentelor.\n(lista partenerilor este in curs de actualizare)
URL:https://craiovalive.ro/eveniment/colegiul-national-carol-i-bicentenar-1826-2026/
LOCATION:Locații multiple\, Craiova\, Dolj\, România
CATEGORIES:Conferință
ATTACH;FMTTYPE=image/jpeg:https://craiovalive.ro/wp-content/uploads/2026/03/Colegiul-National-Carol-I-Bicentenar-1826–2026.jpg
GEO:44.3301785;23.7948808
END:VEVENT
BEGIN:VEVENT
DTSTART;TZID=Europe/Bucharest:20260402T170000
DTEND;TZID=Europe/Bucharest:20260402T190000
DTSTAMP:20260423T212249
CREATED:20260401T081542Z
LAST-MODIFIED:20260401T081542Z
UID:10014525-1775149200-1775156400@craiovalive.ro
SUMMARY:Lansare de carte „Credeți-mă că exist” - Camil Poenaru
DESCRIPTION:Joi\, 2 aprilie\, de la ora 17:00\, în sala „Acad. Dinu C. Giurescu”\, la Biblioteca Județeană Alexandru și Aristia Aman Craiova va avea loc lansarea volumului de versuri „Credeți-mă că exist” semnat de Camil Poenaru. \nLa eveniment vor fi prezenți invitații: \n\nMonica Berglund\nMircea Pospai\nPetrișor Militaru.\n\nActorul Constantin Cicort și violoncelistul Mircea Suchici vor oferi un moment liric celor prezenți. \nEvenimentul va fi moderat de către domnul Nicolae Marinescu\, director al Editurii Aius din Craiova.
URL:https://craiovalive.ro/eveniment/lansare-de-carte-credeti-ma-ca-exist-camil-poenaru/
LOCATION:Biblioteca Județeană Alexandru și Aristia Aman\, Str. M. Kogălniceanu\, nr. 9\, Craiova\, Dolj\, România
CATEGORIES:Conferință
ATTACH;FMTTYPE=image/jpeg:https://craiovalive.ro/wp-content/uploads/2026/04/Lansare-de-carte-„Credeti-ma-ca-exist-Camil-Poenaru.jpeg
ORGANIZER;CN="Biblioteca Jude%C8%9Bean%C4%83 Alexandru %C8%99i Aristia Aman":MAILTO:bib@aman.ro
GEO:44.3157663;23.796749
X-APPLE-STRUCTURED-LOCATION;VALUE=URI;X-ADDRESS=Biblioteca Județeană Alexandru și Aristia Aman Str. M. Kogălniceanu nr. 9 Craiova Dolj România;X-APPLE-RADIUS=500;X-TITLE=Str. M. Kogălniceanu\, nr. 9:geo:23.796749,44.3157663
END:VEVENT
END:VCALENDAR