BEGIN:VCALENDAR
VERSION:2.0
PRODID:-//Craiova Live - ECPv6.15.18//NONSGML v1.0//EN
CALSCALE:GREGORIAN
METHOD:PUBLISH
X-WR-CALNAME:Craiova Live
X-ORIGINAL-URL:https://craiovalive.ro
X-WR-CALDESC:Evenimente pentru Craiova Live
REFRESH-INTERVAL;VALUE=DURATION:PT1H
X-Robots-Tag:noindex
X-PUBLISHED-TTL:PT1H
BEGIN:VTIMEZONE
TZID:Europe/Bucharest
BEGIN:DAYLIGHT
TZOFFSETFROM:+0200
TZOFFSETTO:+0300
TZNAME:EEST
DTSTART:20250330T010000
END:DAYLIGHT
BEGIN:STANDARD
TZOFFSETFROM:+0300
TZOFFSETTO:+0200
TZNAME:EET
DTSTART:20251026T010000
END:STANDARD
BEGIN:DAYLIGHT
TZOFFSETFROM:+0200
TZOFFSETTO:+0300
TZNAME:EEST
DTSTART:20260329T010000
END:DAYLIGHT
BEGIN:STANDARD
TZOFFSETFROM:+0300
TZOFFSETTO:+0200
TZNAME:EET
DTSTART:20261025T010000
END:STANDARD
BEGIN:DAYLIGHT
TZOFFSETFROM:+0200
TZOFFSETTO:+0300
TZNAME:EEST
DTSTART:20270328T010000
END:DAYLIGHT
BEGIN:STANDARD
TZOFFSETFROM:+0300
TZOFFSETTO:+0200
TZNAME:EET
DTSTART:20271031T010000
END:STANDARD
END:VTIMEZONE
BEGIN:VEVENT
DTSTART;VALUE=DATE:20260320
DTEND;VALUE=DATE:20260526
DTSTAMP:20260424T015206
CREATED:20260316T132946Z
LAST-MODIFIED:20260316T133309Z
UID:10014201-1773964800-1779753599@craiovalive.ro
SUMMARY:Colegiul Național Carol I - Bicentenar 1826–2026
DESCRIPTION:Bicentenar 1826–2026\n200 de ani de istorie. 200 de ani de excelență.\n\n\nÎn 2026\, Colegiul Național „Carol I” din Craiova aniversează două secole de la întemeiere. O istorie care a format generații\, a construit destine și a contribuit decisiv la cultura și educația românească.\n\n\nÎi invităm pe toți absolvenții\, profesorii și partenerii instituției să fie parte din manifestările dedicate acestui moment aniversar\, desfășurate în perioada martie–mai 2026\, cu punctul culminant în 20 mai — festivitatea oficială a bicentenarului.\n\n\nRevenim curând cu programul complet al evenimentelor.\n(lista partenerilor este in curs de actualizare)
URL:https://craiovalive.ro/eveniment/colegiul-national-carol-i-bicentenar-1826-2026/
LOCATION:Locații multiple\, Craiova\, Dolj\, România
CATEGORIES:Conferință
ATTACH;FMTTYPE=image/jpeg:https://craiovalive.ro/wp-content/uploads/2026/03/Colegiul-National-Carol-I-Bicentenar-1826–2026.jpg
GEO:44.3301785;23.7948808
END:VEVENT
BEGIN:VEVENT
DTSTART;TZID=Europe/Bucharest:20260324T170000
DTEND;TZID=Europe/Bucharest:20260324T180000
DTSTAMP:20260424T015206
CREATED:20260319T155539Z
LAST-MODIFIED:20260319T155539Z
UID:10014373-1774371600-1774375200@craiovalive.ro
SUMMARY:Lansări de carte Biblioteca Județeană „Alexandru și Aristia Aman”
DESCRIPTION:Biblioteca Județeană „Alexandru și Aristia Aman” găzduiește marți\, 24 martie\, începând cu ora 17:00\, lansarea volumelor: „Reflexe și refracții”\, autor Rodica – Nicoleta Ion și „Apa trece…Epigramele rămân”\, semnat de Florea Radu. Evenimentul va avea loc in sala „Acad. Dinu C. Giurescu”\, în prezența invitaților: Leliana Mihaela Rădulescu\, Cornelia Georgescu și Cristina Raicu. De asemenea\, vor oferi momente artistice\, interpretând piese muzicale și recitând versuri invitații: Camelia Rogojinaru\, Emilia Ispas\, Teodora Dumitru și Tiberiu Stelian Dumitru. \n„Într-o lume care pare să-și piardă reperele\, Rodica Nicoleta Ion ne reamintește în cartea de față că arta și literatura rămân ultimele refugii ale demnității umane. \nFiecare aforism și fiecare reflecție din acest volum funcționează ca o lentilă care refractă lumina adevărului\, oferind cititorului nu doar răspunsuri\, ci mai ales curajul de a privi în interiorul propriului suflet. \nReflexii și refracții ne provoacă la o lectură despre esențe\, despre fragilitatea vieții și despre puterea nemărginită a spiritului de a se ridica deasupra încercărilor\, căutând neîncetat matricea binelui și a frumosului. \nRadu Florea\, un nume de referință printre epigramiștii olteni\, revine în atenția cititorilor cu un nou volum\, sugestiv intitulat Apa trece… epigramele rămân. \nSub semnul unui umor fin\, dar și al unei delicate morale\, pline de adevăr\, epigramistul Radu Florea își așterne gândurile cu un zâmbet discret\, prezent parcă la fiecare strofă\, reușind să îmbine hazul cu reflecția și îndemnând cititorul – direct sau indirect – să facă haz de necaz — lucru deloc ușor\, dar esențial pentru echilibrul interior. \nÎn spatele acestui volum se află o muncă susținută\, rodul a aproape zece ani de încercări\, și căutări\, rezultatul fiind nimic altul decât o culegere de epigrame cu o forță aparte\, al căror tâlc smulge zâmbete\, dar și pune pe gânduri.” – Cristian Dumitru\, director al Editurii Cristian PlusArt.
URL:https://craiovalive.ro/eveniment/lansari-de-carte-biblioteca-judeteana-alexandru-si-aristia-aman/
LOCATION:Biblioteca Județeană Alexandru și Aristia Aman\, Str. M. Kogălniceanu\, nr. 9\, Craiova\, Dolj\, România
CATEGORIES:Conferință
ATTACH;FMTTYPE=image/jpeg:https://craiovalive.ro/wp-content/uploads/2026/03/Lansari-de-carte-Biblioteca-Judeteana-„Alexandru-si-Aristia-Aman.jpg
ORGANIZER;CN="Biblioteca Jude%C8%9Bean%C4%83 Alexandru %C8%99i Aristia Aman":MAILTO:bib@aman.ro
GEO:44.3157663;23.796749
X-APPLE-STRUCTURED-LOCATION;VALUE=URI;X-ADDRESS=Biblioteca Județeană Alexandru și Aristia Aman Str. M. Kogălniceanu nr. 9 Craiova Dolj România;X-APPLE-RADIUS=500;X-TITLE=Str. M. Kogălniceanu\, nr. 9:geo:23.796749,44.3157663
END:VEVENT
BEGIN:VEVENT
DTSTART;TZID=Europe/Bucharest:20260326T160000
DTEND;TZID=Europe/Bucharest:20260326T173000
DTSTAMP:20260424T015206
CREATED:20260324T101833Z
LAST-MODIFIED:20260324T101833Z
UID:10014386-1774540800-1774546200@craiovalive.ro
SUMMARY:Lansare de carte „Aurelia Kitzu (Chițu) Arimondi (1866-1941). De pe marile scene ale lumii\, la Catedra de Canto de la Chicago Musical College. Fragmente de arheologie muzicală” - Nicoleta Presură Călina
DESCRIPTION:Muzeul Cărții și Exilului Românesc găzduiește joi\, 26 martie 2026\, la ora 16.00\, lansarea volumului „Aurelia Kitzu (Chițu) Arimondi (1866-1941). De pe marile scene ale lumii\, la Catedra de Canto de la Chicago Musical College. Fragmente de arheologie muzicală”\, autor Nicoleta Presură Călina\, volum apărut recent la Editura Vasiliana. \nEvenimentul se înscrie în seria manifestărilor organizate cu prilejul Anului Cultural România-Italia și celebrează împlinirea a 160 de ani de la nașterea craiovencei Aurelia Kitzu Arimondi\, artist liric. \nVor participa invitații: \n✓conf univ. dr. Oana Duță\, prodecan Facultatea de Litere\, Universitatea din Craiova \n✓Lucian Dindirică\, preș. Consiliul Științific al Muzeului Cărții și Exilului Românesc \n✓Ivona Stănculeasa\, consultant artistic\, Opera Română Craiova \nModeratorul acestui eveniment cultural va fi Carmen-Theodora Făgețeanu\, de la Filiala Craiova a Uniunii Scriitorilor din România.
URL:https://craiovalive.ro/eveniment/lansare-de-carte-aurelia-kitzu-chitu-arimondi-1866-1941-de-pe-marile-scene-ale-lumii-la-catedra-de-canto-de-la-chicago-musical-college-fragmente-de-arheologie-muzicala-nicol/
LOCATION:Muzeul Cărții și Exilului Românesc\, Str. 24 Ianuarie nr. 4\, Craiova\, Dolj\, România
CATEGORIES:Conferință
ATTACH;FMTTYPE=image/jpeg:https://craiovalive.ro/wp-content/uploads/2026/03/Lansare-de-carte-„Aurelia-Kitzu-Chitu-Arimondi-1866-1941.-De-pe-marile-scene-ale-lumii-la-Catedra-de-Canto-de-la-Chicago-Musical-College.-Fragmente-de-arheologie-muzicala-Nicoleta-Presura-Calina.jpeg
GEO:44.3141881;23.7984041
X-APPLE-STRUCTURED-LOCATION;VALUE=URI;X-ADDRESS=Muzeul Cărții și Exilului Românesc Str. 24 Ianuarie nr. 4 Craiova Dolj România;X-APPLE-RADIUS=500;X-TITLE=Str. 24 Ianuarie nr. 4:geo:23.7984041,44.3141881
END:VEVENT
BEGIN:VEVENT
DTSTART;TZID=Europe/Bucharest:20260326T170000
DTEND;TZID=Europe/Bucharest:20260326T183000
DTSTAMP:20260424T015206
CREATED:20260324T105608Z
LAST-MODIFIED:20260324T105608Z
UID:10014387-1774544400-1774549800@craiovalive.ro
SUMMARY:Lansare de carte „Drumeție fără de sfârșit”\, Luminița Bufanu
DESCRIPTION:Biblioteca Județeană „Alexandru și Aristia Aman” găzduiește joi\, 26 martie\, începând cu ora 17:00\, lansarea volumului: „Drumeție fără de sfârșit”\, semnat de Luminița Bufanu. Evenimentul va avea loc in sala „Acad. Dinu C. Giurescu”\, în prezența invitaților: Mircea Pospai\, scriitor\, jurnalist\, Luciana Troaca\, psiholog clinician și psihoterapeut integrativ\, Mihaela Roșianu\,  doctor și  expert în wellness holistic. Întâlnirea va fi moderată de Andrada Cojocaru\, jurnalist\, președinte filiala „Tudor Arghezi” Craiova a Uniunea Ziariștilor Profesioniști din România. \n„Cartea doamnei Luminița Bufanu se înscrie\, în principiu\, în categoria notelor de călătorie\, unul dintre primele genuri literare de graniță\, bazat pe capacitatea de selecție\, memorarea și descrierea faptelor\, dozarea inteligentă a exprimării emoțiilor. Autoarea insistă asupra prezentării locurilor prin care a trecut\, stărilor de spirit individuale și de echipă în anumite împrejurări\, momentelor de exaltare sau de ezitare\, portretelor reprezentative ale oamenilor întâlniți sau ale celor din – liniuță toate acestea conducând la o remarcabilă reușită a scriiturii și determinând o lectură agreabilă a cărții.” – Mircea Pospai\, scriitor. \n„Admir de mai bine de 35 de ani ambiția și deterrminarea Luminiței atunci când decide să facă ceva: mă mut la Bucuresti\, mai fac un copil\,  particip la maratoane\, alerg noaptea\, mers pe Via Transilvanica\, scriu cărți … Nimic nu este prea mult\, sau prea greu atunci când isi propune un obiectiv. \nÎn această carte\, pe care a scris-o după parcurgerea a 1000 km din Via Transilvanica\, Luminița începe prin a descrie perioada de pregătire și planificare a etapelor drumeției\, atât fizic\, material\, precum și frământările pe care le trăiește și le expune cu atâta farmec. \nÎn partea a doua\, călătoria propriu zisă\, observă cu atenție și sensibilitate mediul și oamenii\, dovedind o extraordinară prezență în aici și acum. În plus realizează o analiză profundă a stărilor și emoțiilor interioare proprii\, neîncercând să se ascunda\, dovedind o asumare matură a acestora. \nÎn cea de-a treia parte ne oferă cu nostalgie și tandrete ce a însemnat încheierea acestei călătorii și cum se reflectă aceasta în viața ei de zi cu zi. \nÎn cea de-a patra parte\, care este și ultima a acestei cărți\, prezintă detaliile tehnice\, care pot fi de folos oricui dorește să parcurgă această drumeție. \nEste o carte care m-a prins și m-a făcut să o citesc cu bucurie\, trezindu-mi dorința de a parcurge la pas cât mai mult din frumusețile acestei țări superbe.” Luciana Troacă\, psiholog clinician și psihoterapeut integrative.
URL:https://craiovalive.ro/eveniment/lansare-de-carte-drumetie-fara-de-sfarsit-luminita-bufanu/
LOCATION:Biblioteca Județeană Alexandru și Aristia Aman\, Str. M. Kogălniceanu\, nr. 9\, Craiova\, Dolj\, România
CATEGORIES:Conferință
ATTACH;FMTTYPE=image/jpeg:https://craiovalive.ro/wp-content/uploads/2026/03/Lansare-de-carte-„Drumetie-fara-de-sfarsit-Luminita-Bufanu.jpeg
ORGANIZER;CN="Biblioteca Jude%C8%9Bean%C4%83 Alexandru %C8%99i Aristia Aman":MAILTO:bib@aman.ro
GEO:44.3157663;23.796749
X-APPLE-STRUCTURED-LOCATION;VALUE=URI;X-ADDRESS=Biblioteca Județeană Alexandru și Aristia Aman Str. M. Kogălniceanu nr. 9 Craiova Dolj România;X-APPLE-RADIUS=500;X-TITLE=Str. M. Kogălniceanu\, nr. 9:geo:23.796749,44.3157663
END:VEVENT
BEGIN:VEVENT
DTSTART;TZID=Europe/Bucharest:20260326T180000
DTEND;TZID=Europe/Bucharest:20260326T190000
DTSTAMP:20260424T015206
CREATED:20260324T140950Z
LAST-MODIFIED:20260324T141013Z
UID:10014389-1774548000-1774551600@craiovalive.ro
SUMMARY:Atelierele Exilului - Omul dintre lumi: Basarab Nicolescu și aventura cunoașterii
DESCRIPTION:Muzeul Cărții și Exilului Românesc organizează joi 26 martie\, începând cu ora 18\, în cadrul Atelierelor Exilului\, evenimentul Omul dintre lumi: Basarab Nicolescu și aventura cunoașterii\, dedicat celebrării personalității complexe a domniei sale. Evenimentul celebrează 84 de ani de la nașterea marelui savant. \nCu această ocazie va avea loc o sesiune de comunicări dedicate lui Basarab Nicolescu din multiple perspective\, precum cea de om de știință\, fizician\, literat sau gânditor profund ancorat în realitatea exilului. Omul dintre lumi – Basarab Nicolescu este o personalitate marcantă a exilului românesc postbelic\, un gânditor rafinat\, un om de știință ancorat în actualitate\, dar pe care reușește să o depășească și să anticipeze noi domenii inovative de cercetare. \nLa eveniment vor lua cuvântul: Lucian Dindirică\, Radu Constantinescu\, Petrișor Militaru\, Gabriel Nedelea\, Cristina Gelep. \nModeratorul evenimentului este Lucian Dindirică\, președinte al Consiliului Științific al Muzeului Cărții și Exilului Românesc. \nBasarab NICOLESCU (n. 25 martie 1942\, Ploiești) este fizician\, filosof\, eseist și scriitor. A absolvit Facultatea de Fizică a Universității din București\, în cadrul căreia\, în 1965\, și-a luat doctoratul și a devenit asistent. Și-a cultivat pasiunea pentru literatură și a debutat editorial în 1968 cu volumul de hermeneutică Ion Barbu. Cosmologia „Jocului secund”\, primit și recenzat cu entuziasm în mediile intelectuale autohtone. În 1968 avea să obțină o bursă a guvernului francez pentru a studia la Universitatea „Pierre și Marie Curie”\, urmată de o a doua bursă\, „Joliot Curie”\, din partea Comisariatului pentru Energie Atomică din Franța\, pentru aceeași universitate\, care i-a acordat titlul de „Doctoeur d’État” în 1972. Anul 1968 este anul în care și-a început exilul în Franța\, revenind prima dată în România în 1993. A contribuit la consolidarea și solidarizarea prin cultură a comunității românești din „Hexagon”\, continuându-și preocupările literare și filosofice. \nA participat la Cenaclul de la Neuilly\, a publicat în revistele culturale ale exilului – Limite\, Cuvântul românesc\, Ethos etc.\, devenind președinte al asociației „Hyperion”\, înființată în 1981\, care promovează și facilitează circulația internațională a cărții românești. \nDe asemenea\, a pus bazele epistemologice ale transdisciplinarității\, oferind\, astfel\, o perspectivă integratoare și umanistă asupra cunoașterii\, în genere\, dedicându-se studiului vaselor comunicante dintre științe\, filosofie și arte. \nA coordonat colecția „Românii din Paris” la editura Oxus (Paris)\, la care au apărut studii monografice despre Gherasim Luca\, Tristan Tzara\, Victor Brauner\, Mircea Eliade\, Eugène Ionesco\, reluate și în limba română la jumătatea anilor 2000 la Editura Junimea. \nÎncepând cu anii 1990 s-a implicat\, în mod determinant\, atât în implementarea transdisciplinarității în mediul academic din România\, cât și în cunoașterea și promovarea culturii exilului românesc: Conducător de doctorate în aceste direcţii la Universitatea Babeş-Bolyai din Cluj Napoca\, Coordonator al colecţiilor „Transdisciplinaritate” (Rocher\, Monaco)\, „Românii din Paris” (Oxus\, Paris)\, „Ştiintă şi Religie” (Curtea Veche\, Bucureşti) şi „Memoria exilului – Restituiri culturale” (Dacia\, Cluj-Napoca)\, Basarab Nicolescu este o personalitate complexă și plurivalentă a culturii românești\, în general\, precum și a celei universale\, în special. Fizician\, filosof\, eseist și scriitor\, fondatorul transdisiplinarității deschide prin opera sa științifică drumul spre noi orizonturi de cercetare\, marcate de o riguroasă cunoaștere\, dar și de o sensibilitate atent cultivată.
URL:https://craiovalive.ro/eveniment/atelierele-exilului-omul-dintre-lumi-basarab-nicolescu-si-aventura-cunoasterii/
LOCATION:Muzeul Cărții și Exilului Românesc\, Str. 24 Ianuarie nr. 4\, Craiova\, Dolj\, România
CATEGORIES:Conferință
ATTACH;FMTTYPE=image/jpeg:https://craiovalive.ro/wp-content/uploads/2026/03/Atelierele-Exilului-Omul-dintre-lumi-Basarab-Nicolescu-si-aventura-cunoasterii.jpeg
GEO:44.3141881;23.7984041
X-APPLE-STRUCTURED-LOCATION;VALUE=URI;X-ADDRESS=Muzeul Cărții și Exilului Românesc Str. 24 Ianuarie nr. 4 Craiova Dolj România;X-APPLE-RADIUS=500;X-TITLE=Str. 24 Ianuarie nr. 4:geo:23.7984041,44.3141881
END:VEVENT
BEGIN:VEVENT
DTSTART;TZID=Europe/Bucharest:20260326T183000
DTEND;TZID=Europe/Bucharest:20260326T200000
DTSTAMP:20260424T015206
CREATED:20260323T110243Z
LAST-MODIFIED:20260323T110243Z
UID:10014385-1774549800-1774555200@craiovalive.ro
SUMMARY:Atelierele Exilului: Fenomenologia muzicală aplicată la Simfonia a IV-a de Ceaikovski
DESCRIPTION:Muzeul Cărții și Exilului Românesc organizează joi\, 26 martie 2026\, începând cu ora 18 30\, în sala Multimedia\, conferința Fenomenologia muzicală aplicată la Simfonia a IV-a de Ceaikovski. Conferința\, organizată în cadrul proiectului Atelierele Exilului\, Seria Academică\, va fi susținută de către celebrul dirijor Octav Calleya și se adresează deopotrivă specialiștilor și publicului larg. \nEvenimentul va include vizionarea unor momente muzicale\, alese cu grijă de către maestrul Octav Calleya\, care vor puncta demonstrația sa teoretică. Prin acest intermezzo\, dirijorul propune o viziune critică\, amplă\, concretizată în cadrul unei fenomenologii muzicale originale\, ce continuă dialogul dintr-o perspectivă personală cu cea a altor muzicieni celebri. \nConferința va fi completată de un dialog între dirijorul Octav Calleya și publicul prezent. \nOctav Calleya\, dirijor\, profesor\, scriitor\, s-a perfecționat în arta dirijatului cu Sergiu Celibidache și Franco Ferrara. Profesor la Conservatorul Superior de Muzică din Malaga\, dirijor în numeroase orchestre din țară și străinătate\, fondator al Asociației Conducting Act\, Octav Calleya a îngrijit volumul „Muzica și culorile\, gramatică și matematică” al lui Dumitru Milcoveanu. \nColecția dirijorului Octav Calleya face parte din patrimoniul Muzeului Cărții și \nExilului Românesc din Craiova și reunește o serie de partituri: muzică de cameră\, muzică contemporană\, numeroase cd-uri\, casete video\, cărți și fotografii inedite\, ce surprind ipostaze din viața personală și profesională a dirijorului. \nEvenimentul este moderat de către Rodica Constanda\, asistent de cercetare în cadrul Muzeului Cărții și Exilului Românesc.
URL:https://craiovalive.ro/eveniment/atelierele-exilului-fenomenologia-muzicala-aplicata-la-simfonia-a-iv-a-de-ceaikovski/
LOCATION:Muzeul Cărții și Exilului Românesc\, Str. 24 Ianuarie nr. 4\, Craiova\, Dolj\, România
CATEGORIES:Conferință
ATTACH;FMTTYPE=image/jpeg:https://craiovalive.ro/wp-content/uploads/2026/03/Atelierele-Exilului-Fenomenologia-muzicala-aplicata-la-Simfonia-a-IV-a-de-Ceaikovski.jpeg
GEO:44.3141881;23.7984041
X-APPLE-STRUCTURED-LOCATION;VALUE=URI;X-ADDRESS=Muzeul Cărții și Exilului Românesc Str. 24 Ianuarie nr. 4 Craiova Dolj România;X-APPLE-RADIUS=500;X-TITLE=Str. 24 Ianuarie nr. 4:geo:23.7984041,44.3141881
END:VEVENT
BEGIN:VEVENT
DTSTART;TZID=Europe/Bucharest:20260327T183000
DTEND;TZID=Europe/Bucharest:20260327T193000
DTSTAMP:20260424T015206
CREATED:20260325T105909Z
LAST-MODIFIED:20260325T105909Z
UID:10014398-1774636200-1774639800@craiovalive.ro
SUMMARY:Lansare de carte Intelectualii și societatea - Thomas Sowell
DESCRIPTION:Muzeul Cărții și Exilului Românesc găzduiește vineri\, 27 martie 2026\, la ora 18.30\, lansarea volumului Intelectualii și societatea\, autor Thomas Sowell\, tradus în limba română de Alexandru Gafton și Adina Chirilă\, publicat la Editura Universității „Lucian Blaga” din Sibiu\, în 2025. \nLa acest eveniment organizat de către Universitatea din Craiova în colaborare cu Facultatea de Litere\, Departamentul de Limba și Literatura Română și Școala Doctorală „Alexandru Piru” vor participa Prof. univ. dr. Alexandru Gafton – Universitatea „Alexandru Ioan Cuza din Iași\, Prof. univ. dr. Nicu Panea – Universitatea din Craiova și Prof. univ. dr. Ioan Milică – Universitatea „Alexandru Ioan Cuza” din Iași. \nModeratorul evenimentului va fi Lect. univ. dr. Lucian Dindirică\, președinte al Consiliului Științific al Muzeului Cărții și Exilului Românesc. \n(Într-un context vitreg\, autorul pledează în direcția unei paradigme intelectual-cerebrale obținute prin achiziționarea echipamentului ce permite aflarea adevărului și înțelegerea autentică a stărilor și proceselor realității (ceea ce presupune în mod implicit dobândirea capacității de a opera verificarea rațională și metodică a oricărui gând\, a oricărei afirmații percepute\, concepute și transmise). \n(Alexandru Gafton\, Adina Chirilă)
URL:https://craiovalive.ro/eveniment/lansare-de-carte-intelectualii-si-societatea-thomas-sowell/
LOCATION:Muzeul Cărții și Exilului Românesc\, Str. 24 Ianuarie nr. 4\, Craiova\, Dolj\, România
CATEGORIES:Conferință
ATTACH;FMTTYPE=image/jpeg:https://craiovalive.ro/wp-content/uploads/2026/03/Lansare-de-carte-Intelectualii-si-societatea-Thomas-Sowell.jpeg
GEO:44.3141881;23.7984041
X-APPLE-STRUCTURED-LOCATION;VALUE=URI;X-ADDRESS=Muzeul Cărții și Exilului Românesc Str. 24 Ianuarie nr. 4 Craiova Dolj România;X-APPLE-RADIUS=500;X-TITLE=Str. 24 Ianuarie nr. 4:geo:23.7984041,44.3141881
END:VEVENT
END:VCALENDAR