BEGIN:VCALENDAR
VERSION:2.0
PRODID:-//Craiova Live - ECPv6.15.18//NONSGML v1.0//EN
CALSCALE:GREGORIAN
METHOD:PUBLISH
X-WR-CALNAME:Craiova Live
X-ORIGINAL-URL:https://craiovalive.ro
X-WR-CALDESC:Evenimente pentru Craiova Live
REFRESH-INTERVAL;VALUE=DURATION:PT1H
X-Robots-Tag:noindex
X-PUBLISHED-TTL:PT1H
BEGIN:VTIMEZONE
TZID:Europe/Bucharest
BEGIN:DAYLIGHT
TZOFFSETFROM:+0200
TZOFFSETTO:+0300
TZNAME:EEST
DTSTART:20250330T010000
END:DAYLIGHT
BEGIN:STANDARD
TZOFFSETFROM:+0300
TZOFFSETTO:+0200
TZNAME:EET
DTSTART:20251026T010000
END:STANDARD
BEGIN:DAYLIGHT
TZOFFSETFROM:+0200
TZOFFSETTO:+0300
TZNAME:EEST
DTSTART:20260329T010000
END:DAYLIGHT
BEGIN:STANDARD
TZOFFSETFROM:+0300
TZOFFSETTO:+0200
TZNAME:EET
DTSTART:20261025T010000
END:STANDARD
BEGIN:DAYLIGHT
TZOFFSETFROM:+0200
TZOFFSETTO:+0300
TZNAME:EEST
DTSTART:20270328T010000
END:DAYLIGHT
BEGIN:STANDARD
TZOFFSETFROM:+0300
TZOFFSETTO:+0200
TZNAME:EET
DTSTART:20271031T010000
END:STANDARD
END:VTIMEZONE
BEGIN:VEVENT
DTSTART;TZID=Europe/Bucharest:20260226T183000
DTEND;TZID=Europe/Bucharest:20260226T203000
DTSTAMP:20260423T212109
CREATED:20251030T213235Z
LAST-MODIFIED:20260204T164642Z
UID:10013033-1772130600-1772137800@craiovalive.ro
SUMMARY:serArte – prezentări despre artă modernă și contemporană (modul 2)
DESCRIPTION:SerArtele revin la galerie! În această iarnă vă invităm la cel de-al doilea modul de cursuri dedicate artei moderne și contemporane\, coordonate de lectorul Valentin Boiangiu.\nContinuăm serile la galerie în care îmbinăm educația cu plăcerea\, intelectul cu esteticul și informația cu dezbaterea. Noul modul cuprinde opt întâlniri de aprofundare\, pentru inițiați\, create pentru a oferi o perspectivă mai detaliată asupra conceptelor esențiale ale artei moderne și contemporane.\nSesiunile vor avea un caracter critic\, analitic\, informativ și interactiv\, ilustrate prin exemple semnificative din arta europeană și americană. Valentin Boiangiu\, lector principal în Fine Art\, cu o vastă experiență internațională\, va oferi cadrul explicativ și conceptual al acestor explorări.\nÎntâlnirile vor avea loc la GLORIÆ Art Gallery\, în zilele de joi\, între orele 18:30–20:30 (cu o scurtă pauză)\, după următorul calendar: 27 noiembrie\, 4\, 11\, 18 decembrie (2025)\, 15\, 22\, 29 ianuarie\, 5 februarie (2026).\n\nSubiectele cursurilor modulului 2:Pictura Contemporană\, Mediu de Succes? (27 noiembrie 2025)Desenul ca Act Performativ (4 decembrie)Arta în Spațiul Public (11 decembrie)Medii/Locații Artistice (18 decembrie)Æstetica-Frumosul (22 ianuarie 2026)Æstetica-Urâtul (29 ianuarie)Știința și Arta (26 februarie)Cercetarea în Artă și Design sau Pop Art (5 martie)\n\nTaxa de participare: 150 lei/persoană/sesiune.Ofertă specială pentru toate cele opt sesiuni: 1000 lei/persoană. Locurile sunt limitate. Pentru detalii și înscrieri\, puteți scrie un mesaj pe pagina de Facebook a Gloriæ Art Gallery.
URL:https://craiovalive.ro/eveniment/serarte-prezentari-despre-arta-moderna-si-contemporana-modul-2/2026-02-26/
LOCATION:Gloriæ Art Gallery\, Str. Alexandru Macedonski\, Nr. 49\, Craiova\, Dolj\, România
CATEGORIES:Conferință
ATTACH;FMTTYPE=image/jpeg:https://craiovalive.ro/wp-content/uploads/2025/10/serArte-–-prezentari-despre-arta-moderna-si-contemporana-modul-2.jpg
ORGANIZER;CN="Glori%C3%A6 Art Gallery":MAILTO:office@gloriae.ro
GEO:44.312189;23.8001597
X-APPLE-STRUCTURED-LOCATION;VALUE=URI;X-ADDRESS=Gloriæ Art Gallery Str. Alexandru Macedonski Nr. 49 Craiova Dolj România;X-APPLE-RADIUS=500;X-TITLE=Str. Alexandru Macedonski\, Nr. 49:geo:23.8001597,44.312189
END:VEVENT
BEGIN:VEVENT
DTSTART;TZID=Europe/Bucharest:20260227T110000
DTEND;TZID=Europe/Bucharest:20260227T130000
DTSTAMP:20260423T212109
CREATED:20260225T114542Z
LAST-MODIFIED:20260225T114542Z
UID:10014095-1772190000-1772197200@craiovalive.ro
SUMMARY:Omagiu Marin Sorescu
DESCRIPTION:Biblioteca Județeană „Alexandru și Aristia Aman” organizează vineri\, 27 februarie\, începând cu ora 11:00\, evenimentul intitulat „Omagiu Marin Sorescu”. \nCu acest prilej vor fi lansate volumele „Eu și Marin Sorescu”\, semnat de Beatrice Silvia Sorescu\, „Frânturi de viață”\, autor Nicolae Bălașa\, precum și „Portative”\, scris de Daniela Barbu. \nEvenimentul va avea loc in sala „Acad. Dinu C. Giurescu”\, în prezența invitaților: Tudor Nedelcea\, Dan Lupescu\, Mircea Pospai\, Nicolae Marinescu\, Cătălin Ghițuleasa\, Radu Ionete. De asemenea\, vor oferi momente artistice\, interpretând piese muzicale și recitând versuri invitații: Paliu Aylin Maria\, Florescu Carol\, Prunoiu Ovidiu\, Florescu Sara Maria\, Pascu Nicolas\, Călin Vlad Constantin. \nModerator al întâlnirii este doamna prof. univ. dr. habil. Gabriela Păsărin. \nParticipă elevi de la Liceul „Marin Sorescu” și Școala Gimnazială „Traian”\, Craiova. \n„Eu și Marin Sorescu\, autor Beatrice Silvia Sorescu\, cuprinde atât  memorialistică\, cât și poeme  ce fac trimitere la numeroase teme întâlnite în literatură. Volumul este un omagiu adus scriitorului Marin Sorescu\, acum când acesta ar fi împlinit 90 de ani de viață. Aceste microeseuri prezente aduc în imagine figura lui Sorescu în relațiile cu familia\, preocupările sale\, momente intime din viața poetului. \nFrânturi de viață\, autorNicolae Bălașa\, este o compilație de fragmente din cărțile anterior publicate\, compilație în care autorul le pune într-o anumită ordine\, în ideea de a contura spațiul social-politic și cultural al poporului român\, în contextul politic internațional. În paginile cărții\, dincolo de dramă\, există ironie și umor. \nPortative\, autor Daniela Barbu\, tot nepoată de frate a lui Marin Sorescu\, este un volum ce îndeamnă la interpretare și trăire\, un volum dens în care vibrează lumină cuvântului. Poemele sale substanțializează lumea banalului contingent\, căruia îi dă culoare.” – Beatrice Silvia Sorescu\, autoarea volumului Eu și Marin Sorescu.
URL:https://craiovalive.ro/eveniment/omagiu-marin-sorescu/
LOCATION:Biblioteca Județeană Alexandru și Aristia Aman\, Str. M. Kogălniceanu\, nr. 9\, Craiova\, Dolj\, România
CATEGORIES:Conferință
ATTACH;FMTTYPE=image/jpeg:https://craiovalive.ro/wp-content/uploads/2026/02/Omagiu-Marin-Sorescu.jpeg
ORGANIZER;CN="Biblioteca Jude%C8%9Bean%C4%83 Alexandru %C8%99i Aristia Aman":MAILTO:bib@aman.ro
GEO:44.3157663;23.796749
X-APPLE-STRUCTURED-LOCATION;VALUE=URI;X-ADDRESS=Biblioteca Județeană Alexandru și Aristia Aman Str. M. Kogălniceanu nr. 9 Craiova Dolj România;X-APPLE-RADIUS=500;X-TITLE=Str. M. Kogălniceanu\, nr. 9:geo:23.796749,44.3157663
END:VEVENT
BEGIN:VEVENT
DTSTART;TZID=Europe/Bucharest:20260227T180000
DTEND;TZID=Europe/Bucharest:20260227T190000
DTSTAMP:20260423T212109
CREATED:20260224T130915Z
LAST-MODIFIED:20260224T130915Z
UID:10014064-1772215200-1772218800@craiovalive.ro
SUMMARY:Lansare de carte „Elena Teodorini. Una diva europea tra Ottocento e Novecento. Il primo soprano romeno alla Scala” - Ida Garzonio & Violeta Popescu
DESCRIPTION:Lansarea cărții „Elena Teodorini. Una diva europea tra Ottocento e Novecento. Il primo soprano romeno alla Scala”\, de Ida Garzonio și Violeta Popescu\, publicată de editura Rediviva.\nLansarea va avea loc vineri\, 27 februarie\, de la ora 18.00\, în foaierul Teatrului Național Marin Sorescu\, în prezența autoarei Violeta Popescu\, în dialog cu Florin Popențiu Vlădicescu\, strănepotul ilustrei soprane.\nVolumul-eveniment este mai mult decât un proiect editorial\, este un gest de memorie culturală. Realizat de Centrul Cultural Italo-Român din Milano\, cu sprijinul Arhivei Istorice Ricordi și al Operei Române Craiova\, volumul reașază în lumină o biografie care a traversat frontiere\, epoci și mentalități.\nNăscută la Craiova\, într-o familie care trăia pentru scenă (Teodor și Maria Teodorini\, ctitori ai primei trupe de artiști din Craiova)\, Elena pleacă în 1871 la Conservatorul din Milano. Este începutul unui drum care o va purta prin marile capitale ale Europei până în America de Sud\, unde publicul o aclamă\, iar presa o consacră. Cartea urmărește\, pas cu pas\, această devenire – de la entuziasmul începutului\, la maturitatea unei artiste care se întoarce definitiv în țară în 1924 și se stinge la București\, în 1926.\nConstruit într-o arhitectură care împletește biografia cu istoria teatrului\, cronica muzicală și activitatea pedagogică\, volumul propune o reconstrucție atentă și profundă a unei figuri centrale a scenei lirice internaționale. Autoarele\, Ida Garzonio și Violeta Popescu\, subliniază că acest demers reprezintă o etapă esențială în valorizarea marilor personalități române care au marcat istoria liricii mondiale.\nAccesul la eveniment este liber.
URL:https://craiovalive.ro/eveniment/lansare-de-carte-elena-teodorini-una-diva-europea-tra-ottocento-e-novecento-il-primo-soprano-romeno-alla-scala-ida-garzonio-violeta-popescu/
LOCATION:Teatrul Național Craiova – Foaier\, Str. A. I. Cuza\, nr. 11\, Craiova\, Dolj\, 200585\, România
CATEGORIES:Conferință
ATTACH;FMTTYPE=image/jpeg:https://craiovalive.ro/wp-content/uploads/2026/02/Lansare-de-carte-„Elena-Teodorini.-Una-diva-europea-tra-Ottocento-e-Novecento.-Il-primo-soprano-romeno-alla-Scala-Ida-Garzonio-Violeta-Popescu.jpg
ORGANIZER;CN="Opera Rom%C3%A2n%C4%83 Craiova":MAILTO:rezervari@operacraiova.ro
GEO:44.3186661;23.8003743
X-APPLE-STRUCTURED-LOCATION;VALUE=URI;X-ADDRESS=Teatrul Național Craiova – Foaier Str. A. I. Cuza nr. 11 Craiova Dolj 200585 România;X-APPLE-RADIUS=500;X-TITLE=Str. A. I. Cuza\, nr. 11:geo:23.8003743,44.3186661
END:VEVENT
BEGIN:VEVENT
DTSTART;TZID=Europe/Bucharest:20260228T150000
DTEND;TZID=Europe/Bucharest:20260302T190000
DTSTAMP:20260423T212109
CREATED:20260224T094128Z
LAST-MODIFIED:20260224T094531Z
UID:10014060-1772290800-1772478000@craiovalive.ro
SUMMARY:SORESCU 90
DESCRIPTION:SORESCU 90\, la Național \n Videoproiecții | Lansare volum de poezii | Expoziție\n\n\nTeatrul Național „Marin Sorescu” Craiova își omagiază patronul spiritual\, Marin Sorescu\, la 90 de ani de la naștere\, printr-o serie de evenimente speciale care vor avea loc în perioada 28 februarie – 2 martie 2026.\n\n\n\n Programul evenimentelor:\n\n\n\n 28 februarie | ora 17:00 | Sala Atelier\n Videoproiecția spectacolului Matca\nRegia: Daniela Peleanu\nScenografia: Viorel Penișoară-Stegaru\nCu: Anca Dragomir și Vasile Cosma\n\n\n\n 1 martie | ora 17.00 | Sala Atelier\n Videoproiecția spectacolului-eveniment Vărul Shakespeare\nRegia: Mircea Cornișteanu\nDin distribuția premierei din 1990 fac parte\, printre alții: Natașa Raab\, Ilie Gheorghe\, Tudor Gheorghe\n\n\n\n 2 martie | ora 17:00 | Sala Atelier\n Videoproiecția spectacolului IONA (2016)\nCu Ilie Gheorghe\n\n\nDupă premiera monodramei din stagiunea 1994-1995\, Marin Sorescu declara:\n „Sunt un vechi admirator al actorului Ilie Gheorghe. În Iona el a făcut un spectacol extraordinar. Cred că-i cel mai frumos spectacol cu Iona care s-a realizat până acum.”\n\n\n\n Sâmbătă | 28 februarie | ora 15.00\nVa avea loc lansarea volumului de poezii „TRUNCHIATE”\, care reunește texte nepublicate\, descoperite de familie după moartea scriitorului – facsimile ale foilor dactilografiate de poet\, însoțite de desene realizate de acesta.\n\n\n Expoziție în foaierul teatrului\nPublicul va putea vizita o expoziție de afișe ale spectacolelor puse în scenă după textele dramatice ale lui Marin Sorescu.\n\n\n Reamintim că\, în anul 2005\, Marin Sorescu a devenit patronul spiritual al Teatrului Național din Craiova\, la inițiativa directorului de atunci\, Mircea Cornișteanu.\n\n\n Vă așteptăm să celebrăm împreună moștenirea unui mare creator al culturii române!
URL:https://craiovalive.ro/eveniment/sorescu-90/
LOCATION:Teatrul Național Marin Sorescu Craiova\, Str. A. I. Cuza\, nr. 11\, Craiova\, Dolj\, 200585\, România
CATEGORIES:Conferință,Expoziție,Film,Teatru
ATTACH;FMTTYPE=image/jpeg:https://craiovalive.ro/wp-content/uploads/2024/03/Teatrul-National-Craiova-evenimente.jpg
ORGANIZER;CN="Teatrul Na%C8%9Bional Marin Sorescu Craiova":MAILTO:secretariat@tncms.ro
GEO:44.318967618949;23.799117766692
X-APPLE-STRUCTURED-LOCATION;VALUE=URI;X-ADDRESS=Teatrul Național Marin Sorescu Craiova Str. A. I. Cuza nr. 11 Craiova Dolj 200585 România;X-APPLE-RADIUS=500;X-TITLE=Str. A. I. Cuza\, nr. 11:geo:23.799117766692,44.318967618949
END:VEVENT
END:VCALENDAR