BEGIN:VCALENDAR
VERSION:2.0
PRODID:-//Craiova Live - ECPv6.15.18//NONSGML v1.0//EN
CALSCALE:GREGORIAN
METHOD:PUBLISH
X-WR-CALNAME:Craiova Live
X-ORIGINAL-URL:https://craiovalive.ro
X-WR-CALDESC:Evenimente pentru Craiova Live
REFRESH-INTERVAL;VALUE=DURATION:PT1H
X-Robots-Tag:noindex
X-PUBLISHED-TTL:PT1H
BEGIN:VTIMEZONE
TZID:Europe/Bucharest
BEGIN:DAYLIGHT
TZOFFSETFROM:+0200
TZOFFSETTO:+0300
TZNAME:EEST
DTSTART:20250330T010000
END:DAYLIGHT
BEGIN:STANDARD
TZOFFSETFROM:+0300
TZOFFSETTO:+0200
TZNAME:EET
DTSTART:20251026T010000
END:STANDARD
BEGIN:DAYLIGHT
TZOFFSETFROM:+0200
TZOFFSETTO:+0300
TZNAME:EEST
DTSTART:20260329T010000
END:DAYLIGHT
BEGIN:STANDARD
TZOFFSETFROM:+0300
TZOFFSETTO:+0200
TZNAME:EET
DTSTART:20261025T010000
END:STANDARD
BEGIN:DAYLIGHT
TZOFFSETFROM:+0200
TZOFFSETTO:+0300
TZNAME:EEST
DTSTART:20270328T010000
END:DAYLIGHT
BEGIN:STANDARD
TZOFFSETFROM:+0300
TZOFFSETTO:+0200
TZNAME:EET
DTSTART:20271031T010000
END:STANDARD
END:VTIMEZONE
BEGIN:VEVENT
DTSTART;TZID=Europe/Bucharest:20260127T090000
DTEND;TZID=Europe/Bucharest:20260127T170000
DTSTAMP:20260424T015132
CREATED:20260112T103628Z
LAST-MODIFIED:20260112T184349Z
UID:10012743-1769504400-1769533200@craiovalive.ro
SUMMARY:Săptămână dedicată Zilei Culturii Naționale la Muzeul Cărții și Exilului Românesc
DESCRIPTION:🏛️Muzeul Cărții și Exilului Românesc dedică săptămâna 12-18 ianuarie 𝒁𝒊𝒍𝒆𝒊 𝑪𝒖𝒍𝒕𝒖𝒓𝒊𝒊 𝑵𝒂𝒕̦𝒊𝒐𝒏𝒂𝒍𝒆 și organizează o serie de evenimente culturale ce aduc un omagiu lui Mihai Eminescu\, poet\, prozator\, dramaturg și jurnalist\, cea mai importantă voce poetică din literatura română.\n📌Săptămâna debutează cu expoziția 𝑴𝒊𝒉𝒂𝒊 𝑬𝒎𝒊𝒏𝒆𝒔𝒄𝒖 𝒊̂𝒏 𝒄𝒐𝒍𝒆𝒄𝒕̦𝒊𝒊𝒍𝒆 𝑴𝒖𝒛𝒆𝒖𝒍𝒖𝒊 𝑪𝒂̆𝒓𝒕̦𝒊𝒊 𝒔̦𝒊 𝑬𝒙𝒊𝒍𝒖𝒍𝒖𝒊 𝑹𝒐𝒎𝒂̂𝒏𝒆𝒔𝒄\, care va fi disponibilă în Sala Paris în intervalul 12 ianuarie-16 februarie 2026. Expoziția valorifică volume și alte obiecte de artă aflate în patrimoniul muzeului\, provenind din mai multe colecții.\n📌Marți\, 13 ianuarie\, la ora 18.00 va avea loc vernisajul expoziției de artă fotografică 𝑺𝒖𝒇𝒍𝒆𝒕 – 𝒑𝒐𝒆𝒛𝒊𝒆 – 𝒇𝒐𝒕𝒐𝒈𝒓𝒂𝒇𝒊𝒆\, dedicată Zilei Culturii Naționale. În cadrul expoziției vor fi prezente 151 de fotografii\, eseuri fotografice\, meditații vizuale asupra temelor eminesciene\, lucrări realizate de 31 de artiști fotografi din tară și din diaspora românească.\n📌Miercuri\, 14 ianuarie\, la ora 10.00\, va avea loc evenimentul 𝑼𝒏𝒊𝒗𝒆𝒓𝒔𝒖𝒍 𝒆𝒎𝒊𝒏𝒆𝒔𝒄𝒊𝒂𝒏 𝒑𝒓𝒊𝒏 𝒐𝒄𝒉𝒊𝒊 𝒄𝒐𝒑𝒊𝒊𝒍𝒐𝒓\, o întâlnire organizată de Cristina Gelep\, Rodica Constanda\, asistenți de cercetare la Muzeul Cărții și Exilului Românesc\, cu elevii clasei a III-a de la Școala Gimnazială „Mihai Eminescu” din Craiova. Întâlnirea va include un concurs cultural cu întrebări despre viața și opera lui Mihai Eminescu\, un moment de recitări poetice\, precum și discuții pe marginea biografiei și parcursului publicistic al marelui poet. La finalul întâlnirii\, elevii realiza câte un desen inspirat de un fragment din creația eminesciană.\n📌Joi\, 15 ianuarie\, la ora 11.00\, va avea loc evenimentul 𝑬𝒎𝒊𝒏𝒆𝒔𝒄𝒖 𝒊̂𝒏 𝒂𝒄𝒕𝒖𝒂𝒍𝒊𝒕𝒂𝒕𝒆\, moderat de prof. Carmen Theo Făgețeanu\, traducător literar și membră a Filialei Craiova a Uniunii Scriitorilor din România. Programul cuprinde momente artistice susținute de elevii Liceului Teologic Adventist din Craiova\, coordonați de profesorii Claudia Botezat\, Mioara Iana și Carmen Mihai. Prin poezie\, lectură și momente muzicale\, elevii propun o apropiere directă de textele poetului\, punând în evidență modernitatea și actualitatea operei eminesciene.\n📌Ultimul eveniment organizat în săptămâna dedicată Zilei Naționale a Culturii este vernisajul expoziției 𝑴𝒆𝒕𝒂𝒎𝒐𝒓𝒇𝒐𝒛𝒆 𝒅𝒆 𝒍𝒂 𝒄𝒖𝒗𝒊𝒏𝒕𝒆 𝒍𝒂 𝒇𝒐𝒓𝒎𝒆\, expoziție cu obiecte de artă inspirate din literatura română\, organizată de Academia de Artă Handmade București. Vernisajul va avea loc va avea loc joi\, 15 ianuarie\, la ora 12.00\, iar expoziția va fi disponibilă la Muzeul Cărții și Exilului Românesc până la data de 20 februarie 2026.\n📌Începând cu anul 2010\, românii sărbătoresc Ziua Culturii Naționale în ziua de 15 ianuarie\, data nașterii poetului național Mihai Eminescu. În fiecare an\, Biblioteca Judeteana Alexandru & Aristia Aman Craiova și Muzeul Cărții și Exilului Românesc celebrează această zi prin organizarea unor evenimente dedicate marelui poet național și promovării culturii.
URL:https://craiovalive.ro/eveniment/saptamana-dedicata-zilei-culturii-nationale-la-muzeul-cartii-si-exilului-romanesc/2026-01-27/
LOCATION:Muzeul Cărții și Exilului Românesc\, Str. 24 Ianuarie nr. 4\, Craiova\, Dolj\, România
CATEGORIES:Conferință,Expoziție
ATTACH;FMTTYPE=image/jpeg:https://craiovalive.ro/wp-content/uploads/2026/01/Saptamana-dedicata-Zilei-Culturii-Nationale-la-Muzeul-Cartii-si-Exilului-Romanesc.jpg
GEO:44.3141881;23.7984041
X-APPLE-STRUCTURED-LOCATION;VALUE=URI;X-ADDRESS=Muzeul Cărții și Exilului Românesc Str. 24 Ianuarie nr. 4 Craiova Dolj România;X-APPLE-RADIUS=500;X-TITLE=Str. 24 Ianuarie nr. 4:geo:23.7984041,44.3141881
END:VEVENT
BEGIN:VEVENT
DTSTART;TZID=Europe/Bucharest:20260128T090000
DTEND;TZID=Europe/Bucharest:20260128T170000
DTSTAMP:20260424T015132
CREATED:20260112T103628Z
LAST-MODIFIED:20260112T184349Z
UID:10012757-1769590800-1769619600@craiovalive.ro
SUMMARY:Săptămână dedicată Zilei Culturii Naționale la Muzeul Cărții și Exilului Românesc
DESCRIPTION:🏛️Muzeul Cărții și Exilului Românesc dedică săptămâna 12-18 ianuarie 𝒁𝒊𝒍𝒆𝒊 𝑪𝒖𝒍𝒕𝒖𝒓𝒊𝒊 𝑵𝒂𝒕̦𝒊𝒐𝒏𝒂𝒍𝒆 și organizează o serie de evenimente culturale ce aduc un omagiu lui Mihai Eminescu\, poet\, prozator\, dramaturg și jurnalist\, cea mai importantă voce poetică din literatura română.\n📌Săptămâna debutează cu expoziția 𝑴𝒊𝒉𝒂𝒊 𝑬𝒎𝒊𝒏𝒆𝒔𝒄𝒖 𝒊̂𝒏 𝒄𝒐𝒍𝒆𝒄𝒕̦𝒊𝒊𝒍𝒆 𝑴𝒖𝒛𝒆𝒖𝒍𝒖𝒊 𝑪𝒂̆𝒓𝒕̦𝒊𝒊 𝒔̦𝒊 𝑬𝒙𝒊𝒍𝒖𝒍𝒖𝒊 𝑹𝒐𝒎𝒂̂𝒏𝒆𝒔𝒄\, care va fi disponibilă în Sala Paris în intervalul 12 ianuarie-16 februarie 2026. Expoziția valorifică volume și alte obiecte de artă aflate în patrimoniul muzeului\, provenind din mai multe colecții.\n📌Marți\, 13 ianuarie\, la ora 18.00 va avea loc vernisajul expoziției de artă fotografică 𝑺𝒖𝒇𝒍𝒆𝒕 – 𝒑𝒐𝒆𝒛𝒊𝒆 – 𝒇𝒐𝒕𝒐𝒈𝒓𝒂𝒇𝒊𝒆\, dedicată Zilei Culturii Naționale. În cadrul expoziției vor fi prezente 151 de fotografii\, eseuri fotografice\, meditații vizuale asupra temelor eminesciene\, lucrări realizate de 31 de artiști fotografi din tară și din diaspora românească.\n📌Miercuri\, 14 ianuarie\, la ora 10.00\, va avea loc evenimentul 𝑼𝒏𝒊𝒗𝒆𝒓𝒔𝒖𝒍 𝒆𝒎𝒊𝒏𝒆𝒔𝒄𝒊𝒂𝒏 𝒑𝒓𝒊𝒏 𝒐𝒄𝒉𝒊𝒊 𝒄𝒐𝒑𝒊𝒊𝒍𝒐𝒓\, o întâlnire organizată de Cristina Gelep\, Rodica Constanda\, asistenți de cercetare la Muzeul Cărții și Exilului Românesc\, cu elevii clasei a III-a de la Școala Gimnazială „Mihai Eminescu” din Craiova. Întâlnirea va include un concurs cultural cu întrebări despre viața și opera lui Mihai Eminescu\, un moment de recitări poetice\, precum și discuții pe marginea biografiei și parcursului publicistic al marelui poet. La finalul întâlnirii\, elevii realiza câte un desen inspirat de un fragment din creația eminesciană.\n📌Joi\, 15 ianuarie\, la ora 11.00\, va avea loc evenimentul 𝑬𝒎𝒊𝒏𝒆𝒔𝒄𝒖 𝒊̂𝒏 𝒂𝒄𝒕𝒖𝒂𝒍𝒊𝒕𝒂𝒕𝒆\, moderat de prof. Carmen Theo Făgețeanu\, traducător literar și membră a Filialei Craiova a Uniunii Scriitorilor din România. Programul cuprinde momente artistice susținute de elevii Liceului Teologic Adventist din Craiova\, coordonați de profesorii Claudia Botezat\, Mioara Iana și Carmen Mihai. Prin poezie\, lectură și momente muzicale\, elevii propun o apropiere directă de textele poetului\, punând în evidență modernitatea și actualitatea operei eminesciene.\n📌Ultimul eveniment organizat în săptămâna dedicată Zilei Naționale a Culturii este vernisajul expoziției 𝑴𝒆𝒕𝒂𝒎𝒐𝒓𝒇𝒐𝒛𝒆 𝒅𝒆 𝒍𝒂 𝒄𝒖𝒗𝒊𝒏𝒕𝒆 𝒍𝒂 𝒇𝒐𝒓𝒎𝒆\, expoziție cu obiecte de artă inspirate din literatura română\, organizată de Academia de Artă Handmade București. Vernisajul va avea loc va avea loc joi\, 15 ianuarie\, la ora 12.00\, iar expoziția va fi disponibilă la Muzeul Cărții și Exilului Românesc până la data de 20 februarie 2026.\n📌Începând cu anul 2010\, românii sărbătoresc Ziua Culturii Naționale în ziua de 15 ianuarie\, data nașterii poetului național Mihai Eminescu. În fiecare an\, Biblioteca Judeteana Alexandru & Aristia Aman Craiova și Muzeul Cărții și Exilului Românesc celebrează această zi prin organizarea unor evenimente dedicate marelui poet național și promovării culturii.
URL:https://craiovalive.ro/eveniment/saptamana-dedicata-zilei-culturii-nationale-la-muzeul-cartii-si-exilului-romanesc/2026-01-28/
LOCATION:Muzeul Cărții și Exilului Românesc\, Str. 24 Ianuarie nr. 4\, Craiova\, Dolj\, România
CATEGORIES:Conferință,Expoziție
ATTACH;FMTTYPE=image/jpeg:https://craiovalive.ro/wp-content/uploads/2026/01/Saptamana-dedicata-Zilei-Culturii-Nationale-la-Muzeul-Cartii-si-Exilului-Romanesc.jpg
GEO:44.3141881;23.7984041
X-APPLE-STRUCTURED-LOCATION;VALUE=URI;X-ADDRESS=Muzeul Cărții și Exilului Românesc Str. 24 Ianuarie nr. 4 Craiova Dolj România;X-APPLE-RADIUS=500;X-TITLE=Str. 24 Ianuarie nr. 4:geo:23.7984041,44.3141881
END:VEVENT
BEGIN:VEVENT
DTSTART;TZID=Europe/Bucharest:20260129T090000
DTEND;TZID=Europe/Bucharest:20260129T170000
DTSTAMP:20260424T015132
CREATED:20260112T103628Z
LAST-MODIFIED:20260112T184349Z
UID:10012758-1769677200-1769706000@craiovalive.ro
SUMMARY:Săptămână dedicată Zilei Culturii Naționale la Muzeul Cărții și Exilului Românesc
DESCRIPTION:🏛️Muzeul Cărții și Exilului Românesc dedică săptămâna 12-18 ianuarie 𝒁𝒊𝒍𝒆𝒊 𝑪𝒖𝒍𝒕𝒖𝒓𝒊𝒊 𝑵𝒂𝒕̦𝒊𝒐𝒏𝒂𝒍𝒆 și organizează o serie de evenimente culturale ce aduc un omagiu lui Mihai Eminescu\, poet\, prozator\, dramaturg și jurnalist\, cea mai importantă voce poetică din literatura română.\n📌Săptămâna debutează cu expoziția 𝑴𝒊𝒉𝒂𝒊 𝑬𝒎𝒊𝒏𝒆𝒔𝒄𝒖 𝒊̂𝒏 𝒄𝒐𝒍𝒆𝒄𝒕̦𝒊𝒊𝒍𝒆 𝑴𝒖𝒛𝒆𝒖𝒍𝒖𝒊 𝑪𝒂̆𝒓𝒕̦𝒊𝒊 𝒔̦𝒊 𝑬𝒙𝒊𝒍𝒖𝒍𝒖𝒊 𝑹𝒐𝒎𝒂̂𝒏𝒆𝒔𝒄\, care va fi disponibilă în Sala Paris în intervalul 12 ianuarie-16 februarie 2026. Expoziția valorifică volume și alte obiecte de artă aflate în patrimoniul muzeului\, provenind din mai multe colecții.\n📌Marți\, 13 ianuarie\, la ora 18.00 va avea loc vernisajul expoziției de artă fotografică 𝑺𝒖𝒇𝒍𝒆𝒕 – 𝒑𝒐𝒆𝒛𝒊𝒆 – 𝒇𝒐𝒕𝒐𝒈𝒓𝒂𝒇𝒊𝒆\, dedicată Zilei Culturii Naționale. În cadrul expoziției vor fi prezente 151 de fotografii\, eseuri fotografice\, meditații vizuale asupra temelor eminesciene\, lucrări realizate de 31 de artiști fotografi din tară și din diaspora românească.\n📌Miercuri\, 14 ianuarie\, la ora 10.00\, va avea loc evenimentul 𝑼𝒏𝒊𝒗𝒆𝒓𝒔𝒖𝒍 𝒆𝒎𝒊𝒏𝒆𝒔𝒄𝒊𝒂𝒏 𝒑𝒓𝒊𝒏 𝒐𝒄𝒉𝒊𝒊 𝒄𝒐𝒑𝒊𝒊𝒍𝒐𝒓\, o întâlnire organizată de Cristina Gelep\, Rodica Constanda\, asistenți de cercetare la Muzeul Cărții și Exilului Românesc\, cu elevii clasei a III-a de la Școala Gimnazială „Mihai Eminescu” din Craiova. Întâlnirea va include un concurs cultural cu întrebări despre viața și opera lui Mihai Eminescu\, un moment de recitări poetice\, precum și discuții pe marginea biografiei și parcursului publicistic al marelui poet. La finalul întâlnirii\, elevii realiza câte un desen inspirat de un fragment din creația eminesciană.\n📌Joi\, 15 ianuarie\, la ora 11.00\, va avea loc evenimentul 𝑬𝒎𝒊𝒏𝒆𝒔𝒄𝒖 𝒊̂𝒏 𝒂𝒄𝒕𝒖𝒂𝒍𝒊𝒕𝒂𝒕𝒆\, moderat de prof. Carmen Theo Făgețeanu\, traducător literar și membră a Filialei Craiova a Uniunii Scriitorilor din România. Programul cuprinde momente artistice susținute de elevii Liceului Teologic Adventist din Craiova\, coordonați de profesorii Claudia Botezat\, Mioara Iana și Carmen Mihai. Prin poezie\, lectură și momente muzicale\, elevii propun o apropiere directă de textele poetului\, punând în evidență modernitatea și actualitatea operei eminesciene.\n📌Ultimul eveniment organizat în săptămâna dedicată Zilei Naționale a Culturii este vernisajul expoziției 𝑴𝒆𝒕𝒂𝒎𝒐𝒓𝒇𝒐𝒛𝒆 𝒅𝒆 𝒍𝒂 𝒄𝒖𝒗𝒊𝒏𝒕𝒆 𝒍𝒂 𝒇𝒐𝒓𝒎𝒆\, expoziție cu obiecte de artă inspirate din literatura română\, organizată de Academia de Artă Handmade București. Vernisajul va avea loc va avea loc joi\, 15 ianuarie\, la ora 12.00\, iar expoziția va fi disponibilă la Muzeul Cărții și Exilului Românesc până la data de 20 februarie 2026.\n📌Începând cu anul 2010\, românii sărbătoresc Ziua Culturii Naționale în ziua de 15 ianuarie\, data nașterii poetului național Mihai Eminescu. În fiecare an\, Biblioteca Judeteana Alexandru & Aristia Aman Craiova și Muzeul Cărții și Exilului Românesc celebrează această zi prin organizarea unor evenimente dedicate marelui poet național și promovării culturii.
URL:https://craiovalive.ro/eveniment/saptamana-dedicata-zilei-culturii-nationale-la-muzeul-cartii-si-exilului-romanesc/2026-01-29/
LOCATION:Muzeul Cărții și Exilului Românesc\, Str. 24 Ianuarie nr. 4\, Craiova\, Dolj\, România
CATEGORIES:Conferință,Expoziție
ATTACH;FMTTYPE=image/jpeg:https://craiovalive.ro/wp-content/uploads/2026/01/Saptamana-dedicata-Zilei-Culturii-Nationale-la-Muzeul-Cartii-si-Exilului-Romanesc.jpg
GEO:44.3141881;23.7984041
X-APPLE-STRUCTURED-LOCATION;VALUE=URI;X-ADDRESS=Muzeul Cărții și Exilului Românesc Str. 24 Ianuarie nr. 4 Craiova Dolj România;X-APPLE-RADIUS=500;X-TITLE=Str. 24 Ianuarie nr. 4:geo:23.7984041,44.3141881
END:VEVENT
BEGIN:VEVENT
DTSTART;TZID=Europe/Bucharest:20260130T090000
DTEND;TZID=Europe/Bucharest:20260130T170000
DTSTAMP:20260424T015132
CREATED:20260112T103628Z
LAST-MODIFIED:20260112T184349Z
UID:10012759-1769763600-1769792400@craiovalive.ro
SUMMARY:Săptămână dedicată Zilei Culturii Naționale la Muzeul Cărții și Exilului Românesc
DESCRIPTION:🏛️Muzeul Cărții și Exilului Românesc dedică săptămâna 12-18 ianuarie 𝒁𝒊𝒍𝒆𝒊 𝑪𝒖𝒍𝒕𝒖𝒓𝒊𝒊 𝑵𝒂𝒕̦𝒊𝒐𝒏𝒂𝒍𝒆 și organizează o serie de evenimente culturale ce aduc un omagiu lui Mihai Eminescu\, poet\, prozator\, dramaturg și jurnalist\, cea mai importantă voce poetică din literatura română.\n📌Săptămâna debutează cu expoziția 𝑴𝒊𝒉𝒂𝒊 𝑬𝒎𝒊𝒏𝒆𝒔𝒄𝒖 𝒊̂𝒏 𝒄𝒐𝒍𝒆𝒄𝒕̦𝒊𝒊𝒍𝒆 𝑴𝒖𝒛𝒆𝒖𝒍𝒖𝒊 𝑪𝒂̆𝒓𝒕̦𝒊𝒊 𝒔̦𝒊 𝑬𝒙𝒊𝒍𝒖𝒍𝒖𝒊 𝑹𝒐𝒎𝒂̂𝒏𝒆𝒔𝒄\, care va fi disponibilă în Sala Paris în intervalul 12 ianuarie-16 februarie 2026. Expoziția valorifică volume și alte obiecte de artă aflate în patrimoniul muzeului\, provenind din mai multe colecții.\n📌Marți\, 13 ianuarie\, la ora 18.00 va avea loc vernisajul expoziției de artă fotografică 𝑺𝒖𝒇𝒍𝒆𝒕 – 𝒑𝒐𝒆𝒛𝒊𝒆 – 𝒇𝒐𝒕𝒐𝒈𝒓𝒂𝒇𝒊𝒆\, dedicată Zilei Culturii Naționale. În cadrul expoziției vor fi prezente 151 de fotografii\, eseuri fotografice\, meditații vizuale asupra temelor eminesciene\, lucrări realizate de 31 de artiști fotografi din tară și din diaspora românească.\n📌Miercuri\, 14 ianuarie\, la ora 10.00\, va avea loc evenimentul 𝑼𝒏𝒊𝒗𝒆𝒓𝒔𝒖𝒍 𝒆𝒎𝒊𝒏𝒆𝒔𝒄𝒊𝒂𝒏 𝒑𝒓𝒊𝒏 𝒐𝒄𝒉𝒊𝒊 𝒄𝒐𝒑𝒊𝒊𝒍𝒐𝒓\, o întâlnire organizată de Cristina Gelep\, Rodica Constanda\, asistenți de cercetare la Muzeul Cărții și Exilului Românesc\, cu elevii clasei a III-a de la Școala Gimnazială „Mihai Eminescu” din Craiova. Întâlnirea va include un concurs cultural cu întrebări despre viața și opera lui Mihai Eminescu\, un moment de recitări poetice\, precum și discuții pe marginea biografiei și parcursului publicistic al marelui poet. La finalul întâlnirii\, elevii realiza câte un desen inspirat de un fragment din creația eminesciană.\n📌Joi\, 15 ianuarie\, la ora 11.00\, va avea loc evenimentul 𝑬𝒎𝒊𝒏𝒆𝒔𝒄𝒖 𝒊̂𝒏 𝒂𝒄𝒕𝒖𝒂𝒍𝒊𝒕𝒂𝒕𝒆\, moderat de prof. Carmen Theo Făgețeanu\, traducător literar și membră a Filialei Craiova a Uniunii Scriitorilor din România. Programul cuprinde momente artistice susținute de elevii Liceului Teologic Adventist din Craiova\, coordonați de profesorii Claudia Botezat\, Mioara Iana și Carmen Mihai. Prin poezie\, lectură și momente muzicale\, elevii propun o apropiere directă de textele poetului\, punând în evidență modernitatea și actualitatea operei eminesciene.\n📌Ultimul eveniment organizat în săptămâna dedicată Zilei Naționale a Culturii este vernisajul expoziției 𝑴𝒆𝒕𝒂𝒎𝒐𝒓𝒇𝒐𝒛𝒆 𝒅𝒆 𝒍𝒂 𝒄𝒖𝒗𝒊𝒏𝒕𝒆 𝒍𝒂 𝒇𝒐𝒓𝒎𝒆\, expoziție cu obiecte de artă inspirate din literatura română\, organizată de Academia de Artă Handmade București. Vernisajul va avea loc va avea loc joi\, 15 ianuarie\, la ora 12.00\, iar expoziția va fi disponibilă la Muzeul Cărții și Exilului Românesc până la data de 20 februarie 2026.\n📌Începând cu anul 2010\, românii sărbătoresc Ziua Culturii Naționale în ziua de 15 ianuarie\, data nașterii poetului național Mihai Eminescu. În fiecare an\, Biblioteca Judeteana Alexandru & Aristia Aman Craiova și Muzeul Cărții și Exilului Românesc celebrează această zi prin organizarea unor evenimente dedicate marelui poet național și promovării culturii.
URL:https://craiovalive.ro/eveniment/saptamana-dedicata-zilei-culturii-nationale-la-muzeul-cartii-si-exilului-romanesc/2026-01-30/
LOCATION:Muzeul Cărții și Exilului Românesc\, Str. 24 Ianuarie nr. 4\, Craiova\, Dolj\, România
CATEGORIES:Conferință,Expoziție
ATTACH;FMTTYPE=image/jpeg:https://craiovalive.ro/wp-content/uploads/2026/01/Saptamana-dedicata-Zilei-Culturii-Nationale-la-Muzeul-Cartii-si-Exilului-Romanesc.jpg
GEO:44.3141881;23.7984041
X-APPLE-STRUCTURED-LOCATION;VALUE=URI;X-ADDRESS=Muzeul Cărții și Exilului Românesc Str. 24 Ianuarie nr. 4 Craiova Dolj România;X-APPLE-RADIUS=500;X-TITLE=Str. 24 Ianuarie nr. 4:geo:23.7984041,44.3141881
END:VEVENT
BEGIN:VEVENT
DTSTART;TZID=Europe/Bucharest:20260131T090000
DTEND;TZID=Europe/Bucharest:20260131T170000
DTSTAMP:20260424T015132
CREATED:20260112T103628Z
LAST-MODIFIED:20260112T184349Z
UID:10012760-1769850000-1769878800@craiovalive.ro
SUMMARY:Săptămână dedicată Zilei Culturii Naționale la Muzeul Cărții și Exilului Românesc
DESCRIPTION:🏛️Muzeul Cărții și Exilului Românesc dedică săptămâna 12-18 ianuarie 𝒁𝒊𝒍𝒆𝒊 𝑪𝒖𝒍𝒕𝒖𝒓𝒊𝒊 𝑵𝒂𝒕̦𝒊𝒐𝒏𝒂𝒍𝒆 și organizează o serie de evenimente culturale ce aduc un omagiu lui Mihai Eminescu\, poet\, prozator\, dramaturg și jurnalist\, cea mai importantă voce poetică din literatura română.\n📌Săptămâna debutează cu expoziția 𝑴𝒊𝒉𝒂𝒊 𝑬𝒎𝒊𝒏𝒆𝒔𝒄𝒖 𝒊̂𝒏 𝒄𝒐𝒍𝒆𝒄𝒕̦𝒊𝒊𝒍𝒆 𝑴𝒖𝒛𝒆𝒖𝒍𝒖𝒊 𝑪𝒂̆𝒓𝒕̦𝒊𝒊 𝒔̦𝒊 𝑬𝒙𝒊𝒍𝒖𝒍𝒖𝒊 𝑹𝒐𝒎𝒂̂𝒏𝒆𝒔𝒄\, care va fi disponibilă în Sala Paris în intervalul 12 ianuarie-16 februarie 2026. Expoziția valorifică volume și alte obiecte de artă aflate în patrimoniul muzeului\, provenind din mai multe colecții.\n📌Marți\, 13 ianuarie\, la ora 18.00 va avea loc vernisajul expoziției de artă fotografică 𝑺𝒖𝒇𝒍𝒆𝒕 – 𝒑𝒐𝒆𝒛𝒊𝒆 – 𝒇𝒐𝒕𝒐𝒈𝒓𝒂𝒇𝒊𝒆\, dedicată Zilei Culturii Naționale. În cadrul expoziției vor fi prezente 151 de fotografii\, eseuri fotografice\, meditații vizuale asupra temelor eminesciene\, lucrări realizate de 31 de artiști fotografi din tară și din diaspora românească.\n📌Miercuri\, 14 ianuarie\, la ora 10.00\, va avea loc evenimentul 𝑼𝒏𝒊𝒗𝒆𝒓𝒔𝒖𝒍 𝒆𝒎𝒊𝒏𝒆𝒔𝒄𝒊𝒂𝒏 𝒑𝒓𝒊𝒏 𝒐𝒄𝒉𝒊𝒊 𝒄𝒐𝒑𝒊𝒊𝒍𝒐𝒓\, o întâlnire organizată de Cristina Gelep\, Rodica Constanda\, asistenți de cercetare la Muzeul Cărții și Exilului Românesc\, cu elevii clasei a III-a de la Școala Gimnazială „Mihai Eminescu” din Craiova. Întâlnirea va include un concurs cultural cu întrebări despre viața și opera lui Mihai Eminescu\, un moment de recitări poetice\, precum și discuții pe marginea biografiei și parcursului publicistic al marelui poet. La finalul întâlnirii\, elevii realiza câte un desen inspirat de un fragment din creația eminesciană.\n📌Joi\, 15 ianuarie\, la ora 11.00\, va avea loc evenimentul 𝑬𝒎𝒊𝒏𝒆𝒔𝒄𝒖 𝒊̂𝒏 𝒂𝒄𝒕𝒖𝒂𝒍𝒊𝒕𝒂𝒕𝒆\, moderat de prof. Carmen Theo Făgețeanu\, traducător literar și membră a Filialei Craiova a Uniunii Scriitorilor din România. Programul cuprinde momente artistice susținute de elevii Liceului Teologic Adventist din Craiova\, coordonați de profesorii Claudia Botezat\, Mioara Iana și Carmen Mihai. Prin poezie\, lectură și momente muzicale\, elevii propun o apropiere directă de textele poetului\, punând în evidență modernitatea și actualitatea operei eminesciene.\n📌Ultimul eveniment organizat în săptămâna dedicată Zilei Naționale a Culturii este vernisajul expoziției 𝑴𝒆𝒕𝒂𝒎𝒐𝒓𝒇𝒐𝒛𝒆 𝒅𝒆 𝒍𝒂 𝒄𝒖𝒗𝒊𝒏𝒕𝒆 𝒍𝒂 𝒇𝒐𝒓𝒎𝒆\, expoziție cu obiecte de artă inspirate din literatura română\, organizată de Academia de Artă Handmade București. Vernisajul va avea loc va avea loc joi\, 15 ianuarie\, la ora 12.00\, iar expoziția va fi disponibilă la Muzeul Cărții și Exilului Românesc până la data de 20 februarie 2026.\n📌Începând cu anul 2010\, românii sărbătoresc Ziua Culturii Naționale în ziua de 15 ianuarie\, data nașterii poetului național Mihai Eminescu. În fiecare an\, Biblioteca Judeteana Alexandru & Aristia Aman Craiova și Muzeul Cărții și Exilului Românesc celebrează această zi prin organizarea unor evenimente dedicate marelui poet național și promovării culturii.
URL:https://craiovalive.ro/eveniment/saptamana-dedicata-zilei-culturii-nationale-la-muzeul-cartii-si-exilului-romanesc/2026-01-31/
LOCATION:Muzeul Cărții și Exilului Românesc\, Str. 24 Ianuarie nr. 4\, Craiova\, Dolj\, România
CATEGORIES:Conferință,Expoziție
ATTACH;FMTTYPE=image/jpeg:https://craiovalive.ro/wp-content/uploads/2026/01/Saptamana-dedicata-Zilei-Culturii-Nationale-la-Muzeul-Cartii-si-Exilului-Romanesc.jpg
GEO:44.3141881;23.7984041
X-APPLE-STRUCTURED-LOCATION;VALUE=URI;X-ADDRESS=Muzeul Cărții și Exilului Românesc Str. 24 Ianuarie nr. 4 Craiova Dolj România;X-APPLE-RADIUS=500;X-TITLE=Str. 24 Ianuarie nr. 4:geo:23.7984041,44.3141881
END:VEVENT
BEGIN:VEVENT
DTSTART;TZID=Europe/Bucharest:20260201T090000
DTEND;TZID=Europe/Bucharest:20260201T170000
DTSTAMP:20260424T015132
CREATED:20260112T103628Z
LAST-MODIFIED:20260112T184349Z
UID:10012761-1769936400-1769965200@craiovalive.ro
SUMMARY:Săptămână dedicată Zilei Culturii Naționale la Muzeul Cărții și Exilului Românesc
DESCRIPTION:🏛️Muzeul Cărții și Exilului Românesc dedică săptămâna 12-18 ianuarie 𝒁𝒊𝒍𝒆𝒊 𝑪𝒖𝒍𝒕𝒖𝒓𝒊𝒊 𝑵𝒂𝒕̦𝒊𝒐𝒏𝒂𝒍𝒆 și organizează o serie de evenimente culturale ce aduc un omagiu lui Mihai Eminescu\, poet\, prozator\, dramaturg și jurnalist\, cea mai importantă voce poetică din literatura română.\n📌Săptămâna debutează cu expoziția 𝑴𝒊𝒉𝒂𝒊 𝑬𝒎𝒊𝒏𝒆𝒔𝒄𝒖 𝒊̂𝒏 𝒄𝒐𝒍𝒆𝒄𝒕̦𝒊𝒊𝒍𝒆 𝑴𝒖𝒛𝒆𝒖𝒍𝒖𝒊 𝑪𝒂̆𝒓𝒕̦𝒊𝒊 𝒔̦𝒊 𝑬𝒙𝒊𝒍𝒖𝒍𝒖𝒊 𝑹𝒐𝒎𝒂̂𝒏𝒆𝒔𝒄\, care va fi disponibilă în Sala Paris în intervalul 12 ianuarie-16 februarie 2026. Expoziția valorifică volume și alte obiecte de artă aflate în patrimoniul muzeului\, provenind din mai multe colecții.\n📌Marți\, 13 ianuarie\, la ora 18.00 va avea loc vernisajul expoziției de artă fotografică 𝑺𝒖𝒇𝒍𝒆𝒕 – 𝒑𝒐𝒆𝒛𝒊𝒆 – 𝒇𝒐𝒕𝒐𝒈𝒓𝒂𝒇𝒊𝒆\, dedicată Zilei Culturii Naționale. În cadrul expoziției vor fi prezente 151 de fotografii\, eseuri fotografice\, meditații vizuale asupra temelor eminesciene\, lucrări realizate de 31 de artiști fotografi din tară și din diaspora românească.\n📌Miercuri\, 14 ianuarie\, la ora 10.00\, va avea loc evenimentul 𝑼𝒏𝒊𝒗𝒆𝒓𝒔𝒖𝒍 𝒆𝒎𝒊𝒏𝒆𝒔𝒄𝒊𝒂𝒏 𝒑𝒓𝒊𝒏 𝒐𝒄𝒉𝒊𝒊 𝒄𝒐𝒑𝒊𝒊𝒍𝒐𝒓\, o întâlnire organizată de Cristina Gelep\, Rodica Constanda\, asistenți de cercetare la Muzeul Cărții și Exilului Românesc\, cu elevii clasei a III-a de la Școala Gimnazială „Mihai Eminescu” din Craiova. Întâlnirea va include un concurs cultural cu întrebări despre viața și opera lui Mihai Eminescu\, un moment de recitări poetice\, precum și discuții pe marginea biografiei și parcursului publicistic al marelui poet. La finalul întâlnirii\, elevii realiza câte un desen inspirat de un fragment din creația eminesciană.\n📌Joi\, 15 ianuarie\, la ora 11.00\, va avea loc evenimentul 𝑬𝒎𝒊𝒏𝒆𝒔𝒄𝒖 𝒊̂𝒏 𝒂𝒄𝒕𝒖𝒂𝒍𝒊𝒕𝒂𝒕𝒆\, moderat de prof. Carmen Theo Făgețeanu\, traducător literar și membră a Filialei Craiova a Uniunii Scriitorilor din România. Programul cuprinde momente artistice susținute de elevii Liceului Teologic Adventist din Craiova\, coordonați de profesorii Claudia Botezat\, Mioara Iana și Carmen Mihai. Prin poezie\, lectură și momente muzicale\, elevii propun o apropiere directă de textele poetului\, punând în evidență modernitatea și actualitatea operei eminesciene.\n📌Ultimul eveniment organizat în săptămâna dedicată Zilei Naționale a Culturii este vernisajul expoziției 𝑴𝒆𝒕𝒂𝒎𝒐𝒓𝒇𝒐𝒛𝒆 𝒅𝒆 𝒍𝒂 𝒄𝒖𝒗𝒊𝒏𝒕𝒆 𝒍𝒂 𝒇𝒐𝒓𝒎𝒆\, expoziție cu obiecte de artă inspirate din literatura română\, organizată de Academia de Artă Handmade București. Vernisajul va avea loc va avea loc joi\, 15 ianuarie\, la ora 12.00\, iar expoziția va fi disponibilă la Muzeul Cărții și Exilului Românesc până la data de 20 februarie 2026.\n📌Începând cu anul 2010\, românii sărbătoresc Ziua Culturii Naționale în ziua de 15 ianuarie\, data nașterii poetului național Mihai Eminescu. În fiecare an\, Biblioteca Judeteana Alexandru & Aristia Aman Craiova și Muzeul Cărții și Exilului Românesc celebrează această zi prin organizarea unor evenimente dedicate marelui poet național și promovării culturii.
URL:https://craiovalive.ro/eveniment/saptamana-dedicata-zilei-culturii-nationale-la-muzeul-cartii-si-exilului-romanesc/2026-02-01/
LOCATION:Muzeul Cărții și Exilului Românesc\, Str. 24 Ianuarie nr. 4\, Craiova\, Dolj\, România
CATEGORIES:Conferință,Expoziție
ATTACH;FMTTYPE=image/jpeg:https://craiovalive.ro/wp-content/uploads/2026/01/Saptamana-dedicata-Zilei-Culturii-Nationale-la-Muzeul-Cartii-si-Exilului-Romanesc.jpg
GEO:44.3141881;23.7984041
X-APPLE-STRUCTURED-LOCATION;VALUE=URI;X-ADDRESS=Muzeul Cărții și Exilului Românesc Str. 24 Ianuarie nr. 4 Craiova Dolj România;X-APPLE-RADIUS=500;X-TITLE=Str. 24 Ianuarie nr. 4:geo:23.7984041,44.3141881
END:VEVENT
BEGIN:VEVENT
DTSTART;TZID=Europe/Bucharest:20260201T200000
DTEND;TZID=Europe/Bucharest:20260201T223000
DTSTAMP:20260424T015132
CREATED:20260128T212452Z
LAST-MODIFIED:20260128T212452Z
UID:10012974-1769976000-1769985000@craiovalive.ro
SUMMARY:Poetry & More
DESCRIPTION:Let’s do this!  Craiova are un nou hub de creație unde pot sa se întâlnească tineri\, seniori\, artiștii locali\, pasionați de poezie\, muzica si tot ce înseamnă arta.Duminică\, 1 Februarie\, ora 20:00\, te primim la Poetry& more Open Mic la Alai Hub în casă.O să fie o seară de poezie\, de cântat\, stand-up\, monoloage și improvizații muzicale. Lista rămâne deschisă. Dacă ai prieteni pasionați de poezie\, instrumentiști\, beatboxing\, singing\, creatori de muzică sau artă în general și vor să bea un pahar sau vor să vină și să aibă un moment în fața noastră…sunt primiți cu brațele deschise.Este o seară fără cravată și se poate servi mâncare și un pahar de vin/bere fără probleme. Vrem să fie un loc unde se pot spune povești și poezii. Se poate cânta\, improviza\, desena\, lansa cărți\, expoziții foto\, expoziții de artă\, șamd.Dacă aveți alte idei\, mi-ar plăcea să le aud! Puteți suna la 0771158898 sau la 0743422096 dar puteți să ne și scrieți pentru participare sau performance la contact@actortraining.ro
URL:https://craiovalive.ro/eveniment/poetry-more/
LOCATION:Dolj
CATEGORIES:Conferință
ATTACH;FMTTYPE=image/jpeg:https://craiovalive.ro/wp-content/uploads/2026/01/Poetry-More.jpg
END:VEVENT
END:VCALENDAR