BEGIN:VCALENDAR
VERSION:2.0
PRODID:-//Craiova Live - ECPv6.15.18//NONSGML v1.0//EN
CALSCALE:GREGORIAN
METHOD:PUBLISH
X-WR-CALNAME:Craiova Live
X-ORIGINAL-URL:https://craiovalive.ro
X-WR-CALDESC:Evenimente pentru Craiova Live
REFRESH-INTERVAL;VALUE=DURATION:PT1H
X-Robots-Tag:noindex
X-PUBLISHED-TTL:PT1H
BEGIN:VTIMEZONE
TZID:Europe/Bucharest
BEGIN:DAYLIGHT
TZOFFSETFROM:+0200
TZOFFSETTO:+0300
TZNAME:EEST
DTSTART:20240331T010000
END:DAYLIGHT
BEGIN:STANDARD
TZOFFSETFROM:+0300
TZOFFSETTO:+0200
TZNAME:EET
DTSTART:20241027T010000
END:STANDARD
BEGIN:DAYLIGHT
TZOFFSETFROM:+0200
TZOFFSETTO:+0300
TZNAME:EEST
DTSTART:20250330T010000
END:DAYLIGHT
BEGIN:STANDARD
TZOFFSETFROM:+0300
TZOFFSETTO:+0200
TZNAME:EET
DTSTART:20251026T010000
END:STANDARD
BEGIN:DAYLIGHT
TZOFFSETFROM:+0200
TZOFFSETTO:+0300
TZNAME:EEST
DTSTART:20260329T010000
END:DAYLIGHT
BEGIN:STANDARD
TZOFFSETFROM:+0300
TZOFFSETTO:+0200
TZNAME:EET
DTSTART:20261025T010000
END:STANDARD
END:VTIMEZONE
BEGIN:VEVENT
DTSTART;TZID=Europe/Bucharest:20251218T190000
DTEND;TZID=Europe/Bucharest:20251218T200000
DTSTAMP:20260424T083737
CREATED:20251123T224206Z
LAST-MODIFIED:20251123T224206Z
UID:10012530-1766084400-1766088000@craiovalive.ro
SUMMARY:Balul Educației 2025
DESCRIPTION: Balul Educației 2025Un viitor educat începe cu o seară de generozitate\nJoi\, 18 Decembrie\, începând cu 19:00\, Asociația Life is Better with Friends\, în parteneriat cu Chicago Events Hall\, vă invită la Balul Educației 2025 – un eveniment caritabil dedicat susținerii educației copiilor din medii vulnerabile.\n Ce vă așteaptă• Cină festivă și selecție premium de băuturi;• Entertainment live și momente artistice cu atmosferă de sărbătoare;• Licitație de artă și tombolă cu experiențe unice;• Speakeri inspiraționali și emoție autentică.\nToate fondurile obținute vor susține programul „Educație pentru Viitor”\, prin care copiii implicați constant în activitățile asociației beneficiază de:• activități educaționale și recreative;• sprijin emoțional și consiliere;• mese calde\, transport și materiale didactice.\nFiecare bilet\, fiecare donație\, fiecare gest de sprijin înseamnă o șansă în plus pentru un copil să-și continue educația.\nDetalii si bilete în curând.
URL:https://craiovalive.ro/eveniment/balul-educatiei-2025/
LOCATION:Dolj
CATEGORIES:Conferință
ATTACH;FMTTYPE=image/jpeg:https://craiovalive.ro/wp-content/uploads/2025/11/Balul-Educatiei-2025.jpg
END:VEVENT
END:VCALENDAR