BEGIN:VCALENDAR
VERSION:2.0
PRODID:-//Craiova Live - ECPv6.15.18//NONSGML v1.0//EN
CALSCALE:GREGORIAN
METHOD:PUBLISH
X-WR-CALNAME:Craiova Live
X-ORIGINAL-URL:https://craiovalive.ro
X-WR-CALDESC:Evenimente pentru Craiova Live
REFRESH-INTERVAL;VALUE=DURATION:PT1H
X-Robots-Tag:noindex
X-PUBLISHED-TTL:PT1H
BEGIN:VTIMEZONE
TZID:Europe/Bucharest
BEGIN:DAYLIGHT
TZOFFSETFROM:+0200
TZOFFSETTO:+0300
TZNAME:EEST
DTSTART:20240331T010000
END:DAYLIGHT
BEGIN:STANDARD
TZOFFSETFROM:+0300
TZOFFSETTO:+0200
TZNAME:EET
DTSTART:20241027T010000
END:STANDARD
BEGIN:DAYLIGHT
TZOFFSETFROM:+0200
TZOFFSETTO:+0300
TZNAME:EEST
DTSTART:20250330T010000
END:DAYLIGHT
BEGIN:STANDARD
TZOFFSETFROM:+0300
TZOFFSETTO:+0200
TZNAME:EET
DTSTART:20251026T010000
END:STANDARD
BEGIN:DAYLIGHT
TZOFFSETFROM:+0200
TZOFFSETTO:+0300
TZNAME:EEST
DTSTART:20260329T010000
END:DAYLIGHT
BEGIN:STANDARD
TZOFFSETFROM:+0300
TZOFFSETTO:+0200
TZNAME:EET
DTSTART:20261025T010000
END:STANDARD
END:VTIMEZONE
BEGIN:VEVENT
DTSTART;TZID=Europe/Bucharest:20251119T100000
DTEND;TZID=Europe/Bucharest:20251119T120000
DTSTAMP:20260424T072346
CREATED:20251118T145140Z
LAST-MODIFIED:20251118T145140Z
UID:10012512-1763546400-1763553600@craiovalive.ro
SUMMARY:Seminar „Oportunități de creștere și colaborare internațională pentru IMM-urile din Oltenia”
DESCRIPTION:𝐒𝐞𝐦𝐢𝐧𝐚𝐫 „𝐎𝐩𝐨𝐫𝐭𝐮𝐧𝐢𝐭𝐚̆𝐭̦𝐢 𝐝𝐞 𝐜𝐫𝐞𝐬̦𝐭𝐞𝐫𝐞 𝐬̦𝐢 𝐜𝐨𝐥𝐚𝐛𝐨𝐫𝐚𝐫𝐞 𝐢𝐧𝐭𝐞𝐫𝐧𝐚𝐭̦𝐢𝐨𝐧𝐚𝐥𝐚̆ 𝐩𝐞𝐧𝐭𝐫𝐮 𝐈𝐌𝐌-𝐮𝐫𝐢𝐥𝐞 𝐝𝐢𝐧 𝐎𝐥𝐭𝐞𝐧𝐢𝐚”\n\n\nUniversitatea din Craiova\, în calitate de membru al rețelei Enterprise Europe Network\, invită firme și stakeholderi din regiunea de Sud-Vest să participe la seminarul „Oportunități de creștere și colaborare internațională pentru IMM-urile din Oltenia”.\n\n\nEvenimentul se va derula miercuri\, 19 noiembrie\, incepând cu ora 10\,00\, la sala 444.\n––\n\nEvenimentul este dedicat IMM-urilor din Oltenia care doresc să își accelereze dezvoltarea\, să identifice noi oportunități de finanțare și să își extindă colaborările la nivel internațional.\ne parcursul întâlnirii\, participanții vor descoperi cum pot accesa servicii de sprijin EEN\, programe europene pentru inovare și digitalizare\, precum și instrumente practice pentru dezvoltarea afacerilor pe piețe externe. Evenimentul include prezentări utile\, exemple reale de firme din regiune care au beneficiat de serviciile EEN\, recomandări privind accesarea finanțărilor\, dar și o sesiune aplicată de networking\, în care companiile își pot identifica parteneri de afaceri sau oportunități concrete de colaborare. Agenda evenimentului poate fi consultată aici \nParticiparea este gratuită. Pentru informații suplimentare\, vă rugăm să ne contactați la: tel. 0251.413.844 sau  office.een@ucv.ro
URL:https://craiovalive.ro/eveniment/seminar-oportunitati-de-crestere-si-colaborare-internationala-pentru-imm-urile-din-oltenia/
LOCATION:Universitatea din Craiova\, Str. A. I. Cuza\, nr. 13\, Craiova\, Dolj\, România
CATEGORIES:Conferință
ATTACH;FMTTYPE=image/jpeg:https://craiovalive.ro/wp-content/uploads/2025/11/Seminar-„Oportunitati-de-crestere-si-colaborare-internationala-pentru-IMM-urile-din-Oltenia.jpg
ORGANIZER;CN="Universitatea din Craiova":MAILTO:rectorat@central.ucv.ro
GEO:44.3190838;23.8008038
X-APPLE-STRUCTURED-LOCATION;VALUE=URI;X-ADDRESS=Universitatea din Craiova Str. A. I. Cuza nr. 13 Craiova Dolj România;X-APPLE-RADIUS=500;X-TITLE=Str. A. I. Cuza\, nr. 13:geo:23.8008038,44.3190838
END:VEVENT
END:VCALENDAR