BEGIN:VCALENDAR
VERSION:2.0
PRODID:-//Craiova Live - ECPv6.15.18//NONSGML v1.0//EN
CALSCALE:GREGORIAN
METHOD:PUBLISH
X-WR-CALNAME:Craiova Live
X-ORIGINAL-URL:https://craiovalive.ro
X-WR-CALDESC:Evenimente pentru Craiova Live
REFRESH-INTERVAL;VALUE=DURATION:PT1H
X-Robots-Tag:noindex
X-PUBLISHED-TTL:PT1H
BEGIN:VTIMEZONE
TZID:Europe/Bucharest
BEGIN:DAYLIGHT
TZOFFSETFROM:+0200
TZOFFSETTO:+0300
TZNAME:EEST
DTSTART:20240331T010000
END:DAYLIGHT
BEGIN:STANDARD
TZOFFSETFROM:+0300
TZOFFSETTO:+0200
TZNAME:EET
DTSTART:20241027T010000
END:STANDARD
BEGIN:DAYLIGHT
TZOFFSETFROM:+0200
TZOFFSETTO:+0300
TZNAME:EEST
DTSTART:20250330T010000
END:DAYLIGHT
BEGIN:STANDARD
TZOFFSETFROM:+0300
TZOFFSETTO:+0200
TZNAME:EET
DTSTART:20251026T010000
END:STANDARD
BEGIN:DAYLIGHT
TZOFFSETFROM:+0200
TZOFFSETTO:+0300
TZNAME:EEST
DTSTART:20260329T010000
END:DAYLIGHT
BEGIN:STANDARD
TZOFFSETFROM:+0300
TZOFFSETTO:+0200
TZNAME:EET
DTSTART:20261025T010000
END:STANDARD
END:VTIMEZONE
BEGIN:VEVENT
DTSTART;TZID=Europe/Bucharest:20251027T170000
DTEND;TZID=Europe/Bucharest:20251027T223000
DTSTAMP:20260424T100126
CREATED:20251022T133437Z
LAST-MODIFIED:20251022T133437Z
UID:10012160-1761584400-1761604200@craiovalive.ro
SUMMARY:Teatrul Național „Marin Sorescu” Craiova - 175 de ani de excelență culturală
DESCRIPTION:TEATRUL NAȚIONAL „MARIN SORESCU” CRAIOVA – 175 DE ANI DE EXCELENȚĂ CULTURALĂ \n\n\nAnul acesta\, Teatrul Național „Marin Sorescu” din Craiova sărbătorește 175 de ani de istorie\, artă și emoție.\nDe la 1850 până astăzi\, Naționalul craiovean a fost și rămâne un reper al creației teatrale românești\, o scenă a marilor artiști și un loc unde pasiunea pentru teatru s-a transformat\, generație după generație\, în artă.\n\n\nVă invităm să fiți alături de noi la evenimentele aniversare care marchează această sărbătoare:\n\n\n 26 OCTOMBRIE 2025\n 17:00 – Conferința „Once Upon a Time in Craiova” cu Marina Constantinescu – Sala Ion D. Sîrbu\n 18:00 – Vernisajul expoziției „Teatrul Național Craiova la 175 de ani” curatoriată de Emil Boroghină – Foaierul TNC\n\n\n 27 OCTOMBRIE 2025\n 17:00 – Lansarea volumelor:\n „Panorama Teatrului Național Marin Sorescu\, Craiova (2000 – 2025)” – autor Nicolae Coande\n Prezentarea “Istoriei Teatrului Național Craiova\, 1850–2000” – autori Alexandru Firescu și Constantin Gheorghiu\n 19:00 – Spectacol invitat „Medea” – Teatrul Național „Ivan Vazov”\, Sofia\, regia Declan Donnellan.\n 21:00 – Spectacol „Oedip Rege” – Teatrul Național „Marin Sorescu”\, regia Declan Donnellan.\n\n\n 28 OCTOMBRIE 2025\n 17:00 – Proiecția interviului cu Emil Boroghină\, realizat de Mirela Giodea (TVR) – Muzeul TNC\n 18:00 – Conferința „Teatrul Național Craiova → spre 2×175 de ani” cu Octavian Szalad\n\n\n\n*Accesul la evenimente este liber\, în limita locurilor disponibile.\n**Accesul la spectacole se face în baza biletelor achiziționate online sau la agenția teatrală.\n\n\n\n Trei zile dedicate memoriei\, prezentului și viitorului unei instituții care continuă să inspire și să unească prin artă.
URL:https://craiovalive.ro/eveniment/teatrul-national-marin-sorescu-craiova-175-de-ani-de-excelenta-culturala/2025-10-27/
LOCATION:Teatrul Național Marin Sorescu Craiova\, Str. A. I. Cuza\, nr. 11\, Craiova\, Dolj\, 200585\, România
CATEGORIES:Conferință,Expoziție,Teatru
ATTACH;FMTTYPE=image/jpeg:https://craiovalive.ro/wp-content/uploads/2025/10/Teatrul-National-„Marin-Sorescu-Craiova-175-de-ani-de-excelenta-culturala.jpg
ORGANIZER;CN="Teatrul Na%C8%9Bional Marin Sorescu Craiova":MAILTO:secretariat@tncms.ro
GEO:44.318967618949;23.799117766692
X-APPLE-STRUCTURED-LOCATION;VALUE=URI;X-ADDRESS=Teatrul Național Marin Sorescu Craiova Str. A. I. Cuza nr. 11 Craiova Dolj 200585 România;X-APPLE-RADIUS=500;X-TITLE=Str. A. I. Cuza\, nr. 11:geo:23.799117766692,44.318967618949
END:VEVENT
BEGIN:VEVENT
DTSTART;TZID=Europe/Bucharest:20251028T170000
DTEND;TZID=Europe/Bucharest:20251028T190000
DTSTAMP:20260424T100126
CREATED:20251022T133437Z
LAST-MODIFIED:20251022T133437Z
UID:10012161-1761670800-1761678000@craiovalive.ro
SUMMARY:Teatrul Național „Marin Sorescu” Craiova - 175 de ani de excelență culturală
DESCRIPTION:TEATRUL NAȚIONAL „MARIN SORESCU” CRAIOVA – 175 DE ANI DE EXCELENȚĂ CULTURALĂ \n\n\nAnul acesta\, Teatrul Național „Marin Sorescu” din Craiova sărbătorește 175 de ani de istorie\, artă și emoție.\nDe la 1850 până astăzi\, Naționalul craiovean a fost și rămâne un reper al creației teatrale românești\, o scenă a marilor artiști și un loc unde pasiunea pentru teatru s-a transformat\, generație după generație\, în artă.\n\n\nVă invităm să fiți alături de noi la evenimentele aniversare care marchează această sărbătoare:\n\n\n 26 OCTOMBRIE 2025\n 17:00 – Conferința „Once Upon a Time in Craiova” cu Marina Constantinescu – Sala Ion D. Sîrbu\n 18:00 – Vernisajul expoziției „Teatrul Național Craiova la 175 de ani” curatoriată de Emil Boroghină – Foaierul TNC\n\n\n 27 OCTOMBRIE 2025\n 17:00 – Lansarea volumelor:\n „Panorama Teatrului Național Marin Sorescu\, Craiova (2000 – 2025)” – autor Nicolae Coande\n Prezentarea “Istoriei Teatrului Național Craiova\, 1850–2000” – autori Alexandru Firescu și Constantin Gheorghiu\n 19:00 – Spectacol invitat „Medea” – Teatrul Național „Ivan Vazov”\, Sofia\, regia Declan Donnellan.\n 21:00 – Spectacol „Oedip Rege” – Teatrul Național „Marin Sorescu”\, regia Declan Donnellan.\n\n\n 28 OCTOMBRIE 2025\n 17:00 – Proiecția interviului cu Emil Boroghină\, realizat de Mirela Giodea (TVR) – Muzeul TNC\n 18:00 – Conferința „Teatrul Național Craiova → spre 2×175 de ani” cu Octavian Szalad\n\n\n\n*Accesul la evenimente este liber\, în limita locurilor disponibile.\n**Accesul la spectacole se face în baza biletelor achiziționate online sau la agenția teatrală.\n\n\n\n Trei zile dedicate memoriei\, prezentului și viitorului unei instituții care continuă să inspire și să unească prin artă.
URL:https://craiovalive.ro/eveniment/teatrul-national-marin-sorescu-craiova-175-de-ani-de-excelenta-culturala/2025-10-28/
LOCATION:Teatrul Național Marin Sorescu Craiova\, Str. A. I. Cuza\, nr. 11\, Craiova\, Dolj\, 200585\, România
CATEGORIES:Conferință,Expoziție,Teatru
ATTACH;FMTTYPE=image/jpeg:https://craiovalive.ro/wp-content/uploads/2025/10/Teatrul-National-„Marin-Sorescu-Craiova-175-de-ani-de-excelenta-culturala.jpg
ORGANIZER;CN="Teatrul Na%C8%9Bional Marin Sorescu Craiova":MAILTO:secretariat@tncms.ro
GEO:44.318967618949;23.799117766692
X-APPLE-STRUCTURED-LOCATION;VALUE=URI;X-ADDRESS=Teatrul Național Marin Sorescu Craiova Str. A. I. Cuza nr. 11 Craiova Dolj 200585 România;X-APPLE-RADIUS=500;X-TITLE=Str. A. I. Cuza\, nr. 11:geo:23.799117766692,44.318967618949
END:VEVENT
END:VCALENDAR