BEGIN:VCALENDAR
VERSION:2.0
PRODID:-//Craiova Live - ECPv6.15.18//NONSGML v1.0//EN
CALSCALE:GREGORIAN
METHOD:PUBLISH
X-WR-CALNAME:Craiova Live
X-ORIGINAL-URL:https://craiovalive.ro
X-WR-CALDESC:Evenimente pentru Craiova Live
REFRESH-INTERVAL;VALUE=DURATION:PT1H
X-Robots-Tag:noindex
X-PUBLISHED-TTL:PT1H
BEGIN:VTIMEZONE
TZID:Europe/Bucharest
BEGIN:DAYLIGHT
TZOFFSETFROM:+0200
TZOFFSETTO:+0300
TZNAME:EEST
DTSTART:20240331T010000
END:DAYLIGHT
BEGIN:STANDARD
TZOFFSETFROM:+0300
TZOFFSETTO:+0200
TZNAME:EET
DTSTART:20241027T010000
END:STANDARD
BEGIN:DAYLIGHT
TZOFFSETFROM:+0200
TZOFFSETTO:+0300
TZNAME:EEST
DTSTART:20250330T010000
END:DAYLIGHT
BEGIN:STANDARD
TZOFFSETFROM:+0300
TZOFFSETTO:+0200
TZNAME:EET
DTSTART:20251026T010000
END:STANDARD
BEGIN:DAYLIGHT
TZOFFSETFROM:+0200
TZOFFSETTO:+0300
TZNAME:EEST
DTSTART:20260329T010000
END:DAYLIGHT
BEGIN:STANDARD
TZOFFSETFROM:+0300
TZOFFSETTO:+0200
TZNAME:EET
DTSTART:20261025T010000
END:STANDARD
END:VTIMEZONE
BEGIN:VEVENT
DTSTART;TZID=Europe/Bucharest:20251005T090000
DTEND;TZID=Europe/Bucharest:20251006T170000
DTSTAMP:20260424T083118
CREATED:20251001T061006Z
LAST-MODIFIED:20251001T061135Z
UID:10010276-1759654800-1759770000@craiovalive.ro
SUMMARY:NASA "Space Apps Challenge 2025" Hackathon
DESCRIPTION:A 5-A EDIȚIE DIN CRAIOVA A HACKATHONULUI** GLOBAL NASA SPACEAPPS CHALLENGE 2025 \nCel mai mare hackathon anual global ajunge din nou la Craiova pe 4-5 octombrie 2025 \nOrganizatorii de la PxR2 (Pi aR Pătrat)\, Liceul SRB și Chenist Academy anunță că vor găzdui din nou prestigiosul hackathon NASA SpaceApps Challenge. Evenimentul marchează a 9-a ediție organizată de echipa locală\, dintre care 4 în Bănie\, consolidând astfel poziția Craiovei pe harta globală a inovației tehnologice spațiale\, continuând o tradiție de succes care a început în 2018. \nTimp de 48 de ore intensive\, echipele multidisciplinare colaborează în dezvoltarea de soluții inovatoare la provocări reale din lumea contemporană. \nParticipanții au acces la datele publice ale NASA și ale partenerilor săi din agențiile spațiale\, datele respective fiind inaccesibile în mod uzual.\nDesfășurare evenimentului se va face la sediul Liceului SRB\, Bulevardul Dacia\, nr. 155\, Craiova\, cât și în varianta online cu participarea celor interesați\, pe site-ul proiectului și o platformă de chat pusă la dispoziție de organizatori.\nCondiții de participare:\n● Cunoașterea limbii engleze (prezentările și materialele sunt în engleză)\n● Aducerea propriului laptop și a încărcătorului\n● Entuziasm și dorința de a învăța lucruri noi \nAtenție: Participanții cu vârsta sub 13 ani necesită supraveghere de către un adult pe toată durata hackathonului.\nParticipare și Accesibilitate\nParticiparea la hackathon este gratuită\, acest lucru fiind posibil datorită generozității sponsorilor.\nEvenimentul va avea un format hibrid\, permițând participarea atât în persoană\, cât și online\, asigurând accesibilitatea maximă pentru toți inovatorii interesați să contribuie la viitorul explorării spațiale.\nSpaceApps se adresează unui spectru larg de participanți: programatori\, oameni de știință\, designeri\, ingineri\, pasionați de tehnologie\, specialiști în storytelling\, producători\, constructori și\nvizionari din întreaga lume. Acest eveniment este destinat oricui este pasionat de identificarea de soluții\, indiferent de experiența anterioară în hackathoane. \nFormarea echipelor:\nEchipele Space Apps sunt alcătuite din 2-6 membri și pot fi formate în două moduri:\nParticipanții pot veni cu echipe deja constituite (înregistrarea se face individual)\nCei care vin singuri vor fi sprijiniți de organizatori pentru a-și găsi coechipieri ideali.\nEvenimentul încurajează participarea studenților\, inginerilor\, artiștilor și experților în storytelling\, deoarece provocările includ atât aspecte tehnice\, cât și sarcini ce necesită abilități artistice\, cunoștințe de business sau imaginație creativă. \nProgram: \nSâmbătă\, 5 octombrie 2025:\n• Orientarea obligatorie pentru participanți\n• Check-in și configurarea conturilor software necesare\n• Prezentarea provocărilor și a sponsorilor\n• Formarea echipelor și pregătirea pentru weekendul de programare\n• Cina \nDuminică\, 6 octombrie 2025:\n09:00 – Micul dejun și lansarea oficială a hackathonului.\nDezvoltarea proiectelor cu suport de la mentori și organizatori\n12:00 – Termenul limită pentru predarea proiectelor.\nDupă-amiaza – Demonstrațiile echipelor (transmise live la nivel global)\n17:00 – Anunțarea câștigătorilor și premierea \nOrganizatori: PxR2 (PR Pătrat)\, Chenist Academy\, Liceul SRB\nSponsor Principal: Chenist Cybersecurity\, ARTI\nParteneri Strategici: Universitatea din Craiova\, Școala Romano-Britanică\, Cluster EduTIC\, ARTI\, Society for Computing Technologies\nParteneri Media: Kiss FM\n——\nDespre SpaceApps Challenge\nSpaceApps Challenge este cel mai mare hackathon anual global\, care angajează în fiecare an mii de solutionatori de probleme din întreaga lume. Evenimentul promovează rezolvarea\ncolaborativă a problemelor cu scopul de a produce soluții open-source relevante pentru a aborda necesitățile globale aplicabile atât vieții de pe Pământ\, cât și vieții din spațiu.\nSpaceApps Challenge este un program de incubare al NASA organizat anual începând cu 2012 în hub-uri din întreaga lume. Programul a demonstrat o creștere spectaculoasă – de la primele ediții la peste 220.000 de participanți din 185 de țări și teritorii în prezent. În 2018\, evenimentul a angajat peste 18.000 de persoane din 75 de țări și 200 de orașe\, marcând un moment de referință în expansiunea globală a acestei inițiative.\nMisiunea NASA Space Apps Challenge este de a stimula colaborarea\, creativitatea și gândirea critică\, de a încuraja interesul pentru explorarea Pământului și a spațiului\, de a crește gradul de conștientizare globală asupra datelor NASA și de a dezvolta următoarea generație de oameni de știință\, ingineri\, specialiști în tehnologie și designeri.\nDe la lansarea sa în 2012\, acest program inovator de incubare al NASA a cooptat peste 220.000 de persoane din peste 185 de țări și teritorii\, fiind administrat de Divizia de Științe a Pământului din cadrul Direcției Misiunii Științifice de la sediul NASA din Washington\, DC.\nCraiova s-a alăturat acestei rețele globale în 2018\, când prima ediție locală a atras 87 de participanți care au format 12 echipe competitive. Edițiile craiovene s-au remarcat prin diversitatea participanților: elevi premianți la olimpiade de robotică și informatică\, studenți de la facultățile tehnice\, angajați din industria IT\, antreprenori\, profesori de licee și cadre universitare. Această combinație interdisciplinară a dus la soluții inovatoare și la formarea unei comunități locale active în domeniul tehnologiilor spațiale. \nDespre PxR2 (PR Pătrat) și Chenist Academy:\nPR Pătrat și Chenist Academy sunt organizații dedicate promovării inovației tehnologice și educației în domeniul cybersecurity și tehnologiilor spațiale\, cu o experiență vastă în organizarea de evenimente internaționale de anvergură. \nO Tradiție de Excelență cu Impact Global\nSpaceApps Challenge Craiova a devenit un eveniment de referință în peisajul tehnologic românesc din 2018\, când s-a desfășurat prima ediție locală la Muzeul Olteniei. În 2018\, evenimentul a atras 87 de participanți care au format 12 echipe\, demonstrând interesul crescut al comunității locale pentru inovația spațială. \nSuccese remarcabile din edițiile anterioare:\nÎn 2022\, locul I a fost câștigat de Andrei Dumitru\, un elev din clasa a XI-a de la Liceul Teoretic „Ionita Asan” din Caracal. Ediția din 2019 a fost găzduită de Muzeul Olteniei și a atras aproximativ 100 de participanți\, majoritatea cu profil tehnic\nEvenimentul a demonstrat capacitatea de a pune laolaltă oameni deschiși din toate domeniile\, creând oportunități de networking și colaborare interdisciplinară.\nOrganizatorul principal\, Alin Mechenici\, aduce o experiență vastă\, fiind la a IX-a ediție de SpaceApps Challenge în 2025\, după ce anterior a co-organizat edițiile din 2016 și 2017 în Mjardevi Science Park\, Linköping\, Suedia. \nImpact și Dezvoltare Durabilă\nProiectele realizate în cadrul SpaceApps sunt dezvoltate sub licență „Open Source”\, ceea ce înseamnă că pot fi folosite de oricine și pot fi dezvoltate ulterior în diferite forme. Această abordare permite ca ideile să fie transformate în startup-uri\, companii sau proiecte ce pot aduce schimbări pozitive pentru mediu\, umanitate și viitorul planetei.\nNASA oferă cadrul\, datele deschise (open-data) și temele\, iar organizatorii locali caută împreună cu partenerii oameni proactivi pentru a rezolva problemele Pământului și pentru a găsi soluții pentru generațiile viitoare.\nCompaniile și organizațiile interesate să se alăture acestei inițiative pot contacta organizatorii pentru oportunități de sponsorizare și parteneriat la numărul de telefon 0740303764 sau prin formularele de contact disponibile pe site.\n——\nÎnregistrare și Informații Suplimentare\nPlatforma de înregistrare pentru participanți este disponibilă la adresa: https://www.spaceappschallenge.org/2025/local-events/craiova/\nEvenimentul se desfășoară în conformitate cu Codul de Conduită de la Berlin\, asigurând un mediu sigur și incluziv pentru toți participanții.\n______\n**Hackathon = cuvânt format din alăturarea termenilor “hack” – acțiune specifică domeniului IT\, care presupune modificarea scopului unui produs soft/hard pentru a deservi propriile interese -\, și “athon” – din grecescul maraton. Hackathon presupune un eveniment de 48 de ore\, de regulă\, prin care o echipa sau mai multe lucrează împreună pentru a găsi soluții noi la probleme actuale\, într-un timp foarte scurt.
URL:https://craiovalive.ro/eveniment/nasa-space-apps-challenge-2025-hackathon/
LOCATION:Dolj
CATEGORIES:Ateliere,Conferință
ATTACH;FMTTYPE=image/jpeg:https://craiovalive.ro/wp-content/uploads/2025/10/NASA-Hackaton-Craiova-2025.jpg
END:VEVENT
BEGIN:VEVENT
DTSTART;TZID=Europe/Bucharest:20251008T150000
DTEND;TZID=Europe/Bucharest:20251008T173000
DTSTAMP:20260424T083118
CREATED:20251006T082636Z
LAST-MODIFIED:20251006T094630Z
UID:10010279-1759935600-1759944600@craiovalive.ro
SUMMARY:Conferința LEXIS
DESCRIPTION:Asociația pentru Copii Dislexici Craiova împreuna cu Asociația MIRIAS Educational organizează ediția a II-a a proiectului DISLEXIA – EDUCAȚIE FĂRĂ BARIERE\, în cadrul căreia se va desfășura Conferința LEXIS\, un eveniment dedicat înțelegerii și sprijinirii copiilor cu Tulburări Specifice de Învățare (TSI)\, cu accent pe dislexie. Evenimentul va avea loc în data de 8 octombrie 2025\, între orele 15:00–17:30\, la Hotel Ramada\, Craiova\, și reunește experți naționali în educație\, psihologie și intervenție terapeutică. \nConferința își propune să devină o resursa importanta de informare și conștientizare\, un schimb de experiență\, adresandu-se în principal cadrelor didactice\, specialiștilor în educație\, psihologilor\, logopezilor\, formatorilor\, dar și factorilor de decizie din domeniul învățământului. \n Obiectivele principale ale conferinței: \n\nPopularizarea existenței și înțelegerii fenomenului TSI în județul Dolj;\nPromovarea metodelor adecvate de evaluare și intervenție;\nPrezentarea exemplelor de bună practică adaptate copiilor din ciclul preșcolar și primar;\nCreșterea gradului de conștientizare privind drepturile și nevoile copiilor dislexici.\n\nEvenimentul face parte din proiectul LEXIS și continuă demersurile de sensibilizare și educare a partenerilor educaționali – cadre didactice\, părinți și specialiști – în sprijinul incluziunii copiilor cu dificultăți de învățare. \n Printre invitații speciali se numără: \n\nDna Angela Ioan\, președinte ABCD – Asociația București Pentru Copii Dislexici\nDna Lorana Gavril\, psiholog clinician\, specialist în terapia copiilor dislexici\nDl  Adrian Roșan\, prof. univ. dr. – Universitatea Babeș–Bolyai\, Cluj-Napoca\nDna Ramona Mihaela Roșu\, profesor\, președinte Asociația MIRIAS Educational\, membru în echipa proiectului LEXIS\n\nConferința va include și o sesiune interactivă de întrebări și răspunsuri cu invitații. \nToți participanții vor primi diplome de participare semnate de Inspectoratul Școlar Județean Dolj si CJRAE Dolj\, recunoscute în activitatea profesională a cadrelor didactice. \nEveniment conex: „Harta lui Elian” – teatru educațional despre dislexie \nÎn data de 9 octombrie 2025\, ora 19:00\, la Teatrul Național „Marin Sorescu” – Sala Studio\, publicul este invitat să vizioneze piesa „Harta lui Elian”\, susținută de Teatrul GONG din Sibiu. \nSpectacolul aduce în prim-plan provocările și trăirile unui copil dislexic\, într-un mod artistic\, sensibil și educativ. \nEvenimentul se adresează atât specialiștilor din educație\, cât și elevilor de gimnaziu și părinților\, fiind o ocazie de a înțelege dislexia dintr-o perspectivă emoțională și empatică. \n  \n Detalii despre înscriere: \nParticiparea la conferinta este gratuită\, în baza înscrierii prealabile prin completarea link-ului de înscriere\, de pe pagina de facebook a Asociatiei\, până la data de 6 octombrie 2025.  \n  \nDespre proiectul LEXIS \nProiectul LEXIS are ca scop creșterea gradului de informare și sprijin pentru copiii cu dislexie\, oferind instrumente concrete cadrelor didactice și familiilor pentru a valorifica potențialul individual al fiecărui copil. Inițiativa încurajează dezvoltarea stimei de sine\, a abilităților de comunicare și a relațiilor sănătoase cu mediul școlar și social.
URL:https://craiovalive.ro/eveniment/conferinta-lexis/
LOCATION:Locații multiple\, Craiova\, Dolj\, România
CATEGORIES:Conferință
ATTACH;FMTTYPE=image/png:https://craiovalive.ro/wp-content/uploads/2025/10/Conferinta-Lexis-Craiova.png
GEO:44.3301785;23.7948808
END:VEVENT
BEGIN:VEVENT
DTSTART;TZID=Europe/Bucharest:20251008T160000
DTEND;TZID=Europe/Bucharest:20251008T170000
DTSTAMP:20260424T083118
CREATED:20251006T095904Z
LAST-MODIFIED:20251006T095904Z
UID:10010282-1759939200-1759942800@craiovalive.ro
SUMMARY:Ziua limbii\, alfabetului și culturii armene
DESCRIPTION:Sucursala Craiova a Uniunii Armenilor din România organizează evenimentul Ziua limbii\, alfabetului și culturii armene la Biblioteca Județeană Alexandru și Aristia Aman\, miercuri\, 8 octombrie a.c.\, la ora 16:00. \n 
URL:https://craiovalive.ro/eveniment/ziua-limbii-alfabetului-si-culturii-armene/
LOCATION:Biblioteca Județeană Alexandru și Aristia Aman\, Str. M. Kogălniceanu\, nr. 9\, Craiova\, Dolj\, România
CATEGORIES:Conferință
ATTACH;FMTTYPE=image/jpeg:https://craiovalive.ro/wp-content/uploads/2025/10/Uniunea-Armenilor-din-Romania.jpg
GEO:44.3157663;23.796749
X-APPLE-STRUCTURED-LOCATION;VALUE=URI;X-ADDRESS=Biblioteca Județeană Alexandru și Aristia Aman Str. M. Kogălniceanu nr. 9 Craiova Dolj România;X-APPLE-RADIUS=500;X-TITLE=Str. M. Kogălniceanu\, nr. 9:geo:23.796749,44.3157663
END:VEVENT
BEGIN:VEVENT
DTSTART;TZID=Europe/Bucharest:20251009T183000
DTEND;TZID=Europe/Bucharest:20251009T203000
DTSTAMP:20260424T083118
CREATED:20251006T093425Z
LAST-MODIFIED:20251006T093425Z
UID:10010280-1760034600-1760041800@craiovalive.ro
SUMMARY:CBC #96 : Imobiliare pe Social Media: Cum vinzi prin conținut? – Beniamin
DESCRIPTION: Imobiliare pe Social Media: Cum vinzi prin conținut?\n Clipuri virale cu milioane de vizualizări ➝ transformate în lead-uri și vânzări reale.\n 9 octombrie |  18:30 Hotel Restaurant Royal Craiova Invitat special: Beniamin (Beniamin Imobiliare) – agent imobiliar și creatorul @beniamin.live\, cu peste 100.000 urmăritori și 1\,7 milioane aprecieri pe TikTok.\nCe vei învăța:\n• Cum transformi vizualizările în clienți calificați • Exemple reale din imobiliare: apartamente\, case\, tururi video • Sesiune Q&A aplicată + networking cu antreprenori și investitori \nPentru cine:\n Antreprenori\, agenți imobiliari\, investitori\, freelanceri & marketeri – oricine vrea să vândă prin conținut.\nBonus:\n Networking într-o atmosferă relaxată\, cu degustare profesională de vinuri Purcari  și finger food atent pregătite.\nÎnregistrează-te:\n Locuri limitate. Rezervă-ți locul aici: https://craiovabusinessclub.ro/cbc-96-imobiliare-pe…\n Pleci cu tips & tricks direct de la un practician al contentului viral și un plan clar pentru conținut care aduce clienți și contracte semnate.
URL:https://craiovalive.ro/eveniment/cbc-96-imobiliare-pe-social-media-cum-vinzi-prin-continut-beniamin/
LOCATION:Dolj
CATEGORIES:Conferință
ATTACH;FMTTYPE=image/jpeg:https://craiovalive.ro/wp-content/uploads/2025/10/CBC96-Imobiliare-pe-Social-Media-Cum-vinzi-prin-continut.jpg
END:VEVENT
END:VCALENDAR