BEGIN:VCALENDAR
VERSION:2.0
PRODID:-//Craiova Live - ECPv6.15.18//NONSGML v1.0//EN
CALSCALE:GREGORIAN
METHOD:PUBLISH
X-ORIGINAL-URL:https://craiovalive.ro
X-WR-CALDESC:Evenimente pentru Craiova Live
REFRESH-INTERVAL;VALUE=DURATION:PT1H
X-Robots-Tag:noindex
X-PUBLISHED-TTL:PT1H
BEGIN:VTIMEZONE
TZID:Europe/Bucharest
BEGIN:DAYLIGHT
TZOFFSETFROM:+0200
TZOFFSETTO:+0300
TZNAME:EEST
DTSTART:20240331T010000
END:DAYLIGHT
BEGIN:STANDARD
TZOFFSETFROM:+0300
TZOFFSETTO:+0200
TZNAME:EET
DTSTART:20241027T010000
END:STANDARD
BEGIN:DAYLIGHT
TZOFFSETFROM:+0200
TZOFFSETTO:+0300
TZNAME:EEST
DTSTART:20250330T010000
END:DAYLIGHT
BEGIN:STANDARD
TZOFFSETFROM:+0300
TZOFFSETTO:+0200
TZNAME:EET
DTSTART:20251026T010000
END:STANDARD
BEGIN:DAYLIGHT
TZOFFSETFROM:+0200
TZOFFSETTO:+0300
TZNAME:EEST
DTSTART:20260329T010000
END:DAYLIGHT
BEGIN:STANDARD
TZOFFSETFROM:+0300
TZOFFSETTO:+0200
TZNAME:EET
DTSTART:20261025T010000
END:STANDARD
END:VTIMEZONE
BEGIN:VEVENT
DTSTART;TZID=Europe/Bucharest:20250924T120000
DTEND;TZID=Europe/Bucharest:20250924T130000
DTSTAMP:20260424T072144
CREATED:20250923T044111Z
LAST-MODIFIED:20250923T044111Z
UID:10010252-1758715200-1758718800@craiovalive.ro
SUMMARY:Lansare de carte "Pasărea Măiastră"
DESCRIPTION:Biblioteca Județeană „Alexandru și Aristia Aman” se alătură celei de-a XXVIII-a ediții a Festivalului – Concurs Național al Interpreților Cântecului Popular Românesc „Maria Tănase”\, ce va avea loc la Craiova\, în perioada 23 – 25 septembrie. \nAstfel\, în cadrul prestigiosului eveniment\, Biblioteca Județeană va fi prezentă în Foaierul Teatrului Național „Marin Sorescu” cu expozițiile Maria Tănase în colecțiile Bibliotecii Județene „Alexandru și Aristia Aman” și Portul popular românesc\, expoziție de desene realizate de elevii Liceului de Arte „Marin Sorescu” și ai Școlii Gimnaziale „Gheorghe Țițeica”\, dedicate personalității și operei Mariei Tănase\, precum și tradițiilor populare românești. \nDe asemenea\, miercuri\, 24 septembrie\, de la ora 12.00\, în cadrul Festivalului-Concurs „Maria Tănase”\, va fi lansat volumul „Pasărea măiastră”\, semnat de Tudor Nedelcea\, volum dedicat personalității inegalabilei artiste. \nVă invităm să ne fiți alături și să descoperiți\, în ambianța festivalului\, frumusețea tradițiilor și  a portului popular românesc.
URL:https://craiovalive.ro/eveniment/lansare-de-carte-pasarea-maiastra/
LOCATION:Teatrul Național Craiova – Foaier\, Str. A. I. Cuza\, nr. 11\, Craiova\, Dolj\, 200585\, România
CATEGORIES:Conferință
ATTACH;FMTTYPE=image/jpeg:https://craiovalive.ro/wp-content/uploads/2025/09/Expozitii-evenimente-Biblioteca-Aman-cu-ocazia-Festivalului-Maria-Tanase-2025.jpeg
ORGANIZER;CN="Biblioteca Jude%C8%9Bean%C4%83 Alexandru %C8%99i Aristia Aman":MAILTO:bib@aman.ro
GEO:44.3186661;23.8003743
X-APPLE-STRUCTURED-LOCATION;VALUE=URI;X-ADDRESS=Teatrul Național Craiova – Foaier Str. A. I. Cuza nr. 11 Craiova Dolj 200585 România;X-APPLE-RADIUS=500;X-TITLE=Str. A. I. Cuza\, nr. 11:geo:23.8003743,44.3186661
END:VEVENT
END:VCALENDAR