BEGIN:VCALENDAR
VERSION:2.0
PRODID:-//Craiova Live - ECPv6.15.18//NONSGML v1.0//EN
CALSCALE:GREGORIAN
METHOD:PUBLISH
X-WR-CALNAME:Craiova Live
X-ORIGINAL-URL:https://craiovalive.ro
X-WR-CALDESC:Evenimente pentru Craiova Live
REFRESH-INTERVAL;VALUE=DURATION:PT1H
X-Robots-Tag:noindex
X-PUBLISHED-TTL:PT1H
BEGIN:VTIMEZONE
TZID:Europe/Bucharest
BEGIN:DAYLIGHT
TZOFFSETFROM:+0200
TZOFFSETTO:+0300
TZNAME:EEST
DTSTART:20240331T010000
END:DAYLIGHT
BEGIN:STANDARD
TZOFFSETFROM:+0300
TZOFFSETTO:+0200
TZNAME:EET
DTSTART:20241027T010000
END:STANDARD
BEGIN:DAYLIGHT
TZOFFSETFROM:+0200
TZOFFSETTO:+0300
TZNAME:EEST
DTSTART:20250330T010000
END:DAYLIGHT
BEGIN:STANDARD
TZOFFSETFROM:+0300
TZOFFSETTO:+0200
TZNAME:EET
DTSTART:20251026T010000
END:STANDARD
BEGIN:DAYLIGHT
TZOFFSETFROM:+0200
TZOFFSETTO:+0300
TZNAME:EEST
DTSTART:20260329T010000
END:DAYLIGHT
BEGIN:STANDARD
TZOFFSETFROM:+0300
TZOFFSETTO:+0200
TZNAME:EET
DTSTART:20261025T010000
END:STANDARD
END:VTIMEZONE
BEGIN:VEVENT
DTSTART;TZID=Europe/Bucharest:20250918T170000
DTEND;TZID=Europe/Bucharest:20250918T183000
DTSTAMP:20260424T131246
CREATED:20250917T074306Z
LAST-MODIFIED:20250917T074306Z
UID:10009755-1758214800-1758220200@craiovalive.ro
SUMMARY:Lansare de carte: „Părintele Mihalache Tudorică. Amintiri\, lecturi\, reflecții” - Mircea L. Nincu
DESCRIPTION:Biblioteca Județeană „Alexandru și Aristia Aman”  organizează joi\, 18 septembrie\, lansarea volumului „Părintele Mihalache Tudorică. Amintiri\, lecturi\, reflecții”\, autor Mircea L. Nincu. \nInvitați la eveniment sunt: Ioan Ioanicescu\, Ion Drăgușin\, Mihaela Albu\, Mircea Pospai\, Gabriela Păsărin. În cadrul manifestării\, publicul se va bucura de un moment artistic susținut de Anghel Rababoc. \nMihalache Tudorică (1 iunie 1950-26 august 2024) a fost preot\, poet și prozator\, membru al Uniunii Scriitorilor din România și al Uniunii Ziariștilor Profesioniști din România. \nA fost profesor la Seminarul Teologic din Craiova\, dar a renunţat la catedră pentru a se dedica slujirii şi scrisului. În două rânduri a obţinut Marele premiu pentru literatură din partea Uniunii Scriitorilor\, cu două dintre volumele sale de versuri: „Melancolia Îngerului“ şi „Ultimul Orb“. \nPreotul și scriitorul Mihalache Tudorică a primit o serie de premii şi distincții de-a lungul timpului\, inclusiv titlul de Cetăţean de Onoare al Craiovei și al orașului Filiași. \nDintre volumele publicate de părintele scriitor Mihalache Tudorică amintim: Poezii religioase româneşti\, vol. II (antologie de poezie religioasă românească\, 2019); Să vă plâng un cântec sau să vă cânt un plâns (antologie de Psalmi\, 2018); Nastrafia (antologie de proză\, 2016); Ultimii Psalmi (poezie\, 2016); Pâcla (proză scurtă\, 2009); Ochiul din ape (poezie\, 2009); Adânc pe adânc (antologie de poezie a clericilor membri ai Uniunii Scriitorilor\, 2006); Melancolia îngerului (antologie de poezie\, 2005); Gavvata (antologie de proză\, 2005); Mireasa desculţă (antologie de proză\, 2003); Întoarcerea numelui (poezie\, 2003); Blestemele (proză scurtă\, 2002); Poeme blestemate (poezie\, 2000); Bâlciul şi zarafii (pamflete\, eseuri\, 2000); Ultimul orb (poezie\, 1998); Mireasa desculţă (proză scurtă\, 1998); Moartea îngerului (poezie\, 1997); Catedrala lacrimilor (poezie\, 1996); Melancolia îngerului (poezie\, 1995); Zboruri lirice (poezie\, 1986). \n„Poezia a fost tot un fel de slujire a omului\, a fost în permanenţă legată de preoţie şi niciodată nu au intrat în conflict. A fost un adaos al slujirii preoţeşti şi\, într-o oarecare măsură\, a fost şi o slujire sacerdotală\, pentru că este o slujire a limbii româneşti\, o datorie pe care trebuie să o faci cu credinţă şi cu conştiinţa că nu poţi să lucrezi cu cuvintele limbii tale aşa cum vrei tu. Sunt momente în care privim neputincioşi la terorizarea sacrului\, în această situaţie cuvântul Bisericii este ca un clopot care trezeşte şi care-l cheamă pe om acolo unde-i este locul. Acesta este şi rolul poeziei mele astăzi\, de a trage un semnal de alarmă“. – Mihalache Tudorică. \nEvenimentul va avea loc începând cu ora 17:00\, în sala „Acad. Dinu C. Giurescu” a Bibliotecii Județene.
URL:https://craiovalive.ro/eveniment/lansare-de-carte-parintele-mihalache-tudorica-amintiri-lecturi-reflectii-mircea-l-nincu/
LOCATION:Biblioteca Județeană Alexandru și Aristia Aman\, Str. M. Kogălniceanu\, nr. 9\, Craiova\, Dolj\, România
CATEGORIES:Conferință
ATTACH;FMTTYPE=image/jpeg:https://craiovalive.ro/wp-content/uploads/2025/09/Lansare-de-carte-„Parintele-Mihalache-Tudorica.-Amintiri-lecturi-reflectii-Mircea-L.-Nincu.jpg
ORGANIZER;CN="Biblioteca Jude%C8%9Bean%C4%83 Alexandru %C8%99i Aristia Aman":MAILTO:bib@aman.ro
GEO:44.3157663;23.796749
X-APPLE-STRUCTURED-LOCATION;VALUE=URI;X-ADDRESS=Biblioteca Județeană Alexandru și Aristia Aman Str. M. Kogălniceanu nr. 9 Craiova Dolj România;X-APPLE-RADIUS=500;X-TITLE=Str. M. Kogălniceanu\, nr. 9:geo:23.796749,44.3157663
END:VEVENT
END:VCALENDAR