BEGIN:VCALENDAR
VERSION:2.0
PRODID:-//Craiova Live - ECPv6.15.18//NONSGML v1.0//EN
CALSCALE:GREGORIAN
METHOD:PUBLISH
X-WR-CALNAME:Craiova Live
X-ORIGINAL-URL:https://craiovalive.ro
X-WR-CALDESC:Evenimente pentru Craiova Live
REFRESH-INTERVAL;VALUE=DURATION:PT1H
X-Robots-Tag:noindex
X-PUBLISHED-TTL:PT1H
BEGIN:VTIMEZONE
TZID:Europe/Bucharest
BEGIN:DAYLIGHT
TZOFFSETFROM:+0200
TZOFFSETTO:+0300
TZNAME:EEST
DTSTART:20240331T010000
END:DAYLIGHT
BEGIN:STANDARD
TZOFFSETFROM:+0300
TZOFFSETTO:+0200
TZNAME:EET
DTSTART:20241027T010000
END:STANDARD
BEGIN:DAYLIGHT
TZOFFSETFROM:+0200
TZOFFSETTO:+0300
TZNAME:EEST
DTSTART:20250330T010000
END:DAYLIGHT
BEGIN:STANDARD
TZOFFSETFROM:+0300
TZOFFSETTO:+0200
TZNAME:EET
DTSTART:20251026T010000
END:STANDARD
BEGIN:DAYLIGHT
TZOFFSETFROM:+0200
TZOFFSETTO:+0300
TZNAME:EEST
DTSTART:20260329T010000
END:DAYLIGHT
BEGIN:STANDARD
TZOFFSETFROM:+0300
TZOFFSETTO:+0200
TZNAME:EET
DTSTART:20261025T010000
END:STANDARD
END:VTIMEZONE
BEGIN:VEVENT
DTSTART;TZID=Europe/Bucharest:20250913T110000
DTEND;TZID=Europe/Bucharest:20250913T120000
DTSTAMP:20260424T095957
CREATED:20250910T115847Z
LAST-MODIFIED:20250910T115847Z
UID:10009713-1757761200-1757764800@craiovalive.ro
SUMMARY:Lansare de carte "Malva și soldatul pierdut" - Maria Șarpe
DESCRIPTION:Muzeul Cărții și Exilului Românesc găzduiește sâmbătă\, 13 septembrie 2025\, începând cu ora 11.00\, lansarea volumului Malva și soldatul pierdut\, semnat de Maria Șarpe. \nEvenimentul va fi moderat de Gabriel Vlăduț\, președinte al Camerei de Comerț și Industrie Dolj. \nAlături de autoare\, la lansarea volumului Malva și soldatul pierdut se vor afla invitații: \n\nGheorghe Tudorașcu\, primar Dobrosloveni\nDan Lupescu\, scriitor\nClaudiu Colpacci\, scriitor\nGelu Nicolae\, actor\, regizor\n\nAutoarea a ales Muzeul Cărții și Exilului Românesc pentru cea de-a doua lansare a romanul Malva și soldatul pierdut dintr-o motivație personală. \n„Romanul „Malva și soldatul pierdut” își urmează drumul prin cea de-a doua lansare\, găzduită de Muzeul Cărții și Exilului Românesc din Craiova. \nPrima ei apariție s-a petrecut la Polovragi\, acolo unde legendele spun că zeii se prindeau în hora nemuririi. De acolo\, povestea a pornit în lume\, purtându-și amprenta mitică. \nAstăzi\, Malva ajunge într-un muzeu al exilului – un spațiu al plecărilor și al regăsirilor. Este o întâlnire cu o semnificație personală\, pentru că și eu am trăit experiența auto-exilului\, iar prin această carte simt cum drumurile dintre rădăcini și desprinderi se reunesc”.- Maria Șarpe \nLa finalul evenimentului de lansare\, participanții vor asista la un moment muzical oferit de Paul Șarpe.
URL:https://craiovalive.ro/eveniment/lansare-de-carte-malva-si-soldatul-pierdut-maria-sarpe/
LOCATION:Muzeul Cărții și Exilului Românesc\, Str. 24 Ianuarie nr. 4\, Craiova\, Dolj\, România
CATEGORIES:Conferință
ATTACH;FMTTYPE=image/jpeg:https://craiovalive.ro/wp-content/uploads/2025/09/Lansare-de-carte-Malva-si-soldatul-pierdut-Maria-Sarpe.jpeg
GEO:44.3141881;23.7984041
X-APPLE-STRUCTURED-LOCATION;VALUE=URI;X-ADDRESS=Muzeul Cărții și Exilului Românesc Str. 24 Ianuarie nr. 4 Craiova Dolj România;X-APPLE-RADIUS=500;X-TITLE=Str. 24 Ianuarie nr. 4:geo:23.7984041,44.3141881
END:VEVENT
END:VCALENDAR