BEGIN:VCALENDAR
VERSION:2.0
PRODID:-//Craiova Live - ECPv6.15.18//NONSGML v1.0//EN
CALSCALE:GREGORIAN
METHOD:PUBLISH
X-ORIGINAL-URL:https://craiovalive.ro
X-WR-CALDESC:Evenimente pentru Craiova Live
REFRESH-INTERVAL;VALUE=DURATION:PT1H
X-Robots-Tag:noindex
X-PUBLISHED-TTL:PT1H
BEGIN:VTIMEZONE
TZID:Europe/Bucharest
BEGIN:DAYLIGHT
TZOFFSETFROM:+0200
TZOFFSETTO:+0300
TZNAME:EEST
DTSTART:20240331T010000
END:DAYLIGHT
BEGIN:STANDARD
TZOFFSETFROM:+0300
TZOFFSETTO:+0200
TZNAME:EET
DTSTART:20241027T010000
END:STANDARD
BEGIN:DAYLIGHT
TZOFFSETFROM:+0200
TZOFFSETTO:+0300
TZNAME:EEST
DTSTART:20250330T010000
END:DAYLIGHT
BEGIN:STANDARD
TZOFFSETFROM:+0300
TZOFFSETTO:+0200
TZNAME:EET
DTSTART:20251026T010000
END:STANDARD
BEGIN:DAYLIGHT
TZOFFSETFROM:+0200
TZOFFSETTO:+0300
TZNAME:EEST
DTSTART:20260329T010000
END:DAYLIGHT
BEGIN:STANDARD
TZOFFSETFROM:+0300
TZOFFSETTO:+0200
TZNAME:EET
DTSTART:20261025T010000
END:STANDARD
END:VTIMEZONE
BEGIN:VEVENT
DTSTART;TZID=Europe/Bucharest:20250603T180000
DTEND;TZID=Europe/Bucharest:20250603T203000
DTSTAMP:20260424T150912
CREATED:20250521T105807Z
LAST-MODIFIED:20250521T105807Z
UID:10006603-1748973600-1748982600@craiovalive.ro
SUMMARY:Conferința Afaceri în siguranță – contracte comerciale
DESCRIPTION:Eveniment: Afaceri în siguranță – contracte comerciale 3 iunie 2025 18:00 – 20:30 Ramada Plaza\, Craiova Participare GRATUITĂ Înscrierea obligatorie: https://forms.gle/hTHT6B8HVNcW6VMG7\n𝐃𝐞𝐬𝐩𝐫𝐞 𝐞𝐯𝐞𝐧𝐢𝐦𝐞𝐧𝐭:Într-un context economic în continuă schimbare\, siguranța juridică a contractelor comerciale devine esențială pentru orice afacere. Vino pe 𝟑 𝐢𝐮𝐧𝐢𝐞 la Ramada Plaza Craiova și află cum poți preveni riscurile juridice în relațiile comerciale și cum poți construi contracte clare\, sigure și durabile.\nEvenimentul este dedicat antreprenorilor\, managerilor\, profesioniștilor din domeniul economic și tuturor celor implicați în luarea deciziilor de business\, oferind soluții aplicate și exemple practice din realitatea juridică a companiilor românești.\n 𝐒𝐩𝐞𝐚𝐤𝐞𝐫: 𝐅𝐥𝐨𝐫𝐢𝐧 𝐈𝐨𝐫𝐝𝐚𝐜𝐡𝐞Avocat cu peste 25 de ani de experiență în drept comercial\, Florin Iordache a lucrat exclusiv cu societăți și entități economice din multiple domenii.A activat anterior ca jurist și coordonator în companii multinaționale din domeniul financiar și oferă consultanță juridică de top în:– Drept societar\, bancar și al asigurărilor– Contracte comerciale și achiziții publice– Fiscalitate\, insolvență\, fuziuni\, divizări– Reprezentare în fața autorităților și instanțelorColaborează cu patronate și asociații din domeniul automotive\, transporturi și asigurări\, oferind servicii personalizate atât la nivel național\, cât și pentru companii internaționale active în România.\n Acces & Înscriere Locuri limitate – rezervă-ți locul completând formularul de înscriere: https://forms.gle/hTHT6B8HVNcW6VMG7\n Nu rata această oportunitate de a învăța de la un profesionist cu o carieră solidă în dreptul afacerilor și de a face networking cu alți oameni de business din Craiova!\nTe așteptăm cu drag! 
URL:https://craiovalive.ro/eveniment/conferinta-afaceri-in-siguranta-contracte-comerciale/
LOCATION:Ramada Plaza Craiova\, Calea Bucuresti\, nr 1\, Craiova\, Dolj\, România
CATEGORIES:Conferință
ATTACH;FMTTYPE=image/jpeg:https://craiovalive.ro/wp-content/uploads/2025/05/Conferinta-Afaceri-in-siguranta-–-contracte-comerciale.jpg
GEO:44.3214396;23.7964694
X-APPLE-STRUCTURED-LOCATION;VALUE=URI;X-ADDRESS=Ramada Plaza Craiova Calea Bucuresti nr 1 Craiova Dolj România;X-APPLE-RADIUS=500;X-TITLE=Calea Bucuresti\, nr 1:geo:23.7964694,44.3214396
END:VEVENT
BEGIN:VEVENT
DTSTART;TZID=Europe/Bucharest:20250604T170000
DTEND;TZID=Europe/Bucharest:20250604T180000
DTSTAMP:20260424T150912
CREATED:20250602T091408Z
LAST-MODIFIED:20250602T091408Z
UID:10006981-1749056400-1749060000@craiovalive.ro
SUMMARY:Lansare de carte: „Noi înșine. Un pelerinaj antropologic în lumea noastră de altădată” - Marian Munteanu
DESCRIPTION:Muzeul Cărții și Exilului Românesc găzduiește miercuri\, 4 iunie 2025\, la ora 17.00\, lansarea volumului „Noi înșine. Un pelerinaj antropologic în lumea noastră de altădată”\, autor Marian Munteanu. \nVolumul face parte din colecția „Rânduială”\, apărută la Editura 1 Print. \nLa evenimentul de lansare vor lua cuvântul invitații: \n– prof. univ. Dr. Gabriela Păsărin \n– prof. univ. dr. Dinică Ciubotea \n– Tudor Nedelcea\, critic și istoric literar \n– Cănureci Irinel Adrian\, director al Secției Folclor din cadrul Muzeului Olteniei \nVolumul „Noi înșine. Un pelerinaj antropologic în lumea noastră de altădată”\, de Marian Munteanu\, reprezintă o lucrare importantă în domeniul etnologiei și antropologiei culturale românești. Cartea investigează fondul cultural\, tradițiile și obiceiurile din satul românesc tradițional\, ce nu a fost supus influenței modernizării și globalizării. Prima parte a lucrării propune o incursiune în universul tradițional\, cu accent pe caracteristicile esențiale ale acestuia\, cu scopul de a sublinia importanța înțelegerii fundamentului cultural și spiritual al comunității rurale. Partea a doua reflectă un parcurs antropologic\, prin prezentarea unor selecții de balade populare\, mai puțin cunoscute astăzi.
URL:https://craiovalive.ro/eveniment/lansare-de-carte-noi-insine-un-pelerinaj-antropologic-in-lumea-noastra-de-altadata-marian-munteanu/
LOCATION:Muzeul Cărții și Exilului Românesc\, Str. 24 Ianuarie nr. 4\, Craiova\, Dolj\, România
CATEGORIES:Conferință
ATTACH;FMTTYPE=image/jpeg:https://craiovalive.ro/wp-content/uploads/2025/06/Lansare-de-carte-„Noi-insine.-Un-pelerinaj-antropologic-in-lumea-noastra-de-altadata-Marian-Munteanu.jpeg
ORGANIZER;CN="Biblioteca Jude%C8%9Bean%C4%83 Alexandru %C8%99i Aristia Aman":MAILTO:bib@aman.ro
GEO:44.3141881;23.7984041
X-APPLE-STRUCTURED-LOCATION;VALUE=URI;X-ADDRESS=Muzeul Cărții și Exilului Românesc Str. 24 Ianuarie nr. 4 Craiova Dolj România;X-APPLE-RADIUS=500;X-TITLE=Str. 24 Ianuarie nr. 4:geo:23.7984041,44.3141881
END:VEVENT
BEGIN:VEVENT
DTSTART;TZID=Europe/Bucharest:20250605T183000
DTEND;TZID=Europe/Bucharest:20250605T210000
DTSTAMP:20260424T150912
CREATED:20250519T091546Z
LAST-MODIFIED:20250519T091546Z
UID:10006584-1749148200-1749157200@craiovalive.ro
SUMMARY:CBC #92 Power of 3: Marketing Unleashed
DESCRIPTION: POWER OF 3: Marketing UnleashedVIDEO. ADS. WEB. Fără compromisuri.\nVrei să afli cum să-ți crești brandul și să atragi clienți într-o lume digitală saturată?Te invităm să descoperi formula câștigătoare într-o seară plină de insight-uri și strategii practice!\n Când? Joi\, 5 iunie\, ora 18:30 Unde? Anemona Boutique Hotel\n Speakeri invitați:\nTudor Ștefan\, Robert Ștefănescu & Alin Sandu\, specialiști în video marketing\, reclame online și dezvoltare web.\n Ce vei afla la eveniement:\nCum creezi videoclipuri captivante care vând.\nStrategii avansate pentru reclame online eficiente.\nCum să-ți optimizezi prezența web pentru a crește vânzările.\nFără promisiuni exagerate\, fără compromisuri—doar marketing care dă rezultate!\n Locurile sunt limitate—rezervă-ți acum locul și află cum să-ți duci afacerea la următorul nivel!\nPreț 49 RONEarly tickets 29 RON până pe 2.06.2025
URL:https://craiovalive.ro/eveniment/cbc-92-power-of-3-marketing-unleashed/
LOCATION:Dolj
CATEGORIES:Conferință
ATTACH;FMTTYPE=image/jpeg:https://craiovalive.ro/wp-content/uploads/2025/05/CBC92-Power-of-3-Marketing-Unleashed.jpg
END:VEVENT
BEGIN:VEVENT
DTSTART;TZID=Europe/Bucharest:20250606T170000
DTEND;TZID=Europe/Bucharest:20250606T180000
DTSTAMP:20260424T150912
CREATED:20250602T123526Z
LAST-MODIFIED:20250602T123526Z
UID:10006982-1749229200-1749232800@craiovalive.ro
SUMMARY:Lansare de carte: „Maiorescu. Confesiunile unui stoic” - Adrian Jicu
DESCRIPTION:Biblioteca Județeană „Alexandru și Aristia Aman”  găzduiește vineri\, 6 iunie 2025\, lansarea volumului  „Maiorescu. Confesiunile unui stoic” autor Adrian Jicu. Evenimentul se va desfășura în sala „Acad. Dinu C. Giurescu” începând cu ora 17.00\, în prezența invitaților:  Mihai Elne și Gabriel Nedelea. Moderator al evenimentului este Carmen Teodora Făgețeanu. Mircea și Lucian Suchici vor oferi celor prezenți un recital muzical. \nAdrian Jicu\, născut în 1979\, în „cartierele democrate” ale Bacăului\, este lector la Facultatea de Litere a Universității „Vasile Alecsandri” din Bacău și director al Bibliotecii Județene „C. Sturdza”. A absolvit Facultatea de Litere și Științe a Universității din Bacău\, apoi masteratul de Literatură comparată\, teorie literară şi antropologie culturală (Universitatea „Alexandru Ioan Cuza” Iași) și este doctor în ştiinţe umaniste\, cu o teză intitulată H. Sanielevici – studiu monografic (coordonator\, prof. univ. dr. Liviu Leonte\, Universitatea „Alexandru Ioan Cuza” Iași). A urmat Școala Postdoctorală a Academiei Române\, în cadrul proiectului Valorificarea identităților culturale în procesele globale (2011-2013)\, realizând o cercetare a publicisticii lui Mihai Eminescu. \nA publicat volumele Dinastia Sanielevici. Prințul Henric\, între uitare și reabilitare (Cartea Românească\, 2008)\, Coordonate ale identității naționale în publicistica lui Mihai Eminescu. Context românesc și context european (Editura Muzeului Național al Literaturii Române\, 2012)\, Caruselul cu hamsteri. Decupaje din literatura postdecembristă (Casa Cărții de Știință\, 2014)\,  Mon cher Basile. Eseu despre identitarul lui Vasile Alecsandri (Casa Cărții de Știință\, 2014)\, Baricada de hârtie. Cronici\, recenzii și alte anacronisme (Casa Cărții de Știință\, 2020) și romanul Iorgu (Humanitas\, 2022). A fost inclus în câteva antologii critice și de ficțiune. A obținut Premiul Special „Mihai Eminescu” al Centrului Cultural Bucovina și al Societății Scriitorilor Bucovineni (2014)\, Premiul de Excelență pe anul 2013\, în domeniul eminescologiei\, acordat de Centrul Academic Internațional „Mihai Eminescu” din Chișinău (2014) și Premiul pentru critică literară al revistei „Convorbiri literare” (2021). \nActualmente semnează cronici literare\, comentarii critice\, recenzii etc. în revistele „Observator cultural” și „Ateneu” și ține rubrica „Debuturi”\, în revista „Convorbiri literare”.
URL:https://craiovalive.ro/eveniment/lansare-de-carte-maiorescu-confesiunile-unui-stoic-adrian-jicu/
LOCATION:Biblioteca Județeană Alexandru și Aristia Aman\, Str. M. Kogălniceanu\, nr. 9\, Craiova\, Dolj\, România
CATEGORIES:Conferință
ATTACH;FMTTYPE=image/jpeg:https://craiovalive.ro/wp-content/uploads/2025/06/Lansare-de-carte-„Maiorescu.-Confesiunile-unui-stoic-Adrian-Jicu.jpeg
ORGANIZER;CN="Biblioteca Jude%C8%9Bean%C4%83 Alexandru %C8%99i Aristia Aman":MAILTO:bib@aman.ro
GEO:44.3157663;23.796749
X-APPLE-STRUCTURED-LOCATION;VALUE=URI;X-ADDRESS=Biblioteca Județeană Alexandru și Aristia Aman Str. M. Kogălniceanu nr. 9 Craiova Dolj România;X-APPLE-RADIUS=500;X-TITLE=Str. M. Kogălniceanu\, nr. 9:geo:23.796749,44.3157663
END:VEVENT
END:VCALENDAR