BEGIN:VCALENDAR
VERSION:2.0
PRODID:-//Craiova Live - ECPv6.15.18//NONSGML v1.0//EN
CALSCALE:GREGORIAN
METHOD:PUBLISH
X-WR-CALNAME:Craiova Live
X-ORIGINAL-URL:https://craiovalive.ro
X-WR-CALDESC:Evenimente pentru Craiova Live
REFRESH-INTERVAL;VALUE=DURATION:PT1H
X-Robots-Tag:noindex
X-PUBLISHED-TTL:PT1H
BEGIN:VTIMEZONE
TZID:Europe/Bucharest
BEGIN:DAYLIGHT
TZOFFSETFROM:+0200
TZOFFSETTO:+0300
TZNAME:EEST
DTSTART:20240331T010000
END:DAYLIGHT
BEGIN:STANDARD
TZOFFSETFROM:+0300
TZOFFSETTO:+0200
TZNAME:EET
DTSTART:20241027T010000
END:STANDARD
BEGIN:DAYLIGHT
TZOFFSETFROM:+0200
TZOFFSETTO:+0300
TZNAME:EEST
DTSTART:20250330T010000
END:DAYLIGHT
BEGIN:STANDARD
TZOFFSETFROM:+0300
TZOFFSETTO:+0200
TZNAME:EET
DTSTART:20251026T010000
END:STANDARD
BEGIN:DAYLIGHT
TZOFFSETFROM:+0200
TZOFFSETTO:+0300
TZNAME:EEST
DTSTART:20260329T010000
END:DAYLIGHT
BEGIN:STANDARD
TZOFFSETFROM:+0300
TZOFFSETTO:+0200
TZNAME:EET
DTSTART:20261025T010000
END:STANDARD
END:VTIMEZONE
BEGIN:VEVENT
DTSTART;TZID=Europe/Bucharest:20250528T103000
DTEND;TZID=Europe/Bucharest:20250528T133000
DTSTAMP:20260424T150507
CREATED:20250507T133828Z
LAST-MODIFIED:20250507T133828Z
UID:10006516-1748428200-1748439000@craiovalive.ro
SUMMARY:Sesiune de informare Europa Creativă la Craiova
DESCRIPTION:Biroul Europa Creativă România organizează la Craiova\, în data de 28 mai 2025\, în colaborare cu Centrul EUROPE DIRECT Sudul Olteniei un eveniment de informare despre oportunitățile de finanțare oferite de Subprogramul Cultura. \nParticipanții vor primi informații despre principalele oportunități disponibile\, cu accent pe finanțarea proiectelor de cooperare europeană. Vor fi prezentate caracteristicile acestei linii de finanțare\, criteriile de eligibilitate\, tipuri de proiecte\, conținutul dosarului de finanțare\, procesul de depunere a aplicațiilor\, exemple de proiecte selectate\, precum și alte aspecte relevante. \nSesiunea de informare se va desfășura la Muzeul Olteniei Craiova\, Secția Istorie și Arheologie (Sala de Conferințe)\, între orele 10:30 și 13:30. Agenda este disponibilă aici. \nEvenimentul este deschis publicului larg\, iar participarea este gratuită. \nPentru a putea fi prezenți\, vă rugăm să completați formularul online\, până la data de 23 mai 2025\, ora 12:00. \nDetalii suplimentare\, aici! \n\nEuropa Creativă este programul de finanțare al Uniunii Europene dedicat sprijinirii sectoarelor culturale și creative. Este gestionat de Comisia Europeană prin Agenția Executivă Europeană pentru Educație și Cultură (EACEA) și are trei componente: subprogramele Cultura și MEDIA și o componentă transsectorială care facilitează colaborarea între sectoarele creative și sprijină sectorul mass-media de știri prin promovarea alfabetizării mediatice\, a pluralismului și a libertății presei. \nSubprogramul Cultura se adresează tuturor sectoarelor culturale și creative\, cu excepția audiovizualului\, încurajând cooperarea și schimburile între organizațiile culturale și artiștii din Europa și nu numai. Sunt finanțate proiecte de cooperare între minimum trei țări; circulația operelor literare europene; rețele de organizații profesionale; platforme de promovare a artiștilor și a operelor lor; mobilitatea artiștilor și profesioniștilor din domeniul culturii. De asemenea\, sunt susținute acțiuni speciale precum premiile UE pentru patrimoniu cultural\, literatură\, arhitectură și muzică\, Capitalele Europene ale Culturii și Marca Patrimoniului European. \nFinanțarea se adresează organizațiilor din statele participante la program (statele membre ale Uniunii Europene și state non-UE participante la programul Europa Creativă)\, indiferent de tipul lor (autorități și instituții publice\, ONG-uri sau companii private)\, dar și artiștilor independenți.
URL:https://craiovalive.ro/eveniment/sesiune-de-informare-europa-creativa-la-craiova/
LOCATION:Muzeul Olteniei – Secția Istorie și Arheologie\, Str. Madona Dudu\, nr. 14\, Craiova\, Dolj\, România
CATEGORIES:Conferință
ATTACH;FMTTYPE=image/jpeg:https://craiovalive.ro/wp-content/uploads/2025/05/Sesiune-de-informare-Europa-Creativa-la-Craiova.jpg
GEO:44.3172068;23.7899296
X-APPLE-STRUCTURED-LOCATION;VALUE=URI;X-ADDRESS=Muzeul Olteniei – Secția Istorie și Arheologie Str. Madona Dudu nr. 14 Craiova Dolj România;X-APPLE-RADIUS=500;X-TITLE=Str. Madona Dudu\, nr. 14:geo:23.7899296,44.3172068
END:VEVENT
BEGIN:VEVENT
DTSTART;TZID=Europe/Bucharest:20250528T120000
DTEND;TZID=Europe/Bucharest:20250528T133000
DTSTAMP:20260424T150507
CREATED:20250527T172609Z
LAST-MODIFIED:20250527T172658Z
UID:10006625-1748433600-1748439000@craiovalive.ro
SUMMARY:Atelierul de lectură Synaxis: Prelegere „Adevăr și metodă la Sfântul Grigorie Palama”
DESCRIPTION:Muzeul Cărții și Exilului Românesc\, în parteneriat cu Facultatea de Teologie Ortodoxă din Craiova\, Biblioteca Județeană „Alexandru și Aristia Aman”\, Muzeul de Artă din Craiova\, Universitatea de Medicină și Farmacie\, Editura Predania și TVR Craiova\, cu binecuvântarea Înaltpreasfințitului Părinte Dr. Irineu\, Arhiepiscopul Craiovei și Mitropolitul Olteniei\, organizează miercuri\, 28 mai 2025\, o nouă întâlnire din seria Atelierelor de lectură Synaxis. \nEvenimentul se va desfășura începând cu ora 12.00\, în Sala de Festivități a Facultății de Teologie Ortodoxă (Str. Brestei\, nr. 24). \nTema acestei întâlniri este „Adevăr și metodă la Sfântul Grigorie Palama”\, iar invitatul special este Preasfințitul Părinte Ignatie Trif\, Episcopul Hușilor\, lector universitar la Facultatea de Teologie „Dumitru Stăniloae” din Iași\, cercetător și traducător al textelor patristice și specialist în literatura palamită. \nPrelegerea va fi moderată de Pr. lect. univ. dr. Mihai Ciurea\, iar în cadrul evenimentului va avea loc un recital muzical al Corului Facultății de Teologie\, dirijat de Pr. lect. univ. dr. Adrian Mazilița\, împreună cu protodiac. lect. univ. dr. Victor Șapcă. Evenimentul se va încheia cu o sesiune de întrebări\, moderată de Pr. lect. univ. dr. Lucian Bot. \nTema generală a Atelierelor Synaxis în anul universitar 2024–2025 este: „Ce este adevărul? Despre cunoaștere și discurs”\, iar fiecare întâlnire oferă o lectură reprezentativă asupra modului în care gândirea teologică și experiența duhovnicească pot ilumina problemele cunoașterii\, comunicării și trăirii adevărului în contemporaneitate. \nAtelierul de lectură Synaxis\, organizat cu binecuvântarea Înaltpreasfințitului Părinte Dr. Irineu\, Arhiepiscopul Craiovei și Mitropolitul Olteniei\, a fost conceput din dorința de a orienta lecturile studenților și de a încuraja dezbaterile transdisciplinare. \nAflat la a treia ediție\, Atelierul a păstrat\, în esență\, același format. Fiecare întâlnire are în centru o carte reprezentativă\, care oferă o perspectivă specifică asupra temei generale. Prelegerile din cadrul Synaxis vor fi publicate într-un volum tematic.
URL:https://craiovalive.ro/eveniment/atelierul-de-lectura-synaxis-prelegere-adevar-si-metoda-la-sfantul-grigorie-palama/
LOCATION:Dolj
CATEGORIES:Conferință
ATTACH;FMTTYPE=image/jpeg:https://craiovalive.ro/wp-content/uploads/2025/05/Atelierul-de-lectura-Synaxis-Prelegere-Adevar-si-metoda-la-Sfantul-Grigorie-Palama.jpg
ORGANIZER;CN="Biblioteca Jude%C8%9Bean%C4%83 Alexandru %C8%99i Aristia Aman":MAILTO:bib@aman.ro
END:VEVENT
BEGIN:VEVENT
DTSTART;TZID=Europe/Bucharest:20250529T110000
DTEND;TZID=Europe/Bucharest:20250529T130000
DTSTAMP:20260424T150507
CREATED:20250527T173145Z
LAST-MODIFIED:20250527T173145Z
UID:10006626-1748516400-1748523600@craiovalive.ro
SUMMARY:Craiova Artelor\, Istorie\, Patrimoniu. Istorisiri de ieri și de azi
DESCRIPTION:Muzeul Cărții și Exilului Românesc organizează joi\, 29 mai 2025\, evenimentul Craiova Artelor\, Istorie\, Patrimoniu. Istorisiri de ieri și de azi\, moderat de Cristina Gelep\, asistent de cercetare la Muzeul Cărții și Exilului Românesc. \nPrima secțiune a acestui eveniment\, conferința „Pentru o istorie a Craiovei dincolo de monumente. Pornind de la familia Pleșia”\, susținută de lect. univ. dr. Mihai Ghițulescu\, va începe la ora 11.00 în Holul Expozițional al muzeului. . \nPornind de la două clădiri centrale ale Craiovei de astăzi\, casele Pleșia\, conferința propune o incursiune în lumea elitelor locale din prima jumătate a secolului XX\, urmărind legăturile de familie și raporturile de putere. \nFamilia Pleșia a avut un important rol social\, prin donații și susținerea instituțiilor culturale\, cu un impact semnificativ asupra dezvoltării educației și culturii în Craiova. Cele două imobile sunt exemple de arhitectură boierească și reprezintă o parte importantă din patrimoniul istoric al orașului nostru. Vă invităm la acest eveniment pentru a afla mai multe despre istoria acestei familii care ilustrează și o schiță socială a Craiovei de altădată. \nCel de-al doilea eveniment desfășurat sub egida Craiova Artelor\, Istorie\, Patrimoniu. Istorisiri de ieri și de azi va începe la ora 12. În holul expozițional\,  va rula un film documentar\, realizat de colegii noștri Dana Popescu\, Adina Nicola și Florin Țenea\, intitulat „Case de altădată – azi obiective emblematice ale Craiovei”. \nFilmul documentar cuprinde o selecție în imagini a celor mai importante elemente arhitecturale ale Craiovei\, însoțite de informații relevante care reflectă parcursul dinspre destinația inițială spre utilitatea lor în contemporaneitate. Fiecare clădire este o bijuterie arhitecturală în sine\, oferind un farmec aparte și potențând frumusețea orașului.
URL:https://craiovalive.ro/eveniment/craiova-artelor-istorie-patrimoniu-istorisiri-de-ieri-si-de-azi/
LOCATION:Muzeul Cărții și Exilului Românesc\, Str. 24 Ianuarie nr. 4\, Craiova\, Dolj\, România
CATEGORIES:Conferință
ATTACH;FMTTYPE=image/jpeg:https://craiovalive.ro/wp-content/uploads/2025/05/Craiova-Artelor-Istorie-Patrimoniu.-Istorisiri-de-ieri-si-de-azi.jpeg
GEO:44.3141881;23.7984041
X-APPLE-STRUCTURED-LOCATION;VALUE=URI;X-ADDRESS=Muzeul Cărții și Exilului Românesc Str. 24 Ianuarie nr. 4 Craiova Dolj România;X-APPLE-RADIUS=500;X-TITLE=Str. 24 Ianuarie nr. 4:geo:23.7984041,44.3141881
END:VEVENT
BEGIN:VEVENT
DTSTART;TZID=Europe/Bucharest:20250529T180000
DTEND;TZID=Europe/Bucharest:20250529T193000
DTSTAMP:20260424T150507
CREATED:20250519T081334Z
LAST-MODIFIED:20250519T081334Z
UID:10006576-1748541600-1748547000@craiovalive.ro
SUMMARY:Lansare de carte: „Portocaliu" de Anda Simion
DESCRIPTION: Lansare de carte: „PORTOCALIU” de Anda Simion \nVă invităm cu drag la evenimentul de lansare a romanului PORTOCALIU\, semnat de Anda Simion — o poveste emoționantă despre căutări interioare\, revelații și curajul de a descoperi adevărul.\n Joi\, 29 mai 2025 Ora: 18:00 Librăria Smart Cup\, str. Popa Șapcă\, nr. 14\, Craiova (vizavi de Colegiul Carol I)\n „De mult nu am mai avut bucuria unei astfel de descoperiri.” — Oana Pellea\n Intrarea este liberă. Vino să cunoști autoarea și să iei parte la o seară specială de literatură\, dialog și inspirație!\n Cartea este deja disponibilă aici: https://www.libris.ro/portocaliu-anda-simion-LIB978-606-029-916-5–p42432866.html\n Nu uita să dai share și să inviți prietenii!
URL:https://craiovalive.ro/eveniment/lansare-de-carte-portocaliu-de-anda-simion/
LOCATION:Dolj
CATEGORIES:Conferință
ATTACH;FMTTYPE=image/jpeg:https://craiovalive.ro/wp-content/uploads/2025/05/Lansare-de-carte-Portocaliu-de-Anda-Simion.jpg
END:VEVENT
BEGIN:VEVENT
DTSTART;TZID=Europe/Bucharest:20250529T183000
DTEND;TZID=Europe/Bucharest:20250529T210000
DTSTAMP:20260424T150507
CREATED:20250519T091126Z
LAST-MODIFIED:20250519T091126Z
UID:10006582-1748543400-1748552400@craiovalive.ro
SUMMARY:CBC#91: Poveste de succes - Sinless Consumabile și Ambalaje Horeca: Marius & Daiana Ciuciuc
DESCRIPTION:Te invităm să descoperi cum o afacere locală a reușit să se impună pe piață\, promovând soluții sustenabile și inovatoare pentru industria Horeca!\n Când? Joi\, 29 mai\, ora 18:30 Unde? Showroom Sinless\n Speakeri:\nMarius & Daiana Ciuciuc\, fondatorii Sinless\, vor împărtăși cum au dezvoltat o afacere cu impact pozitiv asupra mediului și comunității locale.\nCe vei afla la eveniment:\nStrategiile din spatele unui business eco-friendly de succes.\nSecretele marketingului în industria Horeca.\nCum să transformi sustenabilitatea în avantaj competitiv.\n Locurile sunt limitate\, înscrie-te acum și află povestea Sinless direct de la cei care au creat-o!\n Rezervă-ți locul: https://craiovabusinessclub.ro/cbc-91-poveste-de-succes…/\nPret 49 RONEarly tickets 29 RON până pe 26.05.2025\nTransformă inspirația în acțiune și descoperă cum poți contribui și tu la un viitor mai curat și mai sustenabil pentru afacerea ta!
URL:https://craiovalive.ro/eveniment/cbc91-poveste-de-succes-sinless-consumabile-si-ambalaje-horeca-marius-daiana-ciuciuc/
LOCATION:Dolj
CATEGORIES:Conferință
ATTACH;FMTTYPE=image/jpeg:https://craiovalive.ro/wp-content/uploads/2025/05/CBC91-Poveste-de-succes-Sinless-Consumabile-si-Ambalaje-Horeca-Marius-Daiana-Ciuciuc.jpg
END:VEVENT
BEGIN:VEVENT
DTSTART;TZID=Europe/Bucharest:20250530T130000
DTEND;TZID=Europe/Bucharest:20250530T140000
DTSTAMP:20260424T150507
CREATED:20250519T091259Z
LAST-MODIFIED:20250519T091259Z
UID:10006583-1748610000-1748613600@craiovalive.ro
SUMMARY:Tactici esențiale pentru o carieră imobiliară de succes | Craiova
DESCRIPTION:Imaginează-ți o carieră imobiliară în care știi clar ce ai de făcut\, ai un plan predictibil de venit și în sfârșit înțelegi cum să-ți crești brandul personal și să atragi clienți constant.\n Când? Vineri\, 30 Mai 2025\, Ora 13:00 Unde? Craiova\, Hotel Ramada\nParticipă la evenimentul organizat de Keller Williams Craiova\, dedicat agenților imobiliari care își doresc mai mult decât tranzacții ocazionale – o carieră construită pe claritate\, performanță și rezultate.\nCe vei învăța?\n Care este realitatea pieței imobiliare din Craiova în 2025 Ce pași concreți trebuie să urmezi pentru a trece de la haos la structură și profit Cum construiești un brand personal memorabil și eficient Ce cifre și indicatori financiari trebuie să urmărești ca să fii profitabil Cum îți creezi o hartă de acțiune pentru a-ți atinge obiectivele de venit\nParticiparea este gratuită\, pe bază de înscriere prealabilă\, în limita locurilor disponibile \nÎnscrie-te aici: https://forms.gle/nEautYFEnAvHNiGs9\nObține mai multe informații: +40 735 172 000 \nTe așteptăm cu entuziasm! 
URL:https://craiovalive.ro/eveniment/tactici-esentiale-pentru-o-cariera-imobiliara-de-succes-craiova/
LOCATION:Ramada Plaza Craiova\, Calea Bucuresti\, nr 1\, Craiova\, Dolj\, România
CATEGORIES:Conferință
ATTACH;FMTTYPE=image/jpeg:https://craiovalive.ro/wp-content/uploads/2025/05/Tactici-esentiale-pentru-o-cariera-imobiliara-de-succes-Craiova.jpg
GEO:44.3214396;23.7964694
X-APPLE-STRUCTURED-LOCATION;VALUE=URI;X-ADDRESS=Ramada Plaza Craiova Calea Bucuresti nr 1 Craiova Dolj România;X-APPLE-RADIUS=500;X-TITLE=Calea Bucuresti\, nr 1:geo:23.7964694,44.3214396
END:VEVENT
END:VCALENDAR