BEGIN:VCALENDAR
VERSION:2.0
PRODID:-//Craiova Live - ECPv6.15.18//NONSGML v1.0//EN
CALSCALE:GREGORIAN
METHOD:PUBLISH
X-WR-CALNAME:Craiova Live
X-ORIGINAL-URL:https://craiovalive.ro
X-WR-CALDESC:Evenimente pentru Craiova Live
REFRESH-INTERVAL;VALUE=DURATION:PT1H
X-Robots-Tag:noindex
X-PUBLISHED-TTL:PT1H
BEGIN:VTIMEZONE
TZID:Europe/Bucharest
BEGIN:DAYLIGHT
TZOFFSETFROM:+0200
TZOFFSETTO:+0300
TZNAME:EEST
DTSTART:20240331T010000
END:DAYLIGHT
BEGIN:STANDARD
TZOFFSETFROM:+0300
TZOFFSETTO:+0200
TZNAME:EET
DTSTART:20241027T010000
END:STANDARD
BEGIN:DAYLIGHT
TZOFFSETFROM:+0200
TZOFFSETTO:+0300
TZNAME:EEST
DTSTART:20250330T010000
END:DAYLIGHT
BEGIN:STANDARD
TZOFFSETFROM:+0300
TZOFFSETTO:+0200
TZNAME:EET
DTSTART:20251026T010000
END:STANDARD
BEGIN:DAYLIGHT
TZOFFSETFROM:+0200
TZOFFSETTO:+0300
TZNAME:EEST
DTSTART:20260329T010000
END:DAYLIGHT
BEGIN:STANDARD
TZOFFSETFROM:+0300
TZOFFSETTO:+0200
TZNAME:EET
DTSTART:20261025T010000
END:STANDARD
END:VTIMEZONE
BEGIN:VEVENT
DTSTART;TZID=Europe/Bucharest:20250513T183000
DTEND;TZID=Europe/Bucharest:20250513T203000
DTSTAMP:20260424T163041
CREATED:20250506T084648Z
LAST-MODIFIED:20250506T084648Z
UID:10006362-1747161000-1747168200@craiovalive.ro
SUMMARY:Măsurarea performanței angajaților
DESCRIPTION:HR Club Craiova te invită la un nou eveniment inspirațional pentru profesioniștii din resurse umane și management:\n„Măsurarea performanței angajaților”Invitat special: Cosmin Cricleviti13 mai\, ora 18:30\nCum transformi evaluarea performanței într-un instrument real de creștere\, nu doar într-o bifă anuală?Cum creezi un sistem de evaluare echitabil\, motivațional și cu impact strategic?\nAlătură-te comunității HR Club Craiova la o discuție aplicată și interactivă cu Cosmin Cricleviti\, expert în dezvoltarea echipelor și optimizarea proceselor de evaluare. Vei pleca cu insighturi valoroase\, instrumente practice și exemple din companii care chiar fac performanță!\nEvenimentul este GRATUIT\, dar locurile sunt limitate!\nRezervă-ți locul acum și vino să cunoști alți profesioniști pasionați de oameni și rezultate.
URL:https://craiovalive.ro/eveniment/masurarea-performantei-angajatilor/
LOCATION:Dolj
CATEGORIES:Conferință
ATTACH;FMTTYPE=image/jpeg:https://craiovalive.ro/wp-content/uploads/2025/05/Masurarea-performantei-angajatilor.jpg
END:VEVENT
BEGIN:VEVENT
DTSTART;TZID=Europe/Bucharest:20250514T180000
DTEND;TZID=Europe/Bucharest:20250514T200000
DTSTAMP:20260424T163041
CREATED:20250511T203045Z
LAST-MODIFIED:20250511T203045Z
UID:10006524-1747245600-1747252800@craiovalive.ro
SUMMARY:Prezentarea Liceului SRB
DESCRIPTION:Credeai că liceul înseamnă doar teme\, ore interminabile și „stai cuminte în bancă”? Nope. La #LiceulSRB schimbăm complet scenariul. 🤗\nAici e vorba despre PASIUNE.\nDespre ce-ți place\, despre ce vrei să devii. Despre munca ta\, dar și despre cum te susținem să duci totul la nivel de EXCELENȚĂ. 💫\n👉🏻 Vrei să știi cum poți deveni unul dintre cei 20 de bursieri?\n👉🏻 Să ai acces la peste 300 de oportunități de practică și parteneriate?\n👉🏻 Să îți duci punctele tari la următorul nivel?\n👉🏻 Să fii tu căpitanul direcției tale\, fără copy/paste?\nAtunci te așteptăm la evenimentul nostru de prezentare!\n⏰ Când? 𝐌𝐢𝐞𝐫𝐜𝐮𝐫𝐢\, 𝟏𝟒 𝐦𝐚𝐢\, de la ora 𝟏𝟖:𝟎𝟎\n📽️ Unde? Cineplexx Craiova\, Promenada Mall\nIntrarea este liberă\, însă e nevoie să te înscrii\, locurile fiind limitate de dimensiunea sălii de cinema! 🎟 Nu rata ocazia să te întâlnești cu profesori ai Liceului SRB\, să pui toate întrebările direct la sursă pentru a lua decizia potrivită pentru viitorul tău! Înscrie-te la eveniment completând formularul: https://mailchi.mp/2800570f91bf/prezentareliceulsrb\nEvenimentul este destinat elevilor de clasa a VIII-a și părinților lor\, interesați de înscrierea în clasa a IX-a începând cu anul școlar 2025-2026.\nVino să descoperi dacă liceul SRB e exact ce căutai. Sau mai mult.\nSpoiler alert: s-ar putea să-ți placă prea tare.\n___________________________\nwww.scoalabritanica.ro\n‪‪+40 771 161 821‬‬‬‬‬‬‬‬‬‬‬‬‬‬‬\ncontact@scoalabritanica.ro\nBulevardul Dacia\, nr. 155\, Craiova
URL:https://craiovalive.ro/eveniment/prezentarea-liceului-srb/
LOCATION:Promenada Mall\, Calea Severinului 61\, Craiova\, Dolj\, România
CATEGORIES:Conferință
ATTACH;FMTTYPE=image/jpeg:https://craiovalive.ro/wp-content/uploads/2025/05/Prezentarea-Liceului-SRB.jpg
GEO:44.3487242;23.7559265
X-APPLE-STRUCTURED-LOCATION;VALUE=URI;X-ADDRESS=Promenada Mall Calea Severinului 61 Craiova Dolj România;X-APPLE-RADIUS=500;X-TITLE=Calea Severinului 61:geo:23.7559265,44.3487242
END:VEVENT
BEGIN:VEVENT
DTSTART;TZID=Europe/Bucharest:20250515T090000
DTEND;TZID=Europe/Bucharest:20250515T170000
DTSTAMP:20260424T163041
CREATED:20250414T131352Z
LAST-MODIFIED:20250414T131352Z
UID:10006129-1747299600-1747328400@craiovalive.ro
SUMMARY:Conferințele Forbes Kids – Craiova
DESCRIPTION: Conferințele Forbes Kids – O serie de evenimente naționale dedicate sănătății și educației\, pilonii esențiali ai performanței viitoare!\n Alătură-te comunității de părinți\, educatori și specialiști pentru discuții valoroase despre creșterea generațiilor de mâine. Împreună\, construim un viitor mai bun pentru copiii de azi!\n\nProiectul Conferințele Forbes Kids – Rădăcini sănătoase pentru viitor care a debutat la București\, pe 12 martie\, continuă pe 15 mai la Craiova! O inițiativă de mare anvergură\, cu desfășurare la nivel național\, Conferințele Forbes Kids aduc pe aceeași scenă speakeri din țară și străinătate\, experți renumiți în sănătate\, educație și parenting\, pentru a oferi perspective valoroase părinților și cadrelor didactice. \nValoarea adăugată a acestor evenimente constă în reunirea celor doi piloni fundamentali în creșterea și dezvoltarea copiilor: EDUCAȚIA și SĂNĂTATEA. Acestea sunt inseparabile! Astfel\, abordarea noastră integrează SĂNĂTATEA fizică\, mentală și emoțională a copiilor\, tratându-le ca un întreg și o prioritate pentru un start bun al copilului de astăzi\, adultul de mâine. \nAccesul la eveniment se realizează pe bază de bilet. \nBilet Conferințele Forbes Kids – Rădăcini sănătoase pentru viitor:\n– Acces la discursuri exclusive ale speakerilor naționali și internaționali\n– Analiza și evaluarea stilului de viață urmat de soluții și recomandări practice\n– Posibilități de networking \n\n Ramada Plaza\, Craiova 09:00 AM 15.05.2025
URL:https://craiovalive.ro/eveniment/conferintele-forbes-kids-craiova/
LOCATION:Ramada Plaza Craiova\, Calea Bucuresti\, nr 1\, Craiova\, Dolj\, România
CATEGORIES:Conferință
ATTACH;FMTTYPE=image/jpeg:https://craiovalive.ro/wp-content/uploads/2025/04/Conferintele-Forbes-Kids-–-Craiova.jpg
GEO:44.3214396;23.7964694
X-APPLE-STRUCTURED-LOCATION;VALUE=URI;X-ADDRESS=Ramada Plaza Craiova Calea Bucuresti nr 1 Craiova Dolj România;X-APPLE-RADIUS=500;X-TITLE=Calea Bucuresti\, nr 1:geo:23.7964694,44.3214396
END:VEVENT
BEGIN:VEVENT
DTSTART;TZID=Europe/Bucharest:20250515T183000
DTEND;TZID=Europe/Bucharest:20250515T203000
DTSTAMP:20260424T163041
CREATED:20250309T102408Z
LAST-MODIFIED:20250325T160547Z
UID:10005780-1747333800-1747341000@craiovalive.ro
SUMMARY:serArte - prezentări despre artă modernă și contemporană
DESCRIPTION:GLORIÆ Art Gallery își extinde activitatea cu o nouă inițiativă care îmbină educația cu plăcerea\, intelectul cu esteticul și informația cu dezbaterea. Astfel\, organizează un set de opt „serArte” și prezentări menite să ofere o introducere în conceptele fundamentale ale artei moderne și contemporane.\nAceste sesiuni vor avea un caracter critic\, analitic\, informativ și interactiv\, incluzând exemple relevante din arta europeană și americană. Cadrul explicativ va fi livrat de către Valentin Boiangiu\, lector principal în Fine Art\, cu o vastă experiență internațională.\nÎntâlnirile vor avea loc într-un cadru primitor și relaxant\, în incinta GLORIÆ Art Gallery\, în următoarele date: 13\, 20\, 28 martie; 3\, 10 aprilie; 8\, 15\, 22 mai\, între orele 18:30-20:30 (incluzând o scurtă pauză).\nSubiecte serArte\n1. O poveste a artei vestice de la pictura rupestră la secolul al XX-lea (13 martie)\n2. Limbajul vizual – Cum să ne uităm la arta modernă și contemporană (20 martie)\n3. Desenul ca și metodă de expresie și căutare (27 martie)\n4. Modernism\, modernitate și impactul în societate (3 aprilie)\n5. Spiritul revoluționar 1 (10 aprilie)\n6. Spiritul revoluționar 2 (8 mai)\n7. Post-Modernism (15 mai)\n8. Palimpsest contemporan în arta vizuală (22 mai)\nTaxa de participare: 150 lei/persoană/sesiune.\n*Ofertă specială pentru toate cele 8 sesiuni: 1000 lei/persoană.
URL:https://craiovalive.ro/eveniment/serarte-prezentari-despre-arta-moderna-si-contemporana/2025-05-15/
LOCATION:Gloriæ Art Gallery\, Str. Alexandru Macedonski\, Nr. 49\, Craiova\, Dolj\, România
CATEGORIES:Conferință
ATTACH;FMTTYPE=image/jpeg:https://craiovalive.ro/wp-content/uploads/2025/03/serArte-prezentari-despre-arta-moderna-si-contemporana.jpg
ORGANIZER;CN="Glori%C3%A6 Art Gallery":MAILTO:office@gloriae.ro
GEO:44.312189;23.8001597
X-APPLE-STRUCTURED-LOCATION;VALUE=URI;X-ADDRESS=Gloriæ Art Gallery Str. Alexandru Macedonski Nr. 49 Craiova Dolj România;X-APPLE-RADIUS=500;X-TITLE=Str. Alexandru Macedonski\, Nr. 49:geo:23.8001597,44.312189
END:VEVENT
END:VCALENDAR