BEGIN:VCALENDAR
VERSION:2.0
PRODID:-//Craiova Live - ECPv6.15.18//NONSGML v1.0//EN
CALSCALE:GREGORIAN
METHOD:PUBLISH
X-ORIGINAL-URL:https://craiovalive.ro
X-WR-CALDESC:Evenimente pentru Craiova Live
REFRESH-INTERVAL;VALUE=DURATION:PT1H
X-Robots-Tag:noindex
X-PUBLISHED-TTL:PT1H
BEGIN:VTIMEZONE
TZID:Europe/Bucharest
BEGIN:DAYLIGHT
TZOFFSETFROM:+0200
TZOFFSETTO:+0300
TZNAME:EEST
DTSTART:20250330T010000
END:DAYLIGHT
BEGIN:STANDARD
TZOFFSETFROM:+0300
TZOFFSETTO:+0200
TZNAME:EET
DTSTART:20251026T010000
END:STANDARD
BEGIN:DAYLIGHT
TZOFFSETFROM:+0200
TZOFFSETTO:+0300
TZNAME:EEST
DTSTART:20260329T010000
END:DAYLIGHT
BEGIN:STANDARD
TZOFFSETFROM:+0300
TZOFFSETTO:+0200
TZNAME:EET
DTSTART:20261025T010000
END:STANDARD
BEGIN:DAYLIGHT
TZOFFSETFROM:+0200
TZOFFSETTO:+0300
TZNAME:EEST
DTSTART:20270328T010000
END:DAYLIGHT
BEGIN:STANDARD
TZOFFSETFROM:+0300
TZOFFSETTO:+0200
TZNAME:EET
DTSTART:20271031T010000
END:STANDARD
END:VTIMEZONE
BEGIN:VEVENT
DTSTART;TZID=Europe/Bucharest:20260327T160000
DTEND;TZID=Europe/Bucharest:20260327T193000
DTSTAMP:20260423T225338
CREATED:20260324T191506Z
LAST-MODIFIED:20260324T191506Z
UID:10014393-1774627200-1774639800@craiovalive.ro
SUMMARY:Caravana Frumuseții dm
DESCRIPTION: Caravana Frumuseții ajunge la dm Casa Albă\, Craiova\, pe 27 martie! \nO zi plină de frumusețe și răsfăț\, cu sprijinul specialiștilor dm\, te așteaptă la Casa Albă.\nCe te așteaptă? Consiliere personalizată Pași esențiali de hairstyle Make-up punctat Sfaturi pentru îngrijirea pielii Testări produse Corner foto\nProgram: 16:00 – 19:30\nFii #fixeu!\nBranduri: Balea\, ebelin\, Marc Anthony\, ELYN’S LAB\, Missha\, Rimmel London\, Purito\, Vaseline\, Ruby Kisses\, Synergy Therm.\nNu lipsi!
URL:https://craiovalive.ro/eveniment/caravana-frumusetii-dm/
CATEGORIES:Ateliere
ATTACH;FMTTYPE=image/jpeg:https://craiovalive.ro/wp-content/uploads/2026/03/Caravana-Frumusetii-dm.jpg
END:VEVENT
END:VCALENDAR