BEGIN:VCALENDAR
VERSION:2.0
PRODID:-//Craiova Live - ECPv6.15.18//NONSGML v1.0//EN
CALSCALE:GREGORIAN
METHOD:PUBLISH
X-WR-CALNAME:Craiova Live
X-ORIGINAL-URL:https://craiovalive.ro
X-WR-CALDESC:Evenimente pentru Craiova Live
REFRESH-INTERVAL;VALUE=DURATION:PT1H
X-Robots-Tag:noindex
X-PUBLISHED-TTL:PT1H
BEGIN:VTIMEZONE
TZID:Europe/Bucharest
BEGIN:DAYLIGHT
TZOFFSETFROM:+0200
TZOFFSETTO:+0300
TZNAME:EEST
DTSTART:20250330T010000
END:DAYLIGHT
BEGIN:STANDARD
TZOFFSETFROM:+0300
TZOFFSETTO:+0200
TZNAME:EET
DTSTART:20251026T010000
END:STANDARD
BEGIN:DAYLIGHT
TZOFFSETFROM:+0200
TZOFFSETTO:+0300
TZNAME:EEST
DTSTART:20260329T010000
END:DAYLIGHT
BEGIN:STANDARD
TZOFFSETFROM:+0300
TZOFFSETTO:+0200
TZNAME:EET
DTSTART:20261025T010000
END:STANDARD
BEGIN:DAYLIGHT
TZOFFSETFROM:+0200
TZOFFSETTO:+0300
TZNAME:EEST
DTSTART:20270328T010000
END:DAYLIGHT
BEGIN:STANDARD
TZOFFSETFROM:+0300
TZOFFSETTO:+0200
TZNAME:EET
DTSTART:20271031T010000
END:STANDARD
END:VTIMEZONE
BEGIN:VEVENT
DTSTART;TZID=Europe/Bucharest:20260305T180000
DTEND;TZID=Europe/Bucharest:20260305T200000
DTSTAMP:20260423T225220
CREATED:20260216T105146Z
LAST-MODIFIED:20260216T105146Z
UID:10013860-1772733600-1772740800@craiovalive.ro
SUMMARY:Atelier Scrapbooking de Ziua Femeii
DESCRIPTION:Ateliere in Familie – Ateliere de scrapbooking pentru tine si familia/prietenii tai – pentru conectare si exprimare prin creativitate. N-ai nevoie de experienta – doar de curiozitate si prezenta. \nCum se desfasoara atelierul\n🖌️ Durata: 1\,5 – 2 ore\n🖌️ Ce cream: felicitari\, pagini de scrapbooking\, mini-albume\, folio-uri\n🖌️ Materiale incluse: carton\, hartie de scrapbooking si decoratiuni premium\, atent alese\n🖌️ Aduceti voi: creion\, rigla\, foarfeca\, banda dublu-adeziva si…mult entuziasm\n🖌️ Format: ateliere fizice\, grupuri restranse (8–20 persoane)\n🖌️ Varsta: 6+ ani \n\n Cafeneaua 12Doispe – la etaj\n\n\n\nLa atelierul de Ziua Femeii încurajăm participarea în formulă completă\, deoarece va exista un moment foto special:\n două fotografii instant per familie\n fotografiile vor fi folosite pe loc în creația realizată la atelier\n\n\n💜💜💜 Pentru ca cei mici sa se simta in largul lor din prima\, va incurajam sa veniti impreuna cu o prietena si copilul ei. \n💜💜 Intrucat este nevoie de timp pentru pregatirea materialelor pentru fiecare participant la atelier\, plata se face in avans\, cu minim 4 zile inainte. Plata la locatie este indisponibila. \n💜 Experienta speciala: La ocazii speciale (1 și 8 Martie\, Paște\, început și final de an școlar\, Halloween\, Crăciun)\, atelierul include și un moment foto de familie — o clipă oprită în timp\, transformată pe loc într-o fotografie care devine parte din creația voastră. \n–– \nIn ritmul alert al vietii de azi\, copiii si parintii traiesc unii in prezenta celorlalti\, dar din ce in ce mai rar unii cu ceilalti\, cu adevarat prezenti. Aceste ateliere au fost create tocmai pentru a oferi o ocazie\, un spatiu sigur\, creativ si calm in care timpul incetineste\, presiunea dispare\, iar conexiunea se mentine natural. \nAtelierele de scrapbooking imbina creatia handmade cu mindfulness-ul informal\, oferind copiilor si parintilor o experienta profunda de prezenta\, bucurie si apropiere emotionala. Nu este vorba despre talent artistic sau rezultate perfecte\, ci despre proces\, despre a fi impreuna\, a crea impreuna si a construi amintiri care raman. \nCreativitatea devine aici o forma de calm. O invitatie de a atinge hartia\, de a simti texturile si a savura culorile\, pe de o parte\, si de a respira\, a ne lasa gandurile sa se aseze\, a fi prezent\, de alta parte.
URL:https://craiovalive.ro/eveniment/atelier-scrapbooking-de-ziua-femeii/
CATEGORIES:Ateliere
ATTACH;FMTTYPE=image/jpeg:https://craiovalive.ro/wp-content/uploads/2026/02/Atelier-Scrapbooking-de-Martisor.jpg
END:VEVENT
END:VCALENDAR