BEGIN:VCALENDAR
VERSION:2.0
PRODID:-//Craiova Live - ECPv6.15.18//NONSGML v1.0//EN
CALSCALE:GREGORIAN
METHOD:PUBLISH
X-WR-CALNAME:Craiova Live
X-ORIGINAL-URL:https://craiovalive.ro
X-WR-CALDESC:Evenimente pentru Craiova Live
REFRESH-INTERVAL;VALUE=DURATION:PT1H
X-Robots-Tag:noindex
X-PUBLISHED-TTL:PT1H
BEGIN:VTIMEZONE
TZID:Europe/Bucharest
BEGIN:DAYLIGHT
TZOFFSETFROM:+0200
TZOFFSETTO:+0300
TZNAME:EEST
DTSTART:20250330T010000
END:DAYLIGHT
BEGIN:STANDARD
TZOFFSETFROM:+0300
TZOFFSETTO:+0200
TZNAME:EET
DTSTART:20251026T010000
END:STANDARD
BEGIN:DAYLIGHT
TZOFFSETFROM:+0200
TZOFFSETTO:+0300
TZNAME:EEST
DTSTART:20260329T010000
END:DAYLIGHT
BEGIN:STANDARD
TZOFFSETFROM:+0300
TZOFFSETTO:+0200
TZNAME:EET
DTSTART:20261025T010000
END:STANDARD
BEGIN:DAYLIGHT
TZOFFSETFROM:+0200
TZOFFSETTO:+0300
TZNAME:EEST
DTSTART:20270328T010000
END:DAYLIGHT
BEGIN:STANDARD
TZOFFSETFROM:+0300
TZOFFSETTO:+0200
TZNAME:EET
DTSTART:20271031T010000
END:STANDARD
END:VTIMEZONE
BEGIN:VEVENT
DTSTART;TZID=Europe/Bucharest:20260218T180000
DTEND;TZID=Europe/Bucharest:20260218T200000
DTSTAMP:20260424T002302
CREATED:20260215T192109Z
LAST-MODIFIED:20260215T192109Z
UID:10013470-1771437600-1771444800@craiovalive.ro
SUMMARY:Vocile LGBTI Craiova / Workshop comunitar
DESCRIPTION:Continuăm să construim comunitatea LGBTI din Craiova printr-o nouă întâlnire\, de data aceasta axată pe dialog și ascultare. „Vocile LGBTI Craiova” este un eveniment în care ne adunăm într-un spațiu sigur\, într-un cerc de discuții\, pentru a ne cunoaște mai bine și pentru a vorbi deschis despre nevoile comunității locale.\nNe dorim să discutăm despre ce înseamnă siguranța pentru persoanele LGBTI din Craiova\, ce lipsește\, ce funcționează și ce am putea construi împreună mai departe.\nEvenimentul se adresează persoanelor LGBTI și aliaților\, doar persoane majore de peste 18 ani\, iar participarea are loc într-o locație închisă\, prietenoasă\, unde confidențialitatea și respectul sunt esențiale.\n Când: Miercuri\, 18 februarie 2026 Ora: 18:00 Unde: Smart Cup (str. Popa Șapcă 14\, Craiova)\n\nÎnscrierile se fac prin acest formular: https://forms.gle/MRTWPM6TbqTaoit46\n–Evenimentul este organizat de MozaiQ și co-finanțat de Comisia Europeană\, cu sprijinul Transatlantic Foundation și ILGA Europe. Opiniile exprimate sunt ale organizatorilor și nu reprezintă în mod obligatoriu poziția partenerilor sau a finanțatorilor.
URL:https://craiovalive.ro/eveniment/vocile-lgbti-craiova-workshop-comunitar/
LOCATION:Smart Cup\, Str. Popa Șapcă\, nr. 14\, Craiova\, Dolj\, România
CATEGORIES:Ateliere,Conferință
ATTACH;FMTTYPE=image/jpeg:https://craiovalive.ro/wp-content/uploads/2026/02/Vocile-LGBTI-Craiova-Workshop-comunitar.jpg
GEO:44.318975762715;23.792798449857
X-APPLE-STRUCTURED-LOCATION;VALUE=URI;X-ADDRESS=Smart Cup Str. Popa Șapcă nr. 14 Craiova Dolj România;X-APPLE-RADIUS=500;X-TITLE=Str. Popa Șapcă\, nr. 14:geo:23.792798449857,44.318975762715
END:VEVENT
END:VCALENDAR