BEGIN:VCALENDAR
VERSION:2.0
PRODID:-//Craiova Live - ECPv6.15.18//NONSGML v1.0//EN
CALSCALE:GREGORIAN
METHOD:PUBLISH
X-WR-CALNAME:Craiova Live
X-ORIGINAL-URL:https://craiovalive.ro
X-WR-CALDESC:Evenimente pentru Craiova Live
REFRESH-INTERVAL;VALUE=DURATION:PT1H
X-Robots-Tag:noindex
X-PUBLISHED-TTL:PT1H
BEGIN:VTIMEZONE
TZID:Europe/Bucharest
BEGIN:DAYLIGHT
TZOFFSETFROM:+0200
TZOFFSETTO:+0300
TZNAME:EEST
DTSTART:20250330T010000
END:DAYLIGHT
BEGIN:STANDARD
TZOFFSETFROM:+0300
TZOFFSETTO:+0200
TZNAME:EET
DTSTART:20251026T010000
END:STANDARD
BEGIN:DAYLIGHT
TZOFFSETFROM:+0200
TZOFFSETTO:+0300
TZNAME:EEST
DTSTART:20260329T010000
END:DAYLIGHT
BEGIN:STANDARD
TZOFFSETFROM:+0300
TZOFFSETTO:+0200
TZNAME:EET
DTSTART:20261025T010000
END:STANDARD
BEGIN:DAYLIGHT
TZOFFSETFROM:+0200
TZOFFSETTO:+0300
TZNAME:EEST
DTSTART:20270328T010000
END:DAYLIGHT
BEGIN:STANDARD
TZOFFSETFROM:+0300
TZOFFSETTO:+0200
TZNAME:EET
DTSTART:20271031T010000
END:STANDARD
END:VTIMEZONE
BEGIN:VEVENT
DTSTART;TZID=Europe/Bucharest:20260214T140000
DTEND;TZID=Europe/Bucharest:20260214T180000
DTSTAMP:20260424T002304
CREATED:20260211T130638Z
LAST-MODIFIED:20260211T130638Z
UID:10013041-1771077600-1771092000@craiovalive.ro
SUMMARY:Ateliere de origami
DESCRIPTION:🌸 Ateliere de origami la EPMALL – e momentul să te îndrăgostești de shopping! \n🌸✨ Japonia la Craiova\, de Valentine’s Day | \nÎn așteptarea cireșilor înfloriți\, aducem un strop de cultură Japoneză la Craiova \nÎnscrie-te la atelierul de Origami și bucură-te de experiența inedită alături de artista Ayako Funatsu\, transformând fiecare foaie într-o declarație de dragoste. \n📅 14 & 15 februarie\n⏰ 14:00 – 18:00\n🕒 Un atelier la fiecare 30 de minute\n👥 Maximum 25 de participanți / atelier \nTrăiește acest moment plin de poezie și echilibru împreună cu cineva drag sau oferă-ți ocazia de a învăța ceva nou\, delicat precum cireșii înfloriți. \n🌸 Participarea este gratuită\, însă locurile sunt limitate. 👉 Fiecare participant trebuie să se înscrie individual\, iar participarea va fi confirmată telefonic\, în funcție de disponibilitate.
URL:https://craiovalive.ro/eveniment/ateliere-de-origami/2026-02-14/
LOCATION:Electroputere Parc Mall\, Calea București\, nr. 80\, Craiova\, Dolj\, România
CATEGORIES:Ateliere
ATTACH;FMTTYPE=image/jpeg:https://craiovalive.ro/wp-content/uploads/2026/02/Ateliere-origami-Craiova.jpg
GEO:44.312934978525;23.833569266691
X-APPLE-STRUCTURED-LOCATION;VALUE=URI;X-ADDRESS=Electroputere Parc Mall Calea București nr. 80 Craiova Dolj România;X-APPLE-RADIUS=500;X-TITLE=Calea București\, nr. 80:geo:23.833569266691,44.312934978525
END:VEVENT
BEGIN:VEVENT
DTSTART;TZID=Europe/Bucharest:20260215T140000
DTEND;TZID=Europe/Bucharest:20260215T180000
DTSTAMP:20260424T002304
CREATED:20260211T130638Z
LAST-MODIFIED:20260211T130638Z
UID:10013042-1771164000-1771178400@craiovalive.ro
SUMMARY:Ateliere de origami
DESCRIPTION:🌸 Ateliere de origami la EPMALL – e momentul să te îndrăgostești de shopping! \n🌸✨ Japonia la Craiova\, de Valentine’s Day | \nÎn așteptarea cireșilor înfloriți\, aducem un strop de cultură Japoneză la Craiova \nÎnscrie-te la atelierul de Origami și bucură-te de experiența inedită alături de artista Ayako Funatsu\, transformând fiecare foaie într-o declarație de dragoste. \n📅 14 & 15 februarie\n⏰ 14:00 – 18:00\n🕒 Un atelier la fiecare 30 de minute\n👥 Maximum 25 de participanți / atelier \nTrăiește acest moment plin de poezie și echilibru împreună cu cineva drag sau oferă-ți ocazia de a învăța ceva nou\, delicat precum cireșii înfloriți. \n🌸 Participarea este gratuită\, însă locurile sunt limitate. 👉 Fiecare participant trebuie să se înscrie individual\, iar participarea va fi confirmată telefonic\, în funcție de disponibilitate.
URL:https://craiovalive.ro/eveniment/ateliere-de-origami/2026-02-15/
LOCATION:Electroputere Parc Mall\, Calea București\, nr. 80\, Craiova\, Dolj\, România
CATEGORIES:Ateliere
ATTACH;FMTTYPE=image/jpeg:https://craiovalive.ro/wp-content/uploads/2026/02/Ateliere-origami-Craiova.jpg
GEO:44.312934978525;23.833569266691
X-APPLE-STRUCTURED-LOCATION;VALUE=URI;X-ADDRESS=Electroputere Parc Mall Calea București nr. 80 Craiova Dolj România;X-APPLE-RADIUS=500;X-TITLE=Calea București\, nr. 80:geo:23.833569266691,44.312934978525
END:VEVENT
END:VCALENDAR