BEGIN:VCALENDAR
VERSION:2.0
PRODID:-//Craiova Live - ECPv6.15.18//NONSGML v1.0//EN
CALSCALE:GREGORIAN
METHOD:PUBLISH
X-WR-CALNAME:Craiova Live
X-ORIGINAL-URL:https://craiovalive.ro
X-WR-CALDESC:Evenimente pentru Craiova Live
REFRESH-INTERVAL;VALUE=DURATION:PT1H
X-Robots-Tag:noindex
X-PUBLISHED-TTL:PT1H
BEGIN:VTIMEZONE
TZID:Europe/Bucharest
BEGIN:DAYLIGHT
TZOFFSETFROM:+0200
TZOFFSETTO:+0300
TZNAME:EEST
DTSTART:20240331T010000
END:DAYLIGHT
BEGIN:STANDARD
TZOFFSETFROM:+0300
TZOFFSETTO:+0200
TZNAME:EET
DTSTART:20241027T010000
END:STANDARD
BEGIN:DAYLIGHT
TZOFFSETFROM:+0200
TZOFFSETTO:+0300
TZNAME:EEST
DTSTART:20250330T010000
END:DAYLIGHT
BEGIN:STANDARD
TZOFFSETFROM:+0300
TZOFFSETTO:+0200
TZNAME:EET
DTSTART:20251026T010000
END:STANDARD
BEGIN:DAYLIGHT
TZOFFSETFROM:+0200
TZOFFSETTO:+0300
TZNAME:EEST
DTSTART:20260329T010000
END:DAYLIGHT
BEGIN:STANDARD
TZOFFSETFROM:+0300
TZOFFSETTO:+0200
TZNAME:EET
DTSTART:20261025T010000
END:STANDARD
END:VTIMEZONE
BEGIN:VEVENT
DTSTART;TZID=Europe/Bucharest:20251119T140000
DTEND;TZID=Europe/Bucharest:20251119T160000
DTSTAMP:20260424T223443
CREATED:20251118T111725Z
LAST-MODIFIED:20251118T111725Z
UID:10012506-1763560800-1763568000@craiovalive.ro
SUMMARY:Workshop Unlock Education – Escape Room & Creative Teaching
DESCRIPTION:Invitație la workshopul „Unlock Education – Escape Room & Creative Teaching”\n\n\nVă invităm miercuri\, 19 noiembrie\, între orele 14:00–16:00\, la Biblioteca Județeană „Alexandru si Aristia Aman”\, sectia American Corner Craiova\, la un workshop interactiv susținut de Associate Professor Patrick Murphy și Associate Professor Anne Lise Wie (Nord University\, Norvegia).\n\n\nO experiență practică și inovatoare de predare creativă și joc captivant\, atelierul se bazează pe concepte de tip Escape Room și Storytelling\, prin care lecțiile devin mai dinamice\, colaborative și pline de sens.\n\n\n Activitatea este deschisă profesorilor din toate disciplinele interesați de metode moderne de învățare prin joc\, poveste și cooperare.\n\n\nVă rugăm confirmați prezența:\n\nE-mail: level_up_now@yahoo.com\nTelefon: 0784229147
URL:https://craiovalive.ro/eveniment/workshop-unlock-education-escape-room-creative-teaching/
LOCATION:Biblioteca Județeană Alexandru și Aristia Aman\, Str. M. Kogălniceanu\, nr. 9\, Craiova\, Dolj\, România
CATEGORIES:Ateliere
ATTACH;FMTTYPE=image/jpeg:https://craiovalive.ro/wp-content/uploads/2025/11/Workshop-Unlock-Education-–-Escape-Room-Creative-Teaching.jpg
ORGANIZER;CN="Biblioteca Jude%C8%9Bean%C4%83 Alexandru %C8%99i Aristia Aman":MAILTO:bib@aman.ro
GEO:44.3157663;23.796749
X-APPLE-STRUCTURED-LOCATION;VALUE=URI;X-ADDRESS=Biblioteca Județeană Alexandru și Aristia Aman Str. M. Kogălniceanu nr. 9 Craiova Dolj România;X-APPLE-RADIUS=500;X-TITLE=Str. M. Kogălniceanu\, nr. 9:geo:23.796749,44.3157663
END:VEVENT
END:VCALENDAR