BEGIN:VCALENDAR
VERSION:2.0
PRODID:-//Craiova Live - ECPv6.15.18//NONSGML v1.0//EN
CALSCALE:GREGORIAN
METHOD:PUBLISH
X-ORIGINAL-URL:https://craiovalive.ro
X-WR-CALDESC:Evenimente pentru Craiova Live
REFRESH-INTERVAL;VALUE=DURATION:PT1H
X-Robots-Tag:noindex
X-PUBLISHED-TTL:PT1H
BEGIN:VTIMEZONE
TZID:Europe/Bucharest
BEGIN:DAYLIGHT
TZOFFSETFROM:+0200
TZOFFSETTO:+0300
TZNAME:EEST
DTSTART:20240331T010000
END:DAYLIGHT
BEGIN:STANDARD
TZOFFSETFROM:+0300
TZOFFSETTO:+0200
TZNAME:EET
DTSTART:20241027T010000
END:STANDARD
BEGIN:DAYLIGHT
TZOFFSETFROM:+0200
TZOFFSETTO:+0300
TZNAME:EEST
DTSTART:20250330T010000
END:DAYLIGHT
BEGIN:STANDARD
TZOFFSETFROM:+0300
TZOFFSETTO:+0200
TZNAME:EET
DTSTART:20251026T010000
END:STANDARD
BEGIN:DAYLIGHT
TZOFFSETFROM:+0200
TZOFFSETTO:+0300
TZNAME:EEST
DTSTART:20260329T010000
END:DAYLIGHT
BEGIN:STANDARD
TZOFFSETFROM:+0300
TZOFFSETTO:+0200
TZNAME:EET
DTSTART:20261025T010000
END:STANDARD
END:VTIMEZONE
BEGIN:VEVENT
DTSTART;TZID=Europe/Bucharest:20251019T140000
DTEND;TZID=Europe/Bucharest:20251019T170000
DTSTAMP:20260425T014147
CREATED:20251007T213041Z
LAST-MODIFIED:20251007T213041Z
UID:10010302-1760882400-1760893200@craiovalive.ro
SUMMARY:Campionatul Național de Catan: Etapa locală Craiova
DESCRIPTION:Campionatul Național de Catan revine în Craiova! Ne revedem duminică\, 19 octombrie\, de la ora 14:00\, la Games District (Aleea Matei Basarab nr. 2)\, pentru etapa locală a Campionatului Național de Catan!\nÎți iei locul la masă simplu și rapid: Telefon: 0747 978 213 Mail: gd.craiova@gmail.com Direct în locație. Deadline înscrieri: 17 octombrie 2025. Taxă participare: 25 lei.\n\n Ce e în joc?Primii 10% din numărul total de participanți merg mai departe la Naționala de la Brașov (15–16 noiembrie).Primele 5 locuri câștigă premii în jocuri.Iar partenerii noștri de la Buzz & Brew adaugă un boost de energie pentru primele 3 locuri: cafea gratuită zilnic\, până la final de an\, pentru tine și un prieten două pungi de cafea de specialitate (2 x 250 g) o pungă de cafea de specialitate (250 g)\nAu fost deja ediții intense în trecut și știm câtă energie și strategie aduce comunitatea din Craiova. Acum e rândul tău să-ți testezi limitele și să vezi dacă poți ajunge până în finala națională.Ne vedem la joc! \n*Regulamentul complet al Campionatului îl găsești aici  https://shorturl.at/x2KQq
URL:https://craiovalive.ro/eveniment/campionatul-national-de-catan-etapa-locala-craiova/
CATEGORIES:Ateliere
ATTACH;FMTTYPE=image/jpeg:https://craiovalive.ro/wp-content/uploads/2025/10/Campionatul-National-de-Catan-Etapa-locala-Craiova.jpg
END:VEVENT
END:VCALENDAR