BEGIN:VCALENDAR
VERSION:2.0
PRODID:-//Craiova Live - ECPv6.15.18//NONSGML v1.0//EN
CALSCALE:GREGORIAN
METHOD:PUBLISH
X-WR-CALNAME:Craiova Live
X-ORIGINAL-URL:https://craiovalive.ro
X-WR-CALDESC:Evenimente pentru Craiova Live
REFRESH-INTERVAL;VALUE=DURATION:PT1H
X-Robots-Tag:noindex
X-PUBLISHED-TTL:PT1H
BEGIN:VTIMEZONE
TZID:Europe/Bucharest
BEGIN:DAYLIGHT
TZOFFSETFROM:+0200
TZOFFSETTO:+0300
TZNAME:EEST
DTSTART:20240331T010000
END:DAYLIGHT
BEGIN:STANDARD
TZOFFSETFROM:+0300
TZOFFSETTO:+0200
TZNAME:EET
DTSTART:20241027T010000
END:STANDARD
BEGIN:DAYLIGHT
TZOFFSETFROM:+0200
TZOFFSETTO:+0300
TZNAME:EEST
DTSTART:20250330T010000
END:DAYLIGHT
BEGIN:STANDARD
TZOFFSETFROM:+0300
TZOFFSETTO:+0200
TZNAME:EET
DTSTART:20251026T010000
END:STANDARD
BEGIN:DAYLIGHT
TZOFFSETFROM:+0200
TZOFFSETTO:+0300
TZNAME:EEST
DTSTART:20260329T010000
END:DAYLIGHT
BEGIN:STANDARD
TZOFFSETFROM:+0300
TZOFFSETTO:+0200
TZNAME:EET
DTSTART:20261025T010000
END:STANDARD
END:VTIMEZONE
BEGIN:VEVENT
DTSTART;TZID=Europe/Bucharest:20250523T170000
DTEND;TZID=Europe/Bucharest:20250523T180000
DTSTAMP:20260425T061936
CREATED:20250519T213712Z
LAST-MODIFIED:20250519T213712Z
UID:10006591-1748019600-1748023200@craiovalive.ro
SUMMARY:Degustare de vinuri & Atelier @Enoteca - Electroputere Mall
DESCRIPTION:Într-o colaborare specială Enoteca -Electroputere Mall\, ești invitat la o degustare de vinuri! Descoperă aromele unice ale vinurilor semnate de cramele Avincis si Cotnari\, dar și o selecție de importuri din partea BDG Import – Mouton Cadet\, Villa Raiano\, Whispering Angel\nLocație: Zona de evenimente ElectroÎnscrie-te acum pe site- locurile sunt limitate\, iar participarea este gratuita!\nLINK INSCRIERE : https://www.electroputeremall.ro/even…/workshop-de-vinuri/\nEvenimentul este dedicat exclusiv persoanelor majore\n\nDespre vinuri\nDegustare și atelier\nToate secretele bahice într-un workshop unic marca #EPMALL.\nParticiparea este gratuită. Vinurile diverse.
URL:https://craiovalive.ro/eveniment/degustare-de-vinuri-atelier-enoteca-electroputere-mall/2025-05-23/1/
LOCATION:Electroputere Parc Mall\, Calea București\, nr. 80\, Craiova\, Dolj\, România
CATEGORIES:Ateliere,Gastronomie
ATTACH;FMTTYPE=image/jpeg:https://craiovalive.ro/wp-content/uploads/2025/05/Degustare-de-vinuri-Atelier-@Enoteca-Electroputere-Mall.jpg
GEO:44.312934978525;23.833569266691
X-APPLE-STRUCTURED-LOCATION;VALUE=URI;X-ADDRESS=Electroputere Parc Mall Calea București nr. 80 Craiova Dolj România;X-APPLE-RADIUS=500;X-TITLE=Calea București\, nr. 80:geo:23.833569266691,44.312934978525
END:VEVENT
BEGIN:VEVENT
DTSTART;TZID=Europe/Bucharest:20250523T180000
DTEND;TZID=Europe/Bucharest:20250523T190000
DTSTAMP:20260425T061936
CREATED:20250519T213712Z
LAST-MODIFIED:20250519T213712Z
UID:10006592-1748023200-1748026800@craiovalive.ro
SUMMARY:Degustare de vinuri & Atelier @Enoteca - Electroputere Mall
DESCRIPTION:Într-o colaborare specială Enoteca -Electroputere Mall\, ești invitat la o degustare de vinuri! Descoperă aromele unice ale vinurilor semnate de cramele Avincis si Cotnari\, dar și o selecție de importuri din partea BDG Import – Mouton Cadet\, Villa Raiano\, Whispering Angel\nLocație: Zona de evenimente ElectroÎnscrie-te acum pe site- locurile sunt limitate\, iar participarea este gratuita!\nLINK INSCRIERE : https://www.electroputeremall.ro/even…/workshop-de-vinuri/\nEvenimentul este dedicat exclusiv persoanelor majore\n\nDespre vinuri\nDegustare și atelier\nToate secretele bahice într-un workshop unic marca #EPMALL.\nParticiparea este gratuită. Vinurile diverse.
URL:https://craiovalive.ro/eveniment/degustare-de-vinuri-atelier-enoteca-electroputere-mall/2025-05-23/2/
LOCATION:Electroputere Parc Mall\, Calea București\, nr. 80\, Craiova\, Dolj\, România
CATEGORIES:Ateliere,Gastronomie
ATTACH;FMTTYPE=image/jpeg:https://craiovalive.ro/wp-content/uploads/2025/05/Degustare-de-vinuri-Atelier-@Enoteca-Electroputere-Mall.jpg
GEO:44.312934978525;23.833569266691
X-APPLE-STRUCTURED-LOCATION;VALUE=URI;X-ADDRESS=Electroputere Parc Mall Calea București nr. 80 Craiova Dolj România;X-APPLE-RADIUS=500;X-TITLE=Calea București\, nr. 80:geo:23.833569266691,44.312934978525
END:VEVENT
BEGIN:VEVENT
DTSTART;TZID=Europe/Bucharest:20250523T190000
DTEND;TZID=Europe/Bucharest:20250523T220000
DTSTAMP:20260425T061936
CREATED:20250516T103936Z
LAST-MODIFIED:20250516T103936Z
UID:10006570-1748026800-1748037600@craiovalive.ro
SUMMARY:Festivalul Medieval Zilele Mihai Viteazul 2025
DESCRIPTION:Festivalul Medieval „Zilele Mihai Viteazul“ \nCraiova\, 23 – 25 mai 2025 \n  \nTeatrul pentru copii și tineret Colibri Craiova – Compartimentul Casa de Cultură „Traian Demetrescu“ organizează Festivalul Medieval „Zilele Mihai Viteazul“\, în perioada 23 – 25 mai 2025\, eveniment care aduce în prim-plan istoria și cultura medievală. \nFestivalul se va deschide vineri\, 23 mai 2025\, la ora 19:00\, cu o paradă a costumelor medievale\, în Parcul „Nicolae Romanescu“\, urmată de concert de muzică medievală și tradițională\, iar la ora 21:00 de un frumos spectacol de jonglerie cu foc. \nÎn zilele de 24 și 25 mai\, tot în parc\, în poienița din zona Casa Bibescu\, se vor desfășura ateliere\, demonstrații de luptă\, spectacole de teatru\, de dans\, de jonglerie cu foc și un târg de manufactură. Vizitatorii vor avea ocazia să descopere secretele meșteșugurilor și să participe la diverse activități recreative. Parcul devine un mic târg medieval\, unde cavalerii\, domnițele și meșteșugarii reconstruiesc atmosfera epocii medievale. \nFestivalul Medieval „Zilele Mihai Viteazul“ aduce la un loc mai multe asociații de profil\, care propun publicului să descopere taberele medievale\, atelierele de lucru\, breslele de odinioară\, turnirurile\, paradele\, să interacționeze cu domnițe și cavaleri\, să vadă demonstrații de luptă cu arme din perioada medievală\, să se bucure de concertele de muzică medievală în care se fac auzite sunetele instrumentelor vechi. Pentru a crea efecte speciale deosebite\, spectacolele pirotehnice vor fi prezentate la lăsarea întunericului. \nAșadar\, toți cei dornici să intre în atmosfera festivalului\, să fie parte din această experiență unică și să descopere povestea lui Mihai Viteazul și a timpurilor sale\, sunt așteptați la Craiova\, în perioada 23 – 25 mai\, în Parcul „Nicolae Romanescu“. \n\nÎn caz de vreme nefavorabilă\, organizatorul își rezervă dreptul de a modifica programul\, chiar de a anula o parte din activități.
URL:https://craiovalive.ro/eveniment/festivalul-medieval-zilele-mihai-viteazul-2025/2025-05-23/
LOCATION:Parcul Nicolae Romanescu\, Craiova\, Dolj\, România
CATEGORIES:Ateliere,Dans,Evenimente pentru copii,Muzică,Târguri
ATTACH;FMTTYPE=image/jpeg:https://craiovalive.ro/wp-content/uploads/2025/05/Festivalul-Medieval-Zilele-Mihai-Viteazul-2025.jpeg
ORGANIZER;CN="Casa de Cultur%C4%83 Traian Demetrescu":MAILTO:tradem@tradem.ro
GEO:44.301907335609;23.799200026224
END:VEVENT
BEGIN:VEVENT
DTSTART;TZID=Europe/Bucharest:20250524T110000
DTEND;TZID=Europe/Bucharest:20250524T220000
DTSTAMP:20260425T061936
CREATED:20250516T103936Z
LAST-MODIFIED:20250516T103936Z
UID:10006571-1748084400-1748124000@craiovalive.ro
SUMMARY:Festivalul Medieval Zilele Mihai Viteazul 2025
DESCRIPTION:Festivalul Medieval „Zilele Mihai Viteazul“ \nCraiova\, 23 – 25 mai 2025 \n  \nTeatrul pentru copii și tineret Colibri Craiova – Compartimentul Casa de Cultură „Traian Demetrescu“ organizează Festivalul Medieval „Zilele Mihai Viteazul“\, în perioada 23 – 25 mai 2025\, eveniment care aduce în prim-plan istoria și cultura medievală. \nFestivalul se va deschide vineri\, 23 mai 2025\, la ora 19:00\, cu o paradă a costumelor medievale\, în Parcul „Nicolae Romanescu“\, urmată de concert de muzică medievală și tradițională\, iar la ora 21:00 de un frumos spectacol de jonglerie cu foc. \nÎn zilele de 24 și 25 mai\, tot în parc\, în poienița din zona Casa Bibescu\, se vor desfășura ateliere\, demonstrații de luptă\, spectacole de teatru\, de dans\, de jonglerie cu foc și un târg de manufactură. Vizitatorii vor avea ocazia să descopere secretele meșteșugurilor și să participe la diverse activități recreative. Parcul devine un mic târg medieval\, unde cavalerii\, domnițele și meșteșugarii reconstruiesc atmosfera epocii medievale. \nFestivalul Medieval „Zilele Mihai Viteazul“ aduce la un loc mai multe asociații de profil\, care propun publicului să descopere taberele medievale\, atelierele de lucru\, breslele de odinioară\, turnirurile\, paradele\, să interacționeze cu domnițe și cavaleri\, să vadă demonstrații de luptă cu arme din perioada medievală\, să se bucure de concertele de muzică medievală în care se fac auzite sunetele instrumentelor vechi. Pentru a crea efecte speciale deosebite\, spectacolele pirotehnice vor fi prezentate la lăsarea întunericului. \nAșadar\, toți cei dornici să intre în atmosfera festivalului\, să fie parte din această experiență unică și să descopere povestea lui Mihai Viteazul și a timpurilor sale\, sunt așteptați la Craiova\, în perioada 23 – 25 mai\, în Parcul „Nicolae Romanescu“. \n\nÎn caz de vreme nefavorabilă\, organizatorul își rezervă dreptul de a modifica programul\, chiar de a anula o parte din activități.
URL:https://craiovalive.ro/eveniment/festivalul-medieval-zilele-mihai-viteazul-2025/2025-05-24/
LOCATION:Parcul Nicolae Romanescu\, Craiova\, Dolj\, România
CATEGORIES:Ateliere,Dans,Evenimente pentru copii,Muzică,Târguri
ATTACH;FMTTYPE=image/jpeg:https://craiovalive.ro/wp-content/uploads/2025/05/Festivalul-Medieval-Zilele-Mihai-Viteazul-2025.jpeg
ORGANIZER;CN="Casa de Cultur%C4%83 Traian Demetrescu":MAILTO:tradem@tradem.ro
GEO:44.301907335609;23.799200026224
END:VEVENT
BEGIN:VEVENT
DTSTART;TZID=Europe/Bucharest:20250524T160000
DTEND;TZID=Europe/Bucharest:20250524T170000
DTSTAMP:20260425T061936
CREATED:20250519T213712Z
LAST-MODIFIED:20250519T213712Z
UID:10006593-1748102400-1748106000@craiovalive.ro
SUMMARY:Degustare de vinuri & Atelier @Enoteca - Electroputere Mall
DESCRIPTION:Într-o colaborare specială Enoteca -Electroputere Mall\, ești invitat la o degustare de vinuri! Descoperă aromele unice ale vinurilor semnate de cramele Avincis si Cotnari\, dar și o selecție de importuri din partea BDG Import – Mouton Cadet\, Villa Raiano\, Whispering Angel\nLocație: Zona de evenimente ElectroÎnscrie-te acum pe site- locurile sunt limitate\, iar participarea este gratuita!\nLINK INSCRIERE : https://www.electroputeremall.ro/even…/workshop-de-vinuri/\nEvenimentul este dedicat exclusiv persoanelor majore\n\nDespre vinuri\nDegustare și atelier\nToate secretele bahice într-un workshop unic marca #EPMALL.\nParticiparea este gratuită. Vinurile diverse.
URL:https://craiovalive.ro/eveniment/degustare-de-vinuri-atelier-enoteca-electroputere-mall/2025-05-24/1/
LOCATION:Electroputere Parc Mall\, Calea București\, nr. 80\, Craiova\, Dolj\, România
CATEGORIES:Ateliere,Gastronomie
ATTACH;FMTTYPE=image/jpeg:https://craiovalive.ro/wp-content/uploads/2025/05/Degustare-de-vinuri-Atelier-@Enoteca-Electroputere-Mall.jpg
GEO:44.312934978525;23.833569266691
X-APPLE-STRUCTURED-LOCATION;VALUE=URI;X-ADDRESS=Electroputere Parc Mall Calea București nr. 80 Craiova Dolj România;X-APPLE-RADIUS=500;X-TITLE=Calea București\, nr. 80:geo:23.833569266691,44.312934978525
END:VEVENT
BEGIN:VEVENT
DTSTART;TZID=Europe/Bucharest:20250524T170000
DTEND;TZID=Europe/Bucharest:20250524T180000
DTSTAMP:20260425T061936
CREATED:20250519T213712Z
LAST-MODIFIED:20250519T213712Z
UID:10006594-1748106000-1748109600@craiovalive.ro
SUMMARY:Degustare de vinuri & Atelier @Enoteca - Electroputere Mall
DESCRIPTION:Într-o colaborare specială Enoteca -Electroputere Mall\, ești invitat la o degustare de vinuri! Descoperă aromele unice ale vinurilor semnate de cramele Avincis si Cotnari\, dar și o selecție de importuri din partea BDG Import – Mouton Cadet\, Villa Raiano\, Whispering Angel\nLocație: Zona de evenimente ElectroÎnscrie-te acum pe site- locurile sunt limitate\, iar participarea este gratuita!\nLINK INSCRIERE : https://www.electroputeremall.ro/even…/workshop-de-vinuri/\nEvenimentul este dedicat exclusiv persoanelor majore\n\nDespre vinuri\nDegustare și atelier\nToate secretele bahice într-un workshop unic marca #EPMALL.\nParticiparea este gratuită. Vinurile diverse.
URL:https://craiovalive.ro/eveniment/degustare-de-vinuri-atelier-enoteca-electroputere-mall/2025-05-24/2/
LOCATION:Electroputere Parc Mall\, Calea București\, nr. 80\, Craiova\, Dolj\, România
CATEGORIES:Ateliere,Gastronomie
ATTACH;FMTTYPE=image/jpeg:https://craiovalive.ro/wp-content/uploads/2025/05/Degustare-de-vinuri-Atelier-@Enoteca-Electroputere-Mall.jpg
GEO:44.312934978525;23.833569266691
X-APPLE-STRUCTURED-LOCATION;VALUE=URI;X-ADDRESS=Electroputere Parc Mall Calea București nr. 80 Craiova Dolj România;X-APPLE-RADIUS=500;X-TITLE=Calea București\, nr. 80:geo:23.833569266691,44.312934978525
END:VEVENT
BEGIN:VEVENT
DTSTART;TZID=Europe/Bucharest:20250525T110000
DTEND;TZID=Europe/Bucharest:20250525T220000
DTSTAMP:20260425T061936
CREATED:20250516T103936Z
LAST-MODIFIED:20250516T103936Z
UID:10006572-1748170800-1748210400@craiovalive.ro
SUMMARY:Festivalul Medieval Zilele Mihai Viteazul 2025
DESCRIPTION:Festivalul Medieval „Zilele Mihai Viteazul“ \nCraiova\, 23 – 25 mai 2025 \n  \nTeatrul pentru copii și tineret Colibri Craiova – Compartimentul Casa de Cultură „Traian Demetrescu“ organizează Festivalul Medieval „Zilele Mihai Viteazul“\, în perioada 23 – 25 mai 2025\, eveniment care aduce în prim-plan istoria și cultura medievală. \nFestivalul se va deschide vineri\, 23 mai 2025\, la ora 19:00\, cu o paradă a costumelor medievale\, în Parcul „Nicolae Romanescu“\, urmată de concert de muzică medievală și tradițională\, iar la ora 21:00 de un frumos spectacol de jonglerie cu foc. \nÎn zilele de 24 și 25 mai\, tot în parc\, în poienița din zona Casa Bibescu\, se vor desfășura ateliere\, demonstrații de luptă\, spectacole de teatru\, de dans\, de jonglerie cu foc și un târg de manufactură. Vizitatorii vor avea ocazia să descopere secretele meșteșugurilor și să participe la diverse activități recreative. Parcul devine un mic târg medieval\, unde cavalerii\, domnițele și meșteșugarii reconstruiesc atmosfera epocii medievale. \nFestivalul Medieval „Zilele Mihai Viteazul“ aduce la un loc mai multe asociații de profil\, care propun publicului să descopere taberele medievale\, atelierele de lucru\, breslele de odinioară\, turnirurile\, paradele\, să interacționeze cu domnițe și cavaleri\, să vadă demonstrații de luptă cu arme din perioada medievală\, să se bucure de concertele de muzică medievală în care se fac auzite sunetele instrumentelor vechi. Pentru a crea efecte speciale deosebite\, spectacolele pirotehnice vor fi prezentate la lăsarea întunericului. \nAșadar\, toți cei dornici să intre în atmosfera festivalului\, să fie parte din această experiență unică și să descopere povestea lui Mihai Viteazul și a timpurilor sale\, sunt așteptați la Craiova\, în perioada 23 – 25 mai\, în Parcul „Nicolae Romanescu“. \n\nÎn caz de vreme nefavorabilă\, organizatorul își rezervă dreptul de a modifica programul\, chiar de a anula o parte din activități.
URL:https://craiovalive.ro/eveniment/festivalul-medieval-zilele-mihai-viteazul-2025/2025-05-25/
LOCATION:Parcul Nicolae Romanescu\, Craiova\, Dolj\, România
CATEGORIES:Ateliere,Dans,Evenimente pentru copii,Muzică,Târguri
ATTACH;FMTTYPE=image/jpeg:https://craiovalive.ro/wp-content/uploads/2025/05/Festivalul-Medieval-Zilele-Mihai-Viteazul-2025.jpeg
ORGANIZER;CN="Casa de Cultur%C4%83 Traian Demetrescu":MAILTO:tradem@tradem.ro
GEO:44.301907335609;23.799200026224
END:VEVENT
BEGIN:VEVENT
DTSTART;TZID=Europe/Bucharest:20250525T160000
DTEND;TZID=Europe/Bucharest:20250525T170000
DTSTAMP:20260425T061936
CREATED:20250519T213712Z
LAST-MODIFIED:20250519T213712Z
UID:10006595-1748188800-1748192400@craiovalive.ro
SUMMARY:Degustare de vinuri & Atelier @Enoteca - Electroputere Mall
DESCRIPTION:Într-o colaborare specială Enoteca -Electroputere Mall\, ești invitat la o degustare de vinuri! Descoperă aromele unice ale vinurilor semnate de cramele Avincis si Cotnari\, dar și o selecție de importuri din partea BDG Import – Mouton Cadet\, Villa Raiano\, Whispering Angel\nLocație: Zona de evenimente ElectroÎnscrie-te acum pe site- locurile sunt limitate\, iar participarea este gratuita!\nLINK INSCRIERE : https://www.electroputeremall.ro/even…/workshop-de-vinuri/\nEvenimentul este dedicat exclusiv persoanelor majore\n\nDespre vinuri\nDegustare și atelier\nToate secretele bahice într-un workshop unic marca #EPMALL.\nParticiparea este gratuită. Vinurile diverse.
URL:https://craiovalive.ro/eveniment/degustare-de-vinuri-atelier-enoteca-electroputere-mall/2025-05-25/1/
LOCATION:Electroputere Parc Mall\, Calea București\, nr. 80\, Craiova\, Dolj\, România
CATEGORIES:Ateliere,Gastronomie
ATTACH;FMTTYPE=image/jpeg:https://craiovalive.ro/wp-content/uploads/2025/05/Degustare-de-vinuri-Atelier-@Enoteca-Electroputere-Mall.jpg
GEO:44.312934978525;23.833569266691
X-APPLE-STRUCTURED-LOCATION;VALUE=URI;X-ADDRESS=Electroputere Parc Mall Calea București nr. 80 Craiova Dolj România;X-APPLE-RADIUS=500;X-TITLE=Calea București\, nr. 80:geo:23.833569266691,44.312934978525
END:VEVENT
BEGIN:VEVENT
DTSTART;TZID=Europe/Bucharest:20250525T170000
DTEND;TZID=Europe/Bucharest:20250525T180000
DTSTAMP:20260425T061936
CREATED:20250519T213712Z
LAST-MODIFIED:20250519T213712Z
UID:10006596-1748192400-1748196000@craiovalive.ro
SUMMARY:Degustare de vinuri & Atelier @Enoteca - Electroputere Mall
DESCRIPTION:Într-o colaborare specială Enoteca -Electroputere Mall\, ești invitat la o degustare de vinuri! Descoperă aromele unice ale vinurilor semnate de cramele Avincis si Cotnari\, dar și o selecție de importuri din partea BDG Import – Mouton Cadet\, Villa Raiano\, Whispering Angel\nLocație: Zona de evenimente ElectroÎnscrie-te acum pe site- locurile sunt limitate\, iar participarea este gratuita!\nLINK INSCRIERE : https://www.electroputeremall.ro/even…/workshop-de-vinuri/\nEvenimentul este dedicat exclusiv persoanelor majore\n\nDespre vinuri\nDegustare și atelier\nToate secretele bahice într-un workshop unic marca #EPMALL.\nParticiparea este gratuită. Vinurile diverse.
URL:https://craiovalive.ro/eveniment/degustare-de-vinuri-atelier-enoteca-electroputere-mall/2025-05-25/2/
LOCATION:Electroputere Parc Mall\, Calea București\, nr. 80\, Craiova\, Dolj\, România
CATEGORIES:Ateliere,Gastronomie
ATTACH;FMTTYPE=image/jpeg:https://craiovalive.ro/wp-content/uploads/2025/05/Degustare-de-vinuri-Atelier-@Enoteca-Electroputere-Mall.jpg
GEO:44.312934978525;23.833569266691
X-APPLE-STRUCTURED-LOCATION;VALUE=URI;X-ADDRESS=Electroputere Parc Mall Calea București nr. 80 Craiova Dolj România;X-APPLE-RADIUS=500;X-TITLE=Calea București\, nr. 80:geo:23.833569266691,44.312934978525
END:VEVENT
END:VCALENDAR