BEGIN:VCALENDAR
VERSION:2.0
PRODID:-//Craiova Live - ECPv6.15.18//NONSGML v1.0//EN
CALSCALE:GREGORIAN
METHOD:PUBLISH
X-WR-CALNAME:Craiova Live
X-ORIGINAL-URL:https://craiovalive.ro
X-WR-CALDESC:Evenimente pentru Craiova Live
REFRESH-INTERVAL;VALUE=DURATION:PT1H
X-Robots-Tag:noindex
X-PUBLISHED-TTL:PT1H
BEGIN:VTIMEZONE
TZID:Europe/Bucharest
BEGIN:DAYLIGHT
TZOFFSETFROM:+0200
TZOFFSETTO:+0300
TZNAME:EEST
DTSTART:20240331T010000
END:DAYLIGHT
BEGIN:STANDARD
TZOFFSETFROM:+0300
TZOFFSETTO:+0200
TZNAME:EET
DTSTART:20241027T010000
END:STANDARD
BEGIN:DAYLIGHT
TZOFFSETFROM:+0200
TZOFFSETTO:+0300
TZNAME:EEST
DTSTART:20250330T010000
END:DAYLIGHT
BEGIN:STANDARD
TZOFFSETFROM:+0300
TZOFFSETTO:+0200
TZNAME:EET
DTSTART:20251026T010000
END:STANDARD
BEGIN:DAYLIGHT
TZOFFSETFROM:+0200
TZOFFSETTO:+0300
TZNAME:EEST
DTSTART:20260329T010000
END:DAYLIGHT
BEGIN:STANDARD
TZOFFSETFROM:+0300
TZOFFSETTO:+0200
TZNAME:EET
DTSTART:20261025T010000
END:STANDARD
END:VTIMEZONE
BEGIN:VEVENT
DTSTART;TZID=Europe/Bucharest:20250506T180000
DTEND;TZID=Europe/Bucharest:20250506T203000
DTSTAMP:20260425T131728
CREATED:20250504T193550Z
LAST-MODIFIED:20250504T193550Z
UID:10006278-1746554400-1746563400@craiovalive.ro
SUMMARY:Schimb de cărți Craiova - ediția a II-a
DESCRIPTION:Craiova\, hai să facem  schimb de cărți!\n Când? Pe 6 mai 2025 La ce oră? Începem la 18.00 Unde? Îți transmitem prin viu grai la telefon după ce te înscrii pe formular Cine participă? Toată lumea\, zi și tu la un prieten :))\n Avem și ‘reguli’ de participare și ne bazăm pe tine să le respecți. E simplu. Iată:\n aduci 3 cărți în stare bună pe care ești dispus să le dai la schimb.  Atenție: nu se acceptă volume de specialitate\, doar beletristică & dezvoltare personală îți plătești propria consumație de la bar/restaurant te relaxezi.\n Ce se-ntâmplă? Uite cum se va desfășura:\n 18.00 – 19.00: ajungem la locație\, ne cunoaștem\, socializăm\, bem un suc\, lăsăm cărțile într-un loc special amenajat 19.00 – 20.00: dezbatere pe subiectul „Care sunt obiceiurile noastre de lectură?”\, moderată de Roxana Știubei\, președinte Asociația Media pe bune. La final\, fiecare participant își alege 3 cărți pe care să le ia acasă spre a fi lecturate (diferite de cele pe care le-a adus) 20.00 – 21.00: continuăm cu dezbaterea în mod informal\, servim cina\, facem schimb de contacte și poze de social media\, ne jucăm\n Acum\, singurul lucru care rămâne de făcut e să te înscrii și să ne vedem la fața locului.\n Evenimentul este organizat de Asociația Media pe bune în parteneriat cu Fundația Autonom.
URL:https://craiovalive.ro/eveniment/schimb-de-carti-craiova-editia-a-ii-a/
CATEGORIES:Ateliere
ATTACH;FMTTYPE=image/jpeg:https://craiovalive.ro/wp-content/uploads/2025/05/Schimb-de-carti-Craiova-editia-a-II-a.jpg
END:VEVENT
END:VCALENDAR