BEGIN:VCALENDAR
VERSION:2.0
PRODID:-//Craiova Live - ECPv6.15.18//NONSGML v1.0//EN
CALSCALE:GREGORIAN
METHOD:PUBLISH
X-ORIGINAL-URL:https://craiovalive.ro
X-WR-CALDESC:Evenimente pentru Craiova Live
REFRESH-INTERVAL;VALUE=DURATION:PT1H
X-Robots-Tag:noindex
X-PUBLISHED-TTL:PT1H
BEGIN:VTIMEZONE
TZID:Europe/Bucharest
BEGIN:DAYLIGHT
TZOFFSETFROM:+0200
TZOFFSETTO:+0300
TZNAME:EEST
DTSTART:20250330T010000
END:DAYLIGHT
BEGIN:STANDARD
TZOFFSETFROM:+0300
TZOFFSETTO:+0200
TZNAME:EET
DTSTART:20251026T010000
END:STANDARD
BEGIN:DAYLIGHT
TZOFFSETFROM:+0200
TZOFFSETTO:+0300
TZNAME:EEST
DTSTART:20260329T010000
END:DAYLIGHT
BEGIN:STANDARD
TZOFFSETFROM:+0300
TZOFFSETTO:+0200
TZNAME:EET
DTSTART:20261025T010000
END:STANDARD
BEGIN:DAYLIGHT
TZOFFSETFROM:+0200
TZOFFSETTO:+0300
TZNAME:EEST
DTSTART:20270328T010000
END:DAYLIGHT
BEGIN:STANDARD
TZOFFSETFROM:+0300
TZOFFSETTO:+0200
TZNAME:EET
DTSTART:20271031T010000
END:STANDARD
END:VTIMEZONE
BEGIN:VEVENT
DTSTART;TZID=Europe/Bucharest:20260423T180000
DTEND;TZID=Europe/Bucharest:20260423T200000
DTSTAMP:20260423T194548
CREATED:20260327T121821Z
LAST-MODIFIED:20260327T121821Z
UID:10014409-1776967200-1776974400@craiovalive.ro
SUMMARY:Atelier Scrapbooking - Terapie prin artă pentru oameni mari
DESCRIPTION:Terapie prin artă pentru oameni mari – Ateliere de scrapbooking pentru tine si familia/prietenii tai – pentru conectare si exprimare prin creativitate. N-ai nevoie de experienta – doar de curiozitate si prezenta. \n23 aprilie 2026\, ora 18:00\,  Cafeneaua 12Doispe – la etaj \n Cand si cum: Lunar\, joia\, timp de 1\,5 – 2 ore Ce cream: felicitari\, pagini de scrapbooking\, mini-albume\, folio-uri Materiale incluse: carton\, hartie de scrapbooking si decoratiuni premium\, atent alese Aduceti voi: creion\, rigla\, foarfeca\, banda dublu-adeziva si…mult entuziasm Format: ateliere fizice\, grupuri restranse Varsta: 18+ ani \n\nIMPORTANT: \n Vino cu un prieten și bucurați-vă împreună de experiență (preț special pentru grupuri). \n\nÎn ritmul alert al vieții de zi cu zi\, ajungem să fim mereu ocupați\, deconectați de la noi înșine\, disponibili pentru alții — dar din ce în ce mai rar cu adevărat prezenți pentru noi înșine. Mintea nu se oprește\, corpul rămâne în tensiune\, iar pauzele nu mai sunt cu adevărat odihnitoare. \nAceste ateliere de scrapbooking pentru adulți au fost gândite ca un refugiu blând. Un spațiu sigur\, cald și re/creativ în care timpul încetinește firesc\, presiunea dispare\, iar tu te poți întoarce\, fără efort\, către tine. \nScrapbooking-ul devine aici mai mult decât o activitate creativă — devine o formă de mindfulness informal. Nu presupune reguli stricte sau performanță\, ci prezență. Când mâinile ne sunt ocupate\, gândurile ni se liniștesc\, reușim să creăm fără grabă și fără așteptări. Nu contează cât de „talentat” ești\, ci cât de dispus ești să te oprești și să simți. \nCreativitatea capătă o altă dimensiune: devine calm.O invitație de a atinge hârtia\, de a observa texturile\, de a te pierde în culori și detalii\, de a te lăsa transportat acolo unde te duc imaginile de pe hârtie… și\, în același timp\, de a respira mai profund\, de a-ți așeza gândurile și de a fi\, pur și simplu\, curios și prezent.
URL:https://craiovalive.ro/eveniment/atelier-scrapbooking-terapie-prin-arta-pentru-oameni-mari/
CATEGORIES:Ateliere
ATTACH;FMTTYPE=image/jpeg:https://craiovalive.ro/wp-content/uploads/2026/03/Terapie-prin-arta-pentru-oameni-mari.jpg
END:VEVENT
END:VCALENDAR