BEGIN:VCALENDAR
VERSION:2.0
PRODID:-//Craiova Live - ECPv6.15.18//NONSGML v1.0//EN
CALSCALE:GREGORIAN
METHOD:PUBLISH
X-WR-CALNAME:Craiova Live
X-ORIGINAL-URL:https://craiovalive.ro
X-WR-CALDESC:Evenimente pentru Craiova Live
REFRESH-INTERVAL;VALUE=DURATION:PT1H
X-Robots-Tag:noindex
X-PUBLISHED-TTL:PT1H
BEGIN:VTIMEZONE
TZID:Europe/Bucharest
BEGIN:DAYLIGHT
TZOFFSETFROM:+0200
TZOFFSETTO:+0300
TZNAME:EEST
DTSTART:20250330T010000
END:DAYLIGHT
BEGIN:STANDARD
TZOFFSETFROM:+0300
TZOFFSETTO:+0200
TZNAME:EET
DTSTART:20251026T010000
END:STANDARD
BEGIN:DAYLIGHT
TZOFFSETFROM:+0200
TZOFFSETTO:+0300
TZNAME:EEST
DTSTART:20260329T010000
END:DAYLIGHT
BEGIN:STANDARD
TZOFFSETFROM:+0300
TZOFFSETTO:+0200
TZNAME:EET
DTSTART:20261025T010000
END:STANDARD
BEGIN:DAYLIGHT
TZOFFSETFROM:+0200
TZOFFSETTO:+0300
TZNAME:EEST
DTSTART:20270328T010000
END:DAYLIGHT
BEGIN:STANDARD
TZOFFSETFROM:+0300
TZOFFSETTO:+0200
TZNAME:EET
DTSTART:20271031T010000
END:STANDARD
END:VTIMEZONE
BEGIN:VEVENT
DTSTART;TZID=Europe/Bucharest:20260603T190000
DTEND;TZID=Europe/Bucharest:20260603T203000
DTSTAMP:20260424T015029
CREATED:20260322T151919Z
LAST-MODIFIED:20260322T151919Z
UID:10014384-1780513200-1780518600@craiovalive.ro
SUMMARY:O seară de stand up comedy cu Costel
DESCRIPTION:Craiova: O seara de stand up comedy cu Costel\nCasa de Cultura a Studentilor Craiova\, Craiova \nmiercuri\, 3 iunie\, ora 19:00 \nTe așteptăm la o seară plină de râs alături de Costel! Garantăm râs pe săturate și voie bună din plin! Pregătește-te pentru glume care te fac să râzi cu lacrimi\, momente spontane și o atmosferă relaxată\, exact ce-ți trebuie pentru o ieșire memorabilă. Adu-ți prietenii și vino să te bucuri de o experiență plină de umor autentic\, surprize și energie pozitivă care te va face să revii cu drag. Seara asta\, distracția e pe primul loc – iar tu nu vrei să o ratezi! \nDacă nu ai făcut 18 ani\, nu ai voie la noi din păcate… Dar hei\, măcar bucură-te de tinerețe!
URL:https://craiovalive.ro/eveniment/o-seara-de-stand-up-comedy-cu-costel/
LOCATION:Casa de Cultură a Studenților Craiova\, Str. Eugeniu Carada\, nr. 10\, Craiova\, Dolj\, 200390\, România
CATEGORIES:Stand up
ATTACH;FMTTYPE=image/jpeg:https://craiovalive.ro/wp-content/uploads/2026/03/O-seara-de-stand-up-comedy-cu-Costel.jpg
GEO:44.3158109;23.8003284
X-APPLE-STRUCTURED-LOCATION;VALUE=URI;X-ADDRESS=Casa de Cultură a Studenților Craiova Str. Eugeniu Carada nr. 10 Craiova Dolj 200390 România;X-APPLE-RADIUS=500;X-TITLE=Str. Eugeniu Carada\, nr. 10:geo:23.8003284,44.3158109
END:VEVENT
END:VCALENDAR