BEGIN:VCALENDAR
VERSION:2.0
PRODID:-//Craiova Live - ECPv6.15.18//NONSGML v1.0//EN
CALSCALE:GREGORIAN
METHOD:PUBLISH
X-WR-CALNAME:Craiova Live
X-ORIGINAL-URL:https://craiovalive.ro
X-WR-CALDESC:Evenimente pentru Craiova Live
REFRESH-INTERVAL;VALUE=DURATION:PT1H
X-Robots-Tag:noindex
X-PUBLISHED-TTL:PT1H
BEGIN:VTIMEZONE
TZID:Europe/Bucharest
BEGIN:DAYLIGHT
TZOFFSETFROM:+0200
TZOFFSETTO:+0300
TZNAME:EEST
DTSTART:20250330T010000
END:DAYLIGHT
BEGIN:STANDARD
TZOFFSETFROM:+0300
TZOFFSETTO:+0200
TZNAME:EET
DTSTART:20251026T010000
END:STANDARD
BEGIN:DAYLIGHT
TZOFFSETFROM:+0200
TZOFFSETTO:+0300
TZNAME:EEST
DTSTART:20260329T010000
END:DAYLIGHT
BEGIN:STANDARD
TZOFFSETFROM:+0300
TZOFFSETTO:+0200
TZNAME:EET
DTSTART:20261025T010000
END:STANDARD
BEGIN:DAYLIGHT
TZOFFSETFROM:+0200
TZOFFSETTO:+0300
TZNAME:EEST
DTSTART:20270328T010000
END:DAYLIGHT
BEGIN:STANDARD
TZOFFSETFROM:+0300
TZOFFSETTO:+0200
TZNAME:EET
DTSTART:20271031T010000
END:STANDARD
END:VTIMEZONE
BEGIN:VEVENT
DTSTART;TZID=Europe/Bucharest:20260429T180000
DTEND;TZID=Europe/Bucharest:20260429T193000
DTSTAMP:20260423T181554
CREATED:20260420T162001Z
LAST-MODIFIED:20260420T162001Z
UID:10014580-1777485600-1777491000@craiovalive.ro
SUMMARY:Finisaj și lansare catalog | Expoziția ”Sortir du noir”
DESCRIPTION:Vă așteptăm miercuri\, 29 aprilie 2026\, la ora 18:00\, la finisajul expoziției personale a artistului Petru Lucaci\, „Sortir du noir”. Evenimentul va avea loc în prezența artistului și a curatoarei\, doamna profesor universitar Ruxandra Demetrescu.\nCu ocazia finisajului\, va fi lansat și catalogul expoziției cu un concept grafic semnat de Serioja Bocsok. Publicația cuprinde reproduceri ale lucrărilor prezentate\, alături de textul critic al curatoarei Ruxandra Demetrescu.\nExpoziția\, care a putut fi vizitată începând cu data de 6 martie\, marchează un moment de sinteză și revizitare în cariera unuia dintre cei mai influenți artiști vizuali contemporani din România.Finisajul din 29 aprilie reprezintă ultima ocazie de a parcurge această retrospectivă a seriilor „Clarobscur” și a experimentelor recente.\nÎn viziunea curatoarei\, parcursul expozițional urmărește simbolic drumul de la negru către culoare\, o „ieșire din negru” care nu este doar formală\, ci și spirituală. Această tranziție este marcată de trecerea de la polipticele monumentale dominate de negrul absolut\, către noile pânze în care culoarea și lumina se desprind din materie\, definind atât o nouă relație între vizual și tactil\, cât și un nou capitol în practica artistică a lui Petru Lucaci.\nGLORIÆ Art Gallery este situată în centrul istoric al Craiovei\, pe str. Alexandru Macedonski nr. 49 și poate fi vizitată în zilele de joi\, vineri și sâmbătă între orele 12:00 și 16:00.\n–-\nPetru Lucaci (n. 1956\, Arad) este artist vizual\, profesor universitar doctor la Universitatea Națională de Arte București\, curator și o figură centrală a managementului cultural din România\, ocupând din 2010 funcțiile de președinte al Uniunii Artiștilor Plastici din România și director al Revistei Arta. Este absolvent al Institutului de Arte Plastice Nicolae Grigorescu din București\, la Departamentul Pictură\, în anul 1982. Are un Doctorat în Arte Vizuale cu tema „Despre Negru” susținut în 2006\, iar activitatea sa expozițională cuprinde participări la peste 250 de expoziții de grup în țară și în străinătate\, precum și peste 45 de expoziții personale. Practica artistică include pictură\, grafică\, fotografie\, obiect/instalaţie\, happening şi noile media. În 2004 a primit Ordinul Meritul Cultural în rang de ofiţer categoria C\, iar în 2006\, Uniunea Artiştilor Plastici i-a decernat Premiul pentru Excelență.
URL:https://craiovalive.ro/eveniment/finisaj-si-lansare-catalog-expozitia-sortir-du-noir/
LOCATION:Gloriæ Art Gallery\, Str. Alexandru Macedonski\, Nr. 49\, Craiova\, Dolj\, România
CATEGORIES:Expoziție
ATTACH;FMTTYPE=image/jpeg:https://craiovalive.ro/wp-content/uploads/2026/04/Finisaj-si-lansare-catalog-Expozitia-Sortir-du-noir.jpg
ORGANIZER;CN="Glori%C3%A6 Art Gallery":MAILTO:office@gloriae.ro
GEO:44.312189;23.8001597
X-APPLE-STRUCTURED-LOCATION;VALUE=URI;X-ADDRESS=Gloriæ Art Gallery Str. Alexandru Macedonski Nr. 49 Craiova Dolj România;X-APPLE-RADIUS=500;X-TITLE=Str. Alexandru Macedonski\, Nr. 49:geo:23.8001597,44.312189
END:VEVENT
BEGIN:VEVENT
DTSTART;TZID=Europe/Bucharest:20260429T190000
DTEND;TZID=Europe/Bucharest:20260429T203000
DTSTAMP:20260423T181554
CREATED:20260420T115143Z
LAST-MODIFIED:20260420T115143Z
UID:10014579-1777489200-1777494600@craiovalive.ro
SUMMARY:Recital extraordinar Sonata primăverii
DESCRIPTION:MIERCURI\, 29 APRILIE 2026\, ORA 19:00 Recital extraordinar SONATA PRIMĂVERII– CRISTIAN PINTILIE (vioară)– MIHAI UNGUREANU (pian)———În program:– Wolfgang Amadeus Mozart: Sonata nr. 26 în Si bemol major– Ludwig van Beethoven: Sonata nr. 5 în Fa major\, op. 24\, „Sonata Primăverii”– César Franck: Sonata în La major————Inclus în abonament.
URL:https://craiovalive.ro/eveniment/recital-extraordinar-sonata-primaverii/
LOCATION:Filarmonica Oltenia\, Calea Unirii\, nr. 16\, Craiova\, Dolj\, 200585\, România
CATEGORIES:Muzică
ATTACH;FMTTYPE=image/jpeg:https://craiovalive.ro/wp-content/uploads/2026/04/Recital-extraordinar-Sonata-primaverii.jpg
ORGANIZER;CN="Filarmonica Oltenia Craiova":MAILTO:secretariat@filarmonica-oltenia.ro
GEO:44.3172308;23.7944364
X-APPLE-STRUCTURED-LOCATION;VALUE=URI;X-ADDRESS=Filarmonica Oltenia Calea Unirii nr. 16 Craiova Dolj 200585 România;X-APPLE-RADIUS=500;X-TITLE=Calea Unirii\, nr. 16:geo:23.7944364,44.3172308
END:VEVENT
BEGIN:VEVENT
DTSTART;TZID=Europe/Bucharest:20260429T193000
DTEND;TZID=Europe/Bucharest:20260429T210000
DTSTAMP:20260423T181554
CREATED:20251205T083356Z
LAST-MODIFIED:20251205T083431Z
UID:10012604-1777491000-1777496400@craiovalive.ro
SUMMARY:Concert Holograf
DESCRIPTION:Holograf te invită la un concert plin de emoție și hituri legendare. \nVino să trăiești live energia unei trupe care a scris istorie în muzica românească. \nO seară de neuitat te așteaptă! \n\n\n–– \nDin motive independente de vointa noastra\, anumite detalii legate de eveniment pot suferi modificari (ora\, locatia). Va vom anunta de fiecare data cand acest lucru se intampla si va multumim pentru intelegere.
URL:https://craiovalive.ro/eveniment/concert-holograf/
LOCATION:Teatrul Național Craiova – Sala Amza Pellea\, Str. A. I. Cuza\, nr. 11\, Craiova\, Dolj\, 200585\, România
CATEGORIES:Muzică
ATTACH;FMTTYPE=image/jpeg:https://craiovalive.ro/wp-content/uploads/2025/12/Concert-Holograf.jpg
GEO:44.3186661;23.8003743
X-APPLE-STRUCTURED-LOCATION;VALUE=URI;X-ADDRESS=Teatrul Național Craiova – Sala Amza Pellea Str. A. I. Cuza nr. 11 Craiova Dolj 200585 România;X-APPLE-RADIUS=500;X-TITLE=Str. A. I. Cuza\, nr. 11:geo:23.8003743,44.3186661
END:VEVENT
END:VCALENDAR