BEGIN:VCALENDAR
VERSION:2.0
PRODID:-//Craiova Live - ECPv6.15.18//NONSGML v1.0//EN
CALSCALE:GREGORIAN
METHOD:PUBLISH
X-ORIGINAL-URL:https://craiovalive.ro
X-WR-CALDESC:Evenimente pentru Craiova Live
REFRESH-INTERVAL;VALUE=DURATION:PT1H
X-Robots-Tag:noindex
X-PUBLISHED-TTL:PT1H
BEGIN:VTIMEZONE
TZID:Europe/Bucharest
BEGIN:DAYLIGHT
TZOFFSETFROM:+0200
TZOFFSETTO:+0300
TZNAME:EEST
DTSTART:20250330T010000
END:DAYLIGHT
BEGIN:STANDARD
TZOFFSETFROM:+0300
TZOFFSETTO:+0200
TZNAME:EET
DTSTART:20251026T010000
END:STANDARD
BEGIN:DAYLIGHT
TZOFFSETFROM:+0200
TZOFFSETTO:+0300
TZNAME:EEST
DTSTART:20260329T010000
END:DAYLIGHT
BEGIN:STANDARD
TZOFFSETFROM:+0300
TZOFFSETTO:+0200
TZNAME:EET
DTSTART:20261025T010000
END:STANDARD
BEGIN:DAYLIGHT
TZOFFSETFROM:+0200
TZOFFSETTO:+0300
TZNAME:EEST
DTSTART:20270328T010000
END:DAYLIGHT
BEGIN:STANDARD
TZOFFSETFROM:+0300
TZOFFSETTO:+0200
TZNAME:EET
DTSTART:20271031T010000
END:STANDARD
END:VTIMEZONE
BEGIN:VEVENT
DTSTART;TZID=Europe/Bucharest:20260427T190000
DTEND;TZID=Europe/Bucharest:20260427T203000
DTSTAMP:20260423T181715
CREATED:20260115T104756Z
LAST-MODIFIED:20260115T104756Z
UID:10012887-1777316400-1777321800@craiovalive.ro
SUMMARY:Nelson
DESCRIPTION:Craiova: Nelson – Premiera Nationala\n\nTeatrul National Marin Sorescu\, Craiova\nStrada Alexandru Ioan Cuza 11\nluni\, 27 aprilie\, ora 19:00 acces de la 18:30\n\n\n\nNELSON – Comedia care te cucerește. \nÎn familia lui Jacqueline Du Vivier\, șefa Baroului din Paris\, se pregătește o cină „perfectă”.\nO seară în care rafinamentul\, orgoliile și dorința de a păstra aparențele se ciocnesc spectaculos de lumea celor care trăiesc după alte principii și alte ritualuri. \n\n\nCând stilul de viață regal\, tradițional și fără nicio grijă gastronomică se lovește frontal de lumea celor care cred cu tărie că pot salva planeta\, totul explodează într-un haos delicios. \nO comedie efervescentă\, cu umor impecabil dozat\, ritm nebun și personaje pe care nu ai cum să nu le iubești exact pentru defectele lor. \nUn spectacol despre familie\, pretenții și… surprizele care apar atunci când toată lumea vrea să pară altcineva. \nRâzi. Mult. Și pleci fericit. \n  \nDistribuție: MAIA MORGENSTERN\, CARMEN TANASE\, MIRCEA RUSU\, GHEORGHE IFRIM/LUCIAN IFRIM\, OLIMPIA MELINTE/ISADORA BALTATEANU\, TUDOR ISTODOR/MIHAI MUNTENITA\, DENIS HANGANU/CIPRIAN NICULA \nScenografie: MONICA ALINA PADURARU\nTraducere: LIDIA MOLLA\nRegie: DANIEL HARA\nProductie: PRESTIGE ART PRODUCTION
URL:https://craiovalive.ro/eveniment/nelson/
LOCATION:Teatrul Național Craiova – Sala Amza Pellea\, Str. A. I. Cuza\, nr. 11\, Craiova\, Dolj\, 200585\, România
CATEGORIES:Teatru
ATTACH;FMTTYPE=image/webp:https://craiovalive.ro/wp-content/uploads/2026/01/Nelson.webp
GEO:44.3186661;23.8003743
X-APPLE-STRUCTURED-LOCATION;VALUE=URI;X-ADDRESS=Teatrul Național Craiova – Sala Amza Pellea Str. A. I. Cuza nr. 11 Craiova Dolj 200585 România;X-APPLE-RADIUS=500;X-TITLE=Str. A. I. Cuza\, nr. 11:geo:23.8003743,44.3186661
END:VEVENT
BEGIN:VEVENT
DTSTART;TZID=Europe/Bucharest:20260427T190000
DTEND;TZID=Europe/Bucharest:20260427T210000
DTSTAMP:20260423T181715
CREATED:20250730T145923Z
LAST-MODIFIED:20260215T192452Z
UID:10007795-1777316400-1777323600@craiovalive.ro
SUMMARY:Duelul Tenorilor Craiova
DESCRIPTION:DUELUL TENORILOR – Concert extraordinar cu tenorii  Ştefan von Korch\, George Vîrban şi Mihai Urzicana \n27 Aprilie 2026 ora 19:00 \nFilarmonica Oltenia Craiova \nÎndrăgitul tenor Ştefan von Korch invită melomanii din Craiova la „Duelul Tenorilor\,” spectacol în premieră\, ce va însufleți  seara de 27 Aprilie cu canzonete\, piese pop-opera şi arii celebre. Evenimentul va fi găzduit la sala Filarmonicii Oltenia\, iar alături de tenorul Ştefan von Korch – solist-gazdă\, vor fi alte două voci masculine lirice de excepţie: tenorul George Vîrban şi tenorul Mihai Urzicana. \nSolistul Ştefan von Korch detaliază: „ concertul este inspirat de tradiţia marilor formule vocale masculine de trio ale lumii\, dar va explora şi dincolo de acestea şi va include un repertoriu spumos\, de arii şi canzonete celebre\, un veritabil „best of”\, dintre care nu pot lipsi repere ca „Nessun dorma\,”  „La Donna e mobile\,” sau „O Sole Mio\,”  dar şi rarităţi lirice\, menite să încânte și să emoționeze publicul.” \nConcertul va fi o experiență muzicală deosebită ce va bucura sufletul melomanilor cu cele mai cunoscute piese potrivite vocii vedetă a registrului liric – cea de tenor. \nBiletele sunt disponibile pe Ticketstore.ro\, Biletlateatru.ro\, Startickets.ro\, Dynamicticket.ro. \nEvenimentul face parte din stagiunea Musical Extravaganza\, ce aduce repere ale artei lirice mai aprope de public\, sub îndrumarea artistică a tenorului Ştefan von Korch. \nDespre protagonişti Despre  ** Ştefan von Korch – Tenor\, solist gazdă  ** \nTenorul Ştefan von Korch este lunar apreciat de public în postura de solist-gazdă şi coordonator artistic al stagiunii Musical Extravaganza\, proiect de pionierat cultural derulat în capitală\, cu extensii şi pe scenele din Braşov\, Piteşti\, Sibiu şi Craiova. \nCu o prezenţă dinamică în viaţa culturală naţională şi nu numai\, Ştefan von Korch va fi prezent în luna februarie pe scena Operei Naţionale din Iaşi în „Văduva veselă 2.0\,” în regia lui Andrei Şerban. \nÎn 2025 a fost singurul solist român în concertele  de mare tradiţie „Los Tres Tenores\, ” din America Centrală\, alături de solişti din Spania şi Honduras\, a debutat la Ateneul Român în „Concert la Curtea Imperială\,” a deschis stagiunea Filarmonicii Arad cu „Carmina Burana”\, lucrarea sa „semnătură\,” în care a şi început anul pe scena Filarmonicii de Stat Transilvania . \nEste vocea inconfundabilă  pentru linia de tenor din Carmina  Burana – un pasaj aflat la limita capacităţilor vocii masculine\, prin a cărui interpretare navighează cu o ușurință debordantă. Graţie manierei de interpretare  acestei lucrări a fost invitat în peste 40 de spectacole de Carmina Burana\, în  Filarmonicile şi Instituţiile de cultură din ţară\, dar şi peste hotare\, în 2024 revenindu-i onoarea de deschide Festivalul Palermo Classica în această lucrare\, cu o apariție aclamată în presa din peninsulă şi din România deopotrivă. \n Numele său se leagă şi de peste 15 spectacole la Opera Naţională din Bucureşti unde a fost de-a lungul vremii invitat în „Bărbierul din Sevilla\,\, „Elixirul Dragostei” şi „Falstaff\,” dar şi de premiera naţională a operei „I Puritani\,” de Vicenzo Belinni\, una din cele mai înalte partituri scrise pentru voce masculine. \nAnul 2024 l-a încheiat cu apariţii de marcă la Teatrul Naţional de Operetă şi Musical Ion Dacian\,  la  Sala Palatului şi la Filarmonicile din Târgu-Mureş şi Timişoara. \n În anul 2023 a fost singurul solist român din turneul China Tour 2023\, alături de Orchestra Reino de Aragon din Spania. \n A bucurat publicul cu vocea sa în 3 premiere naţionale: „I Puritani” şi „La Sonnambula\,” ambele de Vicenzo Bellini\, lucrarea vocal-simfonică „Messa di Gloria” de Rossini\, dar şi în premiera europeană „Traiano in Dacia.” \n În decursul vremii a interpret al rolurile specifice vocii lui din foarte cunoscutele opere: „Rigoletto”\, „Bărbierul din Sevilla”\, „Elixirul Dragostei”\, „Don Pasquale”\, pe scenele Operelor din Bucureşti\, Cluj şi Iaşi şi este o prezenţă constantă pe scenele filarmonicilor naţionale\, „Requiemul” de Mozart\, „Oratoriul de Crăciun” de Bach şi „Longesangt” de Mendelssohn. \nPe plan internaţional a concertat la Metropolitan Concert Hall Tokyo\, Zhuhai Opera House\, Nanjing Poly Grand Theatre şi Chongqing Grand Theatre\, Opera Kaiserslautern Germania\, Teatro Verdi Padua Italia\, Sala de concerte a Academiei de Muzica Zurich\, Teatrul National Bratislava. \nGeorge Vîrban – Tenor \nTenor apreciat atât pe scenele naţionale cât şi internaţionale\, George Vîrban poate fi aplaudat pe scena Teatrului Naţional de Operetă şi Musical Ion Dacian în „Prinţesa Circului\,” (regia Beatrice Rancea)\, „Liliacul” sau „Ţara surâsului.” \nSe bucură de frecvente invitaţii şi în instituţii lirice de peste hotare: va încheia sezonul 24/25 în opera Evgheni Onegin la Haifa\, iar stagiunea 25/26 aduce colaborări noi în portofoliul său de solist cu teatre de operă precum Opera din Tel Aviv\, Opera din Shanghai sau Opera de Stat din Munchen. \nTot în anul 2025 a fost prezent la Metropolitan Opera din New York pentru rolul lui Tamino (cover) în producția „Flautul fermecat\,” a susţinut o serie de concerte în Coreea de Sud  şi a debutat la Teatrului Aalto din Eseen în rolul Don Ottavio din opera Don Giovanni. \nÎn sezonul 2023/24 a fost membru al ansamblului Teatrului Aalto din Essen\, iar din 2019 până în 2021\, a fost membru al Studioului de Operă al Operei de Stat din München. \nMihai Urzicana – Tenor \nCa solist de operă\, tenorul Mihai  Urzicana a câștigat numeroase premii naționale și internaționale: Premiul I la Concursul Național de Interpretare Muzicală  Mihail Jora\, Premiul I la Concursul Național Opera Start\,  Premiul II și Premiul Publicului la  L’Assoluta Virginia Zeani – The International Grand Prix of Romania – Tg. Mureș\,  Premiul II – Concursul Internațional Vox Artis – Sibiu și  este o prezență constantă pe scenele de concert și pe scenele teatrelor muzicale  din țară și străinătate. \nTenorul Mihai Urzicana se bucură de îndrumarea unor personalități ale artei lirice mondiale\, precum:  Liora Maurer și Lucy Arner – Metropolitan Opera New York\, baritonul George Petean și regizoarea Sharon Mohar – Les Maîtres Sonneurs – Franța. \nSolist al Teatrului Național de Operetă și Musical „Ion Dacian” din București\, tenorul Mihai Urzicana este  absolvent de master la Universitatea  Națională  de Muzică București\, al Seminarului Teologic Ortodox Constanța și al Facultății de Teologie\, Secțiile Artă Sacră și Pastorală. \nMihai Urzicana este totodată solist al Coralei Armonia din Constanța\, ansamblu alături de care a susținut concerte în toată lumea (Anglia\, Irlanda\, Franța\, Italia\, Bulgaria\, Spania\, Ucraina\, Serbia\, Bosnia\, Polonia\, Elveția\, Israel etc.) și a câștigat Medalii de Aur la competiții mondiale corale din S.U.A\, Letonia\, Austria\, Germania\, Rusia. \nDespre stagiunea Musical Extravaganza \nConcertele au menirea de a oferi publicului bucuria întâlnirii cu nume reprezentative ale scenei lirice\, într-un cadru mai restrâns\, ce oferă o perspectivă diferită asupra actului artistic faţă de cea de pe impozanta scenă a operei\, dar şi de a apropia genul clasic de publicul de toate vârstele.  Spectatorii sunt invitaţi să îşi admire soliştii preferaţi într-o atmosferă selectă\, completată de un acompaniament de cameră\, ce pune în valoare interpreţii într-o lumină caldă şi personală. \nPrimele două stagiuni Musical Extravaganza\, derulate sub îndrumarea artistică a tenorului Ştefan von Korch\, au inclus peste 20 concerte de succes\, in care au încântat publicul\, împreună cu solistul amfitrion: soprana Cristina Maria Oltean\, soprana Daniela Bucşan şi Oana Maria Şerban\, baritonii Adrian Mărcan\, Lucian Petrean şi Fang Shuang\, pianistul Alexandru Burcă\, acordeonistul Emy Drăgoi\, pianista Bogdana Cocîrlea\, şi Orchestra Filarmonicii Piteşti – cea mai avangardistă din ţară.
URL:https://craiovalive.ro/eveniment/duelul-tenorilor-concert-extraordinar-cu-tenorii-stefan-von-korch-george-virban-si-mihai-urzicana/
LOCATION:Filarmonica Oltenia\, Calea Unirii\, nr. 16\, Craiova\, Dolj\, 200585\, România
CATEGORIES:Muzică
ATTACH;FMTTYPE=image/jpeg:https://craiovalive.ro/wp-content/uploads/2025/07/Duelul-Tenorilor-Craiova.jpg
GEO:44.3172308;23.7944364
X-APPLE-STRUCTURED-LOCATION;VALUE=URI;X-ADDRESS=Filarmonica Oltenia Calea Unirii nr. 16 Craiova Dolj 200585 România;X-APPLE-RADIUS=500;X-TITLE=Calea Unirii\, nr. 16:geo:23.7944364,44.3172308
END:VEVENT
BEGIN:VEVENT
DTSTART;TZID=Europe/Bucharest:20260427T193000
DTEND;TZID=Europe/Bucharest:20260427T213000
DTSTAMP:20260423T181715
CREATED:20260413T125159Z
LAST-MODIFIED:20260413T125159Z
UID:10014529-1777318200-1777325400@craiovalive.ro
SUMMARY:Cineplexx Classics: The Matrix
DESCRIPTION:Cineplexx Classics prezintă: The Matrix \nPe 27 aprilie la Cineplexx de la ora 19:30 se vede pe marile ecrane filmul The Matrix la un preț special de doar 12 lei/biletul!\nÎntr-o realitate aparent obișnuită se ascunde un adevăr tulburător: lumea pe care o percepem ar putea fi doar o iluzie. Între ceea ce credem că este real și ceea ce există cu adevărat se află Matrix.\nNeo\, interpretat de Keanu Reeves\, este un tânăr programator măcinat de îndoieli\, care pornește în căutarea adevărului și ajunge la misteriosul Morpheus\, interpretat de Laurence Fishburne. Morpheus îi dezvăluie lui Neo un adevăr șocant: omenirea trăiește\, fără să știe\, într-o simulare controlată de mașini inteligente.\nÎn The Matrix\, alegerea de a cunoaște adevărul vine cu un preț\, iar granița dintre iluzie și realitate se destramă. Un film emblematic care te provoacă să te întrebi cât de reală este\, de fapt\, lumea în care trăim.
URL:https://craiovalive.ro/eveniment/cineplexx-classics-the-matrix/
LOCATION:Cineplexx Craiova\, Calea Severinului\, nr 61\, Craiova\, Dolj\, România
CATEGORIES:Film
ATTACH;FMTTYPE=image/jpeg:https://craiovalive.ro/wp-content/uploads/2026/04/Cineplexx-Classics-The-Matrix.jpg
GEO:44.33064382527;23.771115302113
X-APPLE-STRUCTURED-LOCATION;VALUE=URI;X-ADDRESS=Cineplexx Craiova Calea Severinului nr 61 Craiova Dolj România;X-APPLE-RADIUS=500;X-TITLE=Calea Severinului\, nr 61:geo:23.771115302113,44.33064382527
END:VEVENT
END:VCALENDAR